BEGIN:VCALENDAR
VERSION:2.0
PRODID:-//Prince William County Democrats - ECPv6.15.20//NONSGML v1.0//EN
CALSCALE:GREGORIAN
METHOD:PUBLISH
X-WR-CALNAME:Prince William County Democrats
X-ORIGINAL-URL:https://www.princewilliamdemocrats.com
X-WR-CALDESC:Events for Prince William County Democrats
REFRESH-INTERVAL;VALUE=DURATION:PT1H
X-Robots-Tag:noindex
X-PUBLISHED-TTL:PT1H
BEGIN:VTIMEZONE
TZID:UTC
BEGIN:STANDARD
TZOFFSETFROM:+0000
TZOFFSETTO:+0000
TZNAME:UTC
DTSTART:20210101T000000
END:STANDARD
END:VTIMEZONE
BEGIN:VEVENT
DTSTART;TZID=UTC:20220916T180000
DTEND;TZID=UTC:20220916T190000
DTSTAMP:20260421T221855
CREATED:20220907T160325Z
LAST-MODIFIED:20220907T160325Z
UID:10001527-1663351200-1663354800@www.princewilliamdemocrats.com
SUMMARY:Join PWCDC For A Rally For Democracy
DESCRIPTION:Join PWCDC for a Rally for Democracy in support of our Congresswoman Jennifer Wexton \n\n\nDate: Friday\, Sept 16th (6pm-7pm)\nLocation: Dar Al Noor Islamic Community Center\n5404 Hoadly Rd\, Manassas\, VA 20112\n\n\nWe will be rallying in the parking lot of Dar Al Noor prior to check-in for Rep. Wexton’s debate against her opponent. Please bring signs\, wear shirts that support our Democratic cause\, & be ready to GET LOUD in support of Jennifer!
URL:https://www.princewilliamdemocrats.com/event/2022-09-16-6pm-join-pwcdc-for-a-rally-for-democracy/
LOCATION:Dar Al Noor Islamic Community\, 5404 Hoadly Rd\, Manassas\, VA\, 20112\, United States
CATEGORIES:Prince William County Democratic Event
ATTACH;FMTTYPE=image/png:https://www.princewilliamdemocrats.com/wp-content/uploads/2022/09/2022-rally-for-democracy-jennifer-wexton.png
END:VEVENT
END:VCALENDAR