BEGIN:VCALENDAR
VERSION:2.0
PRODID:-//Prince William County Democrats - ECPv6.15.20//NONSGML v1.0//EN
CALSCALE:GREGORIAN
METHOD:PUBLISH
X-ORIGINAL-URL:https://www.princewilliamdemocrats.com
X-WR-CALDESC:Events for Prince William County Democrats
REFRESH-INTERVAL;VALUE=DURATION:PT1H
X-Robots-Tag:noindex
X-PUBLISHED-TTL:PT1H
BEGIN:VTIMEZONE
TZID:UTC
BEGIN:STANDARD
TZOFFSETFROM:+0000
TZOFFSETTO:+0000
TZNAME:UTC
DTSTART:20210101T000000
END:STANDARD
END:VTIMEZONE
BEGIN:VEVENT
DTSTART;TZID=UTC:20220608T173000
DTEND;TZID=UTC:20220608T210000
DTSTAMP:20260422T005519
CREATED:20220608T141249Z
LAST-MODIFIED:20220608T141318Z
UID:10001181-1654709400-1654722000@www.princewilliamdemocrats.com
SUMMARY:Victor Angry Birthday Bash - Special Host Jennifer Carroll-Foy
DESCRIPTION:Special host: Hon. Jennifer Carroll-Foy\nMusical guest: 2nd Sole (https://2ndsolerocks.com/)\nRSVP: kjimaleshort@gmail.com\nCome and celebrate with Victor as he brings in another year at 54.\nhttps://secure.actblue.com/donate/angry54
URL:https://www.princewilliamdemocrats.com/event/2022-06-08-530pm-victor-angry-birthday-bash-special-host-jennifer-carroll-foy/
LOCATION:Epiq Food Hall\, 14067 Noblewood Plaza\, Woodbridge\, VA\, 22193\, United States
CATEGORIES:Prince William County Democratic Event
ATTACH;FMTTYPE=image/jpeg:https://www.princewilliamdemocrats.com/wp-content/uploads/2022/06/2022-victor-angry-birthday-bash.jpg
END:VEVENT
BEGIN:VEVENT
DTSTART;TZID=UTC:20220618T170000
DTEND;TZID=UTC:20220618T190000
DTSTAMP:20260422T005519
CREATED:20220613T010344Z
LAST-MODIFIED:20220613T010416Z
UID:10001187-1655571600-1655578800@www.princewilliamdemocrats.com
SUMMARY:Danica First Senate Fundraiser
DESCRIPTION:For More Information: Click Here \nJoin Brian Pace and Christopher Sexton in Manassas on Saturday\, June 18th to kick off Danica Roem’s campaign for state senate in the newly drawn 30th district. It will be a great evening of fun and drinks.\n\nhttps://secure.actblue.com/donate/danicasenatekickoff\n\nKeeping the Democratic majority in the Virginia Senate will be essential to protecting Virginia’s progress. Helping elect Danica to the State Senate is the first step to holding the majority\, while ensuring we continue to fix Rt. 28\, protect the environment in Western PWC\, and make Virginia an inclusive commonwealth.\n 
URL:https://www.princewilliamdemocrats.com/event/2022-06-18-5pm-danica-first-senate-fundraiser/
LOCATION:VA
CATEGORIES:Prince William County Democratic Event
ATTACH;FMTTYPE=image/jpeg:https://www.princewilliamdemocrats.com/wp-content/uploads/2022/06/2022-danicas-first-senate-fundraiser.jpg
END:VEVENT
END:VCALENDAR