BEGIN:VCALENDAR
VERSION:2.0
PRODID:-//Prince William County Democrats - ECPv6.15.20//NONSGML v1.0//EN
CALSCALE:GREGORIAN
METHOD:PUBLISH
X-WR-CALNAME:Prince William County Democrats
X-ORIGINAL-URL:https://www.princewilliamdemocrats.com
X-WR-CALDESC:Events for Prince William County Democrats
REFRESH-INTERVAL;VALUE=DURATION:PT1H
X-Robots-Tag:noindex
X-PUBLISHED-TTL:PT1H
BEGIN:VTIMEZONE
TZID:UTC
BEGIN:STANDARD
TZOFFSETFROM:+0000
TZOFFSETTO:+0000
TZNAME:UTC
DTSTART:20230101T000000
END:STANDARD
END:VTIMEZONE
BEGIN:VEVENT
DTSTART;TZID=UTC:20240103T190000
DTEND;TZID=UTC:20240103T210000
DTSTAMP:20260420T044120
CREATED:20240102T032919Z
LAST-MODIFIED:20240102T032919Z
UID:10001746-1704308400-1704315600@www.princewilliamdemocrats.com
SUMMARY:PWC School Board Meeting
DESCRIPTION:Information And Links\nRegular School Board meetings are held on the first and third Wednesday of each month during the school year. Meetings are open to the public and begin at 7 p.m. at the Edward L. Kelly Leadership Center\, 14715 Bristow Rd.\, Manassas\, VA 20112. Board members and staff have dinner at 5 p.m. and hold a closed session at 6 p.m. before the public meeting. There is Citizen Comment Period during regular Board meetings. School Board agendas are available online in advance of meetings. Agenda items and materials are subject to change up to the time of the meeting. \nSpecial meetings\, work sessions\, and public hearings are scheduled when necessary to conduct school business and are announced in advance on the school division’s website and through local news media. There is no Citizen Comment Period during special meetings or work sessions. \nClosed sessions are held before regular public meetings at 6 p.m. and are not open to the public. Items discussed in closed sessions are confined by law to personnel\, student matters\, acquisitions/disposition of real property\, legal\, and other specific matters exempted from open session under Virginia’s Freedom of Information Act. \nPursuant to School Board Policy 139\, “School Board Member Participation in Meetings by Electronic Communication\,” one or more School Board Member(s) may participate in closed or public meetings through electronic means on a limited basis. \nMeetings are broadcast live on PWCS-TV (Comcast channel 18 and Verizon Fios channel 36) and can also be viewed live online on the PWCS-TV website. Archived meetings are online on YouTube and online at the PWCS-TV website. \nPrince William County citizens\, and PWCS employees\, parents/guardians\, students\, and owners or employees of businesses or other organizations with a mailing address in Prince William County who wish to address the Prince William County School Board\, may request to be placed on the list of speakers for the citizen comment using the Citizen Comment Time Form starting at 8 a.m. on the Saturday immediately preceding the School Board meeting at which the citizen wishes to speak. Citizens who do not have access to the internet may contact the Clerk directly at 703-791-8069 prior to noon on the day of the Board meeting. You will be asked to provide your address and telephone number for the record and whether you would like your personal contact information to remain confidential. Citizen Comment Time is limited to one hour for speakers to present comments on agenda items or other topics germane to the operations and policies of PWCS. \nAlternatives to addressing the Board during Citizen Comment Time are also available via the following: \n\nBy accessing the Public Comment Form at Public Comment Form;\nBy mail to the School Board Office\, P.O. Box 389\, Manassas\, VA 20108\, or by delivery to the Edward L. Kelly Leadership Center\, 14715 Bristow Rd.\, Manassas\, VA 20112;\nBy email addressed to the entire Board at PWCSclerk@pwcs.edu\, or to individual School Board members at the email addresses listed on the School Board website; or\nBy submitting a video statement using the file uploader.\n\nContact Information\nClerk to the School Board\nP.O. Box 389\nManassas\, VA 20108\nTelephone: 703-791-8709\nEmail: PWCSclerk@pwcs.edu
URL:https://www.princewilliamdemocrats.com/event/2024-01-03-7pm-pwc-school-board-meeting/
LOCATION:Edward L. Kelly Leadership Center\, 14715 Bristow Rd.\, Manassas\, VA\, 20112\, United States
CATEGORIES:PWC School Board Meeting
ATTACH;FMTTYPE=image/png:https://www.princewilliamdemocrats.com/wp-content/uploads/2021/03/pwcs-school-baord-meetings.png
END:VEVENT
BEGIN:VEVENT
DTSTART;TZID=UTC:20240109T140000
DTEND;TZID=UTC:20240109T170000
DTSTAMP:20260420T044120
CREATED:20240102T032433Z
LAST-MODIFIED:20240102T032433Z
UID:10001744-1704808800-1704819600@www.princewilliamdemocrats.com
SUMMARY:Board of County Supervisors Meeting - Organizational Meeting
DESCRIPTION:Board Of County Supervisors –  PWC Website (More Info Click Here) \n\nMeetings are at 2pm and 7:30pm (times and dates may change\, please check link above and agenda)\n\nSign Up To Speak (More Info Click Here) \n*Note: To sign up to speak virtually the deadline is the day before the meeting (Monday) at 5pm\, if you attend the meeting in person you can sign up the day of. \nPage Resources Include The Following \n\nLive Video\, Brief & Archives (More Info Click Here)\n\nBoard Agenda\nAgenda\nBriefs\nVideo Podcast\nArchive\n\n\nCurrent Agenda\nSpeak Up! Prince William\nMeeting Schedule\nDistrict Map\nRules of Procedures\nStatement of Economic Interest\nSign Up for eNotifications\nWho are Your Elected Officials\n\n*Because changes can occur\, please navigate to the above links for the most up to date times\, locations\, agendas and details about meetings.
URL:https://www.princewilliamdemocrats.com/event/2024-01-09-2pm-board-of-county-supervisors-meeting-organizational-meeting/
LOCATION:McCoart\, 1 County Complex Ct\, Woodbridge\, VA\, 22192\, United States
CATEGORIES:PWC Board of County Supervisors Meeting
ATTACH;FMTTYPE=image/png:https://www.princewilliamdemocrats.com/wp-content/uploads/2021/03/pwc-bocs-meetings.png
END:VEVENT
BEGIN:VEVENT
DTSTART;TZID=UTC:20240113T100000
DTEND;TZID=UTC:20240113T120000
DTSTAMP:20260420T044120
CREATED:20240102T004724Z
LAST-MODIFIED:20240102T004724Z
UID:10001743-1705140000-1705147200@www.princewilliamdemocrats.com
SUMMARY:PWCDC - Neabsco Magisterial District Reorganization
DESCRIPTION:Happy New Year Neabsco Magisterial District Residents\n\nApplication Forms: Click Here\n* The Call to Caucus to Reorganize the Neabsco District Democratic Committee\n* Membership Filing Form for the Neabsco District Democratic Committee\n* Neabsco District Democratic Committee Officer Filing Form\n\nThese are the only documents that you will need to complete to participate in the Neabsco District reorganization. Even if you have completed these documents previously\, PLEASE COMPLETE THE DOCUMENTS AGAIN and forward to NeabscoReorg@gmail.com\n\nYOU MUST COMPLETE AND FORWARD YOUR APPLICATION TO PARTICIPATE IN THE REORGANIZATION\n\nThe reorganization caucus will occur on Saturday\, January 13\, 2024 beginning at 10:00 AM at the A.J. Ferlazzo Building at 15941 Donald Curtis Drive\, Woodbridge\, VA 22191 (and via Zoom\, please email for Zoom Link).\n\n\nNeabsco Magisterial District Special Committee\nNeabscoReorg@gmail.com
URL:https://www.princewilliamdemocrats.com/event/2024-01-13-10am-pwcdc-neabsco-magisterial-district-reorganization/
LOCATION:A.J. Ferlazzo Building\, 15941 Donald Curtis Drive\, Woodbridge\, VA\, 22191\, United States
CATEGORIES:District Meeting
ATTACH;FMTTYPE=image/jpeg:https://www.princewilliamdemocrats.com/wp-content/uploads/2023/05/pwc-democrats-mobilize.jpg
END:VEVENT
BEGIN:VEVENT
DTSTART;TZID=UTC:20240116T140000
DTEND;TZID=UTC:20240116T170000
DTSTAMP:20260420T044120
CREATED:20240102T032612Z
LAST-MODIFIED:20240102T032612Z
UID:10001745-1705413600-1705424400@www.princewilliamdemocrats.com
SUMMARY:Board of County Supervisors Meeting
DESCRIPTION:Board Of County Supervisors –  PWC Website (More Info Click Here) \n\nMeetings are at 2pm and 7:30pm (times and dates may change\, please check link above and agenda)\n\nSign Up To Speak (More Info Click Here) \n*Note: To sign up to speak virtually the deadline is the day before the meeting (Monday) at 5pm\, if you attend the meeting in person you can sign up the day of. \nPage Resources Include The Following \n\nLive Video\, Brief & Archives (More Info Click Here)\n\nBoard Agenda\nAgenda\nBriefs\nVideo Podcast\nArchive\n\n\nCurrent Agenda\nSpeak Up! Prince William\nMeeting Schedule\nDistrict Map\nRules of Procedures\nStatement of Economic Interest\nSign Up for eNotifications\nWho are Your Elected Officials\n\n*Because changes can occur\, please navigate to the above links for the most up to date times\, locations\, agendas and details about meetings.
URL:https://www.princewilliamdemocrats.com/event/2024-01-16-2pm-board-of-county-supervisors-meeting-2/
LOCATION:McCoart\, 1 County Complex Ct\, Woodbridge\, VA\, 22192\, United States
CATEGORIES:PWC Board of County Supervisors Meeting
ATTACH;FMTTYPE=image/png:https://www.princewilliamdemocrats.com/wp-content/uploads/2021/03/pwc-bocs-meetings.png
END:VEVENT
BEGIN:VEVENT
DTSTART;TZID=UTC:20240129T090000
DTEND;TZID=UTC:20240129T170000
DTSTAMP:20260420T044120
CREATED:20240129T171940Z
LAST-MODIFIED:20240129T171940Z
UID:10001748-1706518800-1706547600@www.princewilliamdemocrats.com
SUMMARY:Board Of County Supervisors Meeting - Extended Work Session
DESCRIPTION:Board Of County Supervisors –  PWC Website (More Info Click Here) \nPage Resources Include The Following \n\nLive Video\, Brief & Archives (More Info Click Here)\n\nBoard Agenda\nAgenda\nBriefs\nVideo Podcast\nArchive\n\n\nCurrent Agenda\nSpeak Up! Prince William\nMeeting Schedule\nDistrict Map\nRules of Procedures\nStatement of Economic Interest\nSign Up for eNotifications\nWho are Your Elected Officials\n\n*Because changes can occur\, please navigate to the above links for the most up to date times\, locations\, agendas and details about meetings.
URL:https://www.princewilliamdemocrats.com/event/2024-1-29-9am-board-of-county-supervisors-meeting-extended-work-session/
LOCATION:McCoart\, 1 County Complex Ct\, Woodbridge\, VA\, 22192\, United States
CATEGORIES:PWC Board of County Supervisors Meeting
ATTACH;FMTTYPE=image/png:https://www.princewilliamdemocrats.com/wp-content/uploads/2021/03/pwc-bocs-meetings.png
END:VEVENT
BEGIN:VEVENT
DTSTART;TZID=UTC:20240130T190000
DTEND;TZID=UTC:20240130T210000
DTSTAMP:20260420T044120
CREATED:20240129T192139Z
LAST-MODIFIED:20240218T020917Z
UID:10001756-1706641200-1706648400@www.princewilliamdemocrats.com
SUMMARY:Neabsco District Monthly Meeting
DESCRIPTION:Zoom: Please contact neabmdc.pwcdems@gmail.com
URL:https://www.princewilliamdemocrats.com/event/2024-1-30-7pm-neabsco-district-monthly-meeting-2/
LOCATION:Virtual Event
CATEGORIES:District Meeting
ATTACH;FMTTYPE=image/jpeg:https://www.princewilliamdemocrats.com/wp-content/uploads/2021/02/democratic-monthly-meeting.jpg
END:VEVENT
BEGIN:VEVENT
DTSTART;TZID=UTC:20240131T173000
DTEND;TZID=UTC:20240131T190000
DTSTAMP:20260420T044120
CREATED:20240129T191745Z
LAST-MODIFIED:20240129T191745Z
UID:10001755-1706722200-1706727600@www.princewilliamdemocrats.com
SUMMARY:Travis Nembhard  - Prince William County Campaign Kick-Off
DESCRIPTION:https://nembhardforvirginia.com/
URL:https://www.princewilliamdemocrats.com/event/2024-1-31-530pm-travis-nembhard-prince-william-county-campaign-kick-off/
CATEGORIES:Prince William County Democratic Event
ATTACH;FMTTYPE=image/jpeg:https://www.princewilliamdemocrats.com/wp-content/uploads/2024/01/2024-travis-nembhard-prince-william-campaign-ckickoff.jpg
END:VEVENT
END:VCALENDAR