BEGIN:VCALENDAR
VERSION:2.0
PRODID:-//Prince William County Democrats - ECPv6.15.20//NONSGML v1.0//EN
CALSCALE:GREGORIAN
METHOD:PUBLISH
X-WR-CALNAME:Prince William County Democrats
X-ORIGINAL-URL:https://www.princewilliamdemocrats.com
X-WR-CALDESC:Events for Prince William County Democrats
REFRESH-INTERVAL;VALUE=DURATION:PT1H
X-Robots-Tag:noindex
X-PUBLISHED-TTL:PT1H
BEGIN:VTIMEZONE
TZID:UTC
BEGIN:STANDARD
TZOFFSETFROM:+0000
TZOFFSETTO:+0000
TZNAME:UTC
DTSTART:20220101T000000
END:STANDARD
END:VTIMEZONE
BEGIN:VEVENT
DTSTART;TZID=UTC:20231107T190000
DTEND;TZID=UTC:20231107T220000
DTSTAMP:20260420T130343
CREATED:20231026T193919Z
LAST-MODIFIED:20231026T193935Z
UID:10001441-1699383600-1699394400@www.princewilliamdemocrats.com
SUMMARY:Prince William County and Manassas Manassas Park Democrats Election Night Watch Party
DESCRIPTION:Join Prince William County Democrats and Manassas/Manassas Park Democrats for an Election Night Watch Party in Manassas!Doors open at 7pm\, address provided upon RSVP. \n\nRSVP: Election Night Watch Party PWCDC & MMPCDC · Prince William County Democratic Committee (mobilize.us)
URL:https://www.princewilliamdemocrats.com/event/2023-11-07-7pm-prince-william-county-and-manassas-manassas-park-democrats-election-night-watch-party/
CATEGORIES:Prince William County Democratic Event
ATTACH;FMTTYPE=image/png:https://www.princewilliamdemocrats.com/wp-content/uploads/2023/10/2023-prince-william-democrats-election-night-watch-party.png
END:VEVENT
END:VCALENDAR