BEGIN:VCALENDAR
VERSION:2.0
PRODID:-//Prince William County Democrats - ECPv6.15.20//NONSGML v1.0//EN
CALSCALE:GREGORIAN
METHOD:PUBLISH
X-ORIGINAL-URL:https://www.princewilliamdemocrats.com
X-WR-CALDESC:Events for Prince William County Democrats
REFRESH-INTERVAL;VALUE=DURATION:PT1H
X-Robots-Tag:noindex
X-PUBLISHED-TTL:PT1H
BEGIN:VTIMEZONE
TZID:UTC
BEGIN:STANDARD
TZOFFSETFROM:+0000
TZOFFSETTO:+0000
TZNAME:UTC
DTSTART:20220101T000000
END:STANDARD
END:VTIMEZONE
BEGIN:VEVENT
DTSTART;TZID=UTC:20230506T110000
DTEND;TZID=UTC:20230506T140000
DTSTAMP:20260420T221112
CREATED:20230506T132606Z
LAST-MODIFIED:20230506T132640Z
UID:10001642-1683370800-1683381600@www.princewilliamdemocrats.com
SUMMARY:Get Out The Early Vote - Canvass
DESCRIPTION:For More Details: Click Here \n\n\n\nJoin a canvass launch this Saturday\, May 6th in support of Andrea Bailey Prince William County Supervisor\, Ann Wheeler for PWC\, Justin Wilk\, Josh King for PWC\, & Amy Ashworth in our Potomac district! \n\n\n\nRegister to volunteer here:
URL:https://www.princewilliamdemocrats.com/event/2023-05-06-11am-get-out-the-early-vote-canvass/
CATEGORIES:Prince William County Canvass
ATTACH;FMTTYPE=image/png:https://www.princewilliamdemocrats.com/wp-content/uploads/2023/05/2023-get-out-the-early-vote-bailey.png
END:VEVENT
BEGIN:VEVENT
DTSTART;TZID=UTC:20230506T183000
DTEND;TZID=UTC:20230506T203000
DTSTAMP:20260420T221112
CREATED:20230506T131203Z
LAST-MODIFIED:20230506T131203Z
UID:10001641-1683397800-1683405000@www.princewilliamdemocrats.com
SUMMARY:Constitutional Candidates and Cocktails
DESCRIPTION:For More Details: Click Here\n\n \n\nJoin your Prince William County constitutional candidates for a night of drinks and lively conversation!\n\n \n\nThank you to the Prince William County Black Democratic Committee for hosting this incredible fundraiser.\n\n \n\nRSVP for the location\n\n \n\nRSVP + Donate to Amy:\n\n \n\nhttps://secure.actblue.com/donate/aacandidatesandcocktails\n\n \n\nDonate to Jacqueline:\n\n \n\nhttps://secure.actblue.com/donate/jacqueline-smith-1\n\n \n\nDonate to Josh:\n\n \n\nhttps://secure.actblue.com/donate/king-for-prince-william-county-sheriff
URL:https://www.princewilliamdemocrats.com/event/2023-05-06-630pm-constitutional-candidates-and-cocktails/
CATEGORIES:Prince William County Democratic Event
ATTACH;FMTTYPE=image/jpeg:https://www.princewilliamdemocrats.com/wp-content/uploads/2023/05/2023-constitutional-candidates-cocktails.jpg
END:VEVENT
BEGIN:VEVENT
DTSTART;TZID=UTC:20230508T190000
DTEND;TZID=UTC:20230508T200000
DTSTAMP:20260420T221112
CREATED:20230509T013218Z
LAST-MODIFIED:20230509T013817Z
UID:10001648-1683572400-1683576000@www.princewilliamdemocrats.com
SUMMARY:Gainesville District Monthly Meeting
DESCRIPTION:Please contact Gainesville District Leadership for additional details.
URL:https://www.princewilliamdemocrats.com/event/2023-05-08-7pm-gainesville-district-monthly-meeting-4/
CATEGORIES:District Meeting
ATTACH;FMTTYPE=image/jpeg:https://www.princewilliamdemocrats.com/wp-content/uploads/2021/02/democratic-monthly-meeting.jpg
END:VEVENT
BEGIN:VEVENT
DTSTART;TZID=UTC:20230508T193000
DTEND;TZID=UTC:20230508T203000
DTSTAMP:20260420T221112
CREATED:20230509T014233Z
LAST-MODIFIED:20230509T014250Z
UID:10001650-1683574200-1683577800@www.princewilliamdemocrats.com
SUMMARY:Occoquan District Monthly Meeting
DESCRIPTION:Please contact Occoquan District Leadership for additional details.
URL:https://www.princewilliamdemocrats.com/event/2023-05-08-730pm-occoquan-district-monthly-meeting-2/
CATEGORIES:District Meeting
ATTACH;FMTTYPE=image/jpeg:https://www.princewilliamdemocrats.com/wp-content/uploads/2021/02/democratic-monthly-meeting.jpg
END:VEVENT
BEGIN:VEVENT
DTSTART;TZID=UTC:20230513T090000
DTEND;TZID=UTC:20230513T100000
DTSTAMP:20260420T221112
CREATED:20230509T014016Z
LAST-MODIFIED:20230509T014038Z
UID:10001649-1683968400-1683972000@www.princewilliamdemocrats.com
SUMMARY:Neabsco District Monthly Meeting
DESCRIPTION:Please contact Neabsco District Leadership for additional details.
URL:https://www.princewilliamdemocrats.com/event/2023-5-13-9am-neabsco-district-monthly-meeting-2/
CATEGORIES:District Meeting
ATTACH;FMTTYPE=image/jpeg:https://www.princewilliamdemocrats.com/wp-content/uploads/2021/02/democratic-monthly-meeting.jpg
END:VEVENT
BEGIN:VEVENT
DTSTART;TZID=UTC:20230513T090000
DTEND;TZID=UTC:20230513T110000
DTSTAMP:20260420T221112
CREATED:20230513T034134Z
LAST-MODIFIED:20230513T034134Z
UID:10001654-1683968400-1683975600@www.princewilliamdemocrats.com
SUMMARY:Labor Canvass with Jennifer Carroll Foy
DESCRIPTION:For More Details: Click Here \nPlease join workers with the Building Trades to canvass in support of Jennifer Carroll Foy’s campaign for State Senate district 33!
URL:https://www.princewilliamdemocrats.com/event/2023-05-13-9am-labor-canvass-with-jennifer-carroll-foy/
CATEGORIES:Prince William County Democratic Event
ATTACH;FMTTYPE=image/png:https://www.princewilliamdemocrats.com/wp-content/uploads/2023/05/2023-labor-canvas-jennifer-carroll-foy.png
END:VEVENT
BEGIN:VEVENT
DTSTART;TZID=UTC:20230513T130000
DTEND;TZID=UTC:20230513T150000
DTSTAMP:20260420T221112
CREATED:20230509T005039Z
LAST-MODIFIED:20230509T005227Z
UID:10001643-1683982800-1683990000@www.princewilliamdemocrats.com
SUMMARY:Re-Elect Supervisor Victor Angry Day of Action
DESCRIPTION:For More Details: Click Here \nSign-up to join Victor’s Day of Action! \nWe will be knocking on doors\, phone banking\, and postcarding in support of Victor Angry for Neabsco District supervisor!
URL:https://www.princewilliamdemocrats.com/event/2023-05-13-1pm-re-elect-supervisor-victor-angry-day-of-action/
CATEGORIES:Prince William County Democratic Event,Prince William County Supervisor Event
ATTACH;FMTTYPE=image/jpeg:https://www.princewilliamdemocrats.com/wp-content/uploads/2023/05/2023-mobilize-re-elect-supervisor-angry.jpg
END:VEVENT
BEGIN:VEVENT
DTSTART;TZID=UTC:20230513T170000
DTEND;TZID=UTC:20230513T190000
DTSTAMP:20260420T221112
CREATED:20230509T010317Z
LAST-MODIFIED:20230509T010317Z
UID:10001644-1683997200-1684004400@www.princewilliamdemocrats.com
SUMMARY:Get Fired Up! Joint BBQ Cookout with Idris O'Connor and Lisa Zargarpur
DESCRIPTION:For More Details: Click Here \nJoin Idris O’Connor and Lisa Zargarpur for a fun BBQ and Cookout to celebrate the warm weather and our Democratic campaigns to flip the Coles District Blue! \n 
URL:https://www.princewilliamdemocrats.com/event/2023-05-13-5pm-get-fired-up-joint-bbq-cookout-with-idris-oconnor-and-lisa-zargarpur/
CATEGORIES:Prince William County Democratic Event
ATTACH;FMTTYPE=image/jpeg:https://www.princewilliamdemocrats.com/wp-content/uploads/2023/05/2023-idris-oconnor-lisa-zargarpur.jpg
END:VEVENT
BEGIN:VEVENT
DTSTART;TZID=UTC:20230515T190000
DTEND;TZID=UTC:20230515T200000
DTSTAMP:20260420T221112
CREATED:20230509T012456Z
LAST-MODIFIED:20230509T012456Z
UID:10001646-1684177200-1684180800@www.princewilliamdemocrats.com
SUMMARY:Brentsville District Monthly Meeting
DESCRIPTION:Please contact Brentsville District Leadership for additional details.
URL:https://www.princewilliamdemocrats.com/event/2023-05-15-7pm-brentsville-district-monthly-meeting-2/
CATEGORIES:District Meeting
ATTACH;FMTTYPE=image/jpeg:https://www.princewilliamdemocrats.com/wp-content/uploads/2021/02/democratic-monthly-meeting.jpg
END:VEVENT
BEGIN:VEVENT
DTSTART;TZID=UTC:20230518T190000
DTEND;TZID=UTC:20230518T200000
DTSTAMP:20260420T221112
CREATED:20230509T012943Z
LAST-MODIFIED:20230509T012943Z
UID:10001647-1684436400-1684440000@www.princewilliamdemocrats.com
SUMMARY:Coles District Monthly Meeting
DESCRIPTION:Please contact Coles District Leadership for additional details.
URL:https://www.princewilliamdemocrats.com/event/2023-05-18-7pm-coles-district-monthly-meeting-2/
CATEGORIES:District Meeting
ATTACH;FMTTYPE=image/jpeg:https://www.princewilliamdemocrats.com/wp-content/uploads/2021/02/democratic-monthly-meeting.jpg
END:VEVENT
BEGIN:VEVENT
DTSTART;TZID=UTC:20230520T100000
DTEND;TZID=UTC:20230520T110000
DTSTAMP:20260420T221112
CREATED:20230509T014529Z
LAST-MODIFIED:20230509T014559Z
UID:10001651-1684576800-1684580400@www.princewilliamdemocrats.com
SUMMARY:Potomac District Monthly Meeting
DESCRIPTION:Please contact Potomac District Leadership for additional details.
URL:https://www.princewilliamdemocrats.com/event/2023-05-20-10am-potomac-district-monthly-meeting-3/
CATEGORIES:District Meeting
ATTACH;FMTTYPE=image/jpeg:https://www.princewilliamdemocrats.com/wp-content/uploads/2021/02/democratic-monthly-meeting.jpg
END:VEVENT
BEGIN:VEVENT
DTSTART;TZID=UTC:20230520T100000
DTEND;TZID=UTC:20230520T110000
DTSTAMP:20260420T221112
CREATED:20230509T014736Z
LAST-MODIFIED:20230509T014756Z
UID:10001652-1684576800-1684580400@www.princewilliamdemocrats.com
SUMMARY:Woodbridge District Monthly Meeting
DESCRIPTION:Please contact Woodbridge District Leadership for additional details.
URL:https://www.princewilliamdemocrats.com/event/2023-05-20-10am-woodbridge-district-monthly-meeting-2/
CATEGORIES:District Meeting
ATTACH;FMTTYPE=image/jpeg:https://www.princewilliamdemocrats.com/wp-content/uploads/2021/02/democratic-monthly-meeting.jpg
END:VEVENT
BEGIN:VEVENT
DTSTART;TZID=UTC:20230520T160000
DTEND;TZID=UTC:20230520T190000
DTSTAMP:20260420T221112
CREATED:20230419T203855Z
LAST-MODIFIED:20230419T203855Z
UID:10001342-1684598400-1684609200@www.princewilliamdemocrats.com
SUMMARY:Join us for a Meet and Greet with Supervisor Andrea Bailey
DESCRIPTION:For More Details: Click Here \n 
URL:https://www.princewilliamdemocrats.com/event/2023-05-20-4pm-join-us-for-a-meet-and-greet-with-supervisor-andrea-bailey/
CATEGORIES:Prince William County Democratic Event
ATTACH;FMTTYPE=image/png:https://www.princewilliamdemocrats.com/wp-content/uploads/2023/04/2023-re-elect-andrea-bailey-meet-and-greet.png
END:VEVENT
BEGIN:VEVENT
DTSTART;TZID=UTC:20230520T173000
DTEND;TZID=UTC:20230520T190000
DTSTAMP:20260420T221112
CREATED:20230517T001524Z
LAST-MODIFIED:20230517T001524Z
UID:10001657-1684603800-1684609200@www.princewilliamdemocrats.com
SUMMARY:Celebrate Cultures & Communities Fundraiser for Delegate Michelle Maldonado
DESCRIPTION:Fore More Details: Click Here\n\nYou’re Invited to a Celebrating Cultures Fundraiser with Delegate Michelle Maldonado!\n\n  \nPlease join us to support Delegate Michelle Maldonado’s Re-Election Campaign! \nWe’re celebrating not only Michelle’s run for the House of Delegates\, but joining together with fun\, food\, & music across our amazing cultural communities to celebrate the 20th House District as the most diverse district in the entire state of Virginia! \nMay 20th\, 2023 \n5:30-7pm \nat the home of Atif Qarni in Manassas\, VA. \nAddress provided upon RSVP \n$1\,000 – Benefactor \n$500 – Patron \n$300 – Champion \n$200- Sponsor \n$100 – Guest \n$25 – Young Dem \nFor any questions\, please email: rebekah@michelle4va.com \nPlease make checks payable to: \nFriends of Michelle Maldonado \n11151 Valley View Drive\, #642 \nBristow\, Virginia 20136
URL:https://www.princewilliamdemocrats.com/event/2023-05-20-530pm-celebrate-cultures-communities-fundraiser-for-delegate-michelle-maldonado/
CATEGORIES:Prince William County Democratic Event
ATTACH;FMTTYPE=image/png:https://www.princewilliamdemocrats.com/wp-content/uploads/2023/05/2023-cultures-communites-michelle-maldonado.png
END:VEVENT
BEGIN:VEVENT
DTSTART;TZID=UTC:20230522T183000
DTEND;TZID=UTC:20230522T203000
DTSTAMP:20260420T221112
CREATED:20230509T010753Z
LAST-MODIFIED:20230509T010822Z
UID:10001645-1684780200-1684787400@www.princewilliamdemocrats.com
SUMMARY:Brentsville District Campaign Kickoff Party with Adele Jackson and Jim Gehlsen
DESCRIPTION:You’re invited to a campaign kick-off event in support of Adele for School Board and Elect Jim Gehlsen\, candidate for Brentsville Supervisor! This family friendly event will be in Nokesville on Monday\, May 22nd \n\n\nRSVP to BrentsEventsPWC@gmail.com
URL:https://www.princewilliamdemocrats.com/event/2023-05-22-630pm-brentsville-district-campaign-kickoff-party-with-adele-jackson-and-jim-gehlsen/
CATEGORIES:Prince William County Democratic Event
ATTACH;FMTTYPE=image/jpeg:https://www.princewilliamdemocrats.com/wp-content/uploads/2023/05/2023-brentsville-adele-jackson-and-jim-gehlsen.jpg
END:VEVENT
BEGIN:VEVENT
DTSTART;TZID=UTC:20230524T183000
DTEND;TZID=UTC:20230524T203000
DTSTAMP:20260420T221112
CREATED:20230525T210318Z
LAST-MODIFIED:20230525T210318Z
UID:10001658-1684953000-1684960200@www.princewilliamdemocrats.com
SUMMARY:Join Team Guzman this May 24th
DESCRIPTION:For More Details: Click Here
URL:https://www.princewilliamdemocrats.com/event/2023-05-24-630pm-join-team-guzman-this-may-24th/
CATEGORIES:Prince William County Democratic Event
ATTACH;FMTTYPE=image/png:https://www.princewilliamdemocrats.com/wp-content/uploads/2023/05/2023-guzman-fundraiser.png
END:VEVENT
BEGIN:VEVENT
DTSTART;TZID=UTC:20230525T173000
DTEND;TZID=UTC:20230525T190000
DTSTAMP:20260420T221112
CREATED:20230525T212443Z
LAST-MODIFIED:20230525T212443Z
UID:10001660-1685035800-1685041200@www.princewilliamdemocrats.com
SUMMARY:Rozia Henson For Delegate
DESCRIPTION:Be my guest?! Please join the Henson campaign and @Victoryfund as we help kick off Black Pride in the Washington D.C. area.
URL:https://www.princewilliamdemocrats.com/event/2023-05-25-530pm-rozia-henson-for-delegate/
CATEGORIES:Prince William County Democratic Event
ATTACH;FMTTYPE=image/jpeg:https://www.princewilliamdemocrats.com/wp-content/uploads/2023/05/2023-black-pride-fundraiser.jpg
END:VEVENT
BEGIN:VEVENT
DTSTART;TZID=UTC:20230525T183000
DTEND;TZID=UTC:20230525T200000
DTSTAMP:20260420T221112
CREATED:20230517T000038Z
LAST-MODIFIED:20230517T000130Z
UID:10001656-1685039400-1685044800@www.princewilliamdemocrats.com
SUMMARY:Josh Thomas for Delegate
DESCRIPTION:Save the date Join Delegates Dan Helmer and Danica Roem for an evening in support of Josh Thomas for Delegate! \n\n\n\nRSVP�� https://secure.actblue.com/donate/jetforva \n\n\n\nCome enjoy an evening with great food and learn about how the 21st District is crucial to retaking the majority!
URL:https://www.princewilliamdemocrats.com/event/2023-05-25-630pm-josh-thomas-for-delegate/
CATEGORIES:Prince William County Delegate Event
ATTACH;FMTTYPE=image/jpeg:https://www.princewilliamdemocrats.com/wp-content/uploads/2023/05/2023-josh-thomas-for-delegate.jpg
END:VEVENT
BEGIN:VEVENT
DTSTART;TZID=UTC:20230527T100000
DTEND;TZID=UTC:20230527T140000
DTSTAMP:20260420T221112
CREATED:20230527T201624Z
LAST-MODIFIED:20230527T201624Z
UID:10001355-1685181600-1685196000@www.princewilliamdemocrats.com
SUMMARY:Canvass Launch for Idris O'Connor & Lisa Zargarpur for Coles
DESCRIPTION:For More Details: Click Here \n\nThis Saturday 5/27 is the Canvass Launch for Idris O’Connor & Lisa Zargarpur for Coles at 10am\n\n\nSign up here to support our Coles Democrats!
URL:https://www.princewilliamdemocrats.com/event/2023-05-27-10am-canvass-launch-for-idris-oconnor-lisa-zargarpur-for-coles/
CATEGORIES:Prince William County Canvass
ATTACH;FMTTYPE=image/jpeg:https://www.princewilliamdemocrats.com/wp-content/uploads/2023/05/2023-idris-oconnor-for-coles-supervisor.jpg
END:VEVENT
BEGIN:VEVENT
DTSTART;TZID=UTC:20230527T110000
DTEND;TZID=UTC:20230527T130000
DTSTAMP:20260420T221112
CREATED:20230525T213016Z
LAST-MODIFIED:20230525T213016Z
UID:10001353-1685185200-1685192400@www.princewilliamdemocrats.com
SUMMARY:Join Amy and Ann for a Breakfast Meet and Greet
DESCRIPTION:For More Details: Click Here \nJoin us for breakfast at Andersons’s Country Store in Occoquan for a morning of breakfast foods and lively conversation with PWC Commonwealth’s Attorney Amy Ashworth and Chair Ann Wheeler! \nWe ask for any donation you are able to give! \nThis event is made possible by the generous sponsorship of Mayor Porta.
URL:https://www.princewilliamdemocrats.com/event/2023-05-27-11am-join-amy-and-ann-for-a-breakfast-meet-and-greet/
CATEGORIES:Prince William County Democratic Event
ATTACH;FMTTYPE=image/jpeg:https://www.princewilliamdemocrats.com/wp-content/uploads/2023/05/2023-join-ann-amy-for-breakfast.jpg
END:VEVENT
END:VCALENDAR