BEGIN:VCALENDAR
VERSION:2.0
PRODID:-//Prince William County Democrats - ECPv6.15.20//NONSGML v1.0//EN
CALSCALE:GREGORIAN
METHOD:PUBLISH
X-WR-CALNAME:Prince William County Democrats
X-ORIGINAL-URL:https://www.princewilliamdemocrats.com
X-WR-CALDESC:Events for Prince William County Democrats
REFRESH-INTERVAL;VALUE=DURATION:PT1H
X-Robots-Tag:noindex
X-PUBLISHED-TTL:PT1H
BEGIN:VTIMEZONE
TZID:UTC
BEGIN:STANDARD
TZOFFSETFROM:+0000
TZOFFSETTO:+0000
TZNAME:UTC
DTSTART:20210101T000000
END:STANDARD
END:VTIMEZONE
BEGIN:VEVENT
DTSTART;TZID=UTC:20221206T140000
DTEND;TZID=UTC:20221206T170000
DTSTAMP:20260421T052826
CREATED:20221130T234418Z
LAST-MODIFIED:20221130T234418Z
UID:10001260-1670335200-1670346000@www.princewilliamdemocrats.com
SUMMARY:Board of County Supervisors Meeting
DESCRIPTION:Board Of County Supervisors –  PWC Website (More Info Click Here) \n\nMeetings are at 2pm and 7:30pm (times and dates may change\, please check link above and agenda)\n\nSign Up To Speak (More Info Click Here) \n*Note: To sign up to speak virtually the deadline is the day before the meeting (Monday) at 5pm\, if you attend the meeting in person you can sign up the day of. \nPage Resources Include The Following \n\nLive Video\, Brief & Archives (More Info Click Here)\n\nBoard Agenda\nAgenda\nBriefs\nVideo Podcast\nArchive\n\n\nCurrent Agenda\nSpeak Up! Prince William\nMeeting Schedule\nDistrict Map\nRules of Procedures\nStatement of Economic Interest\nSign Up for eNotifications\nWho are Your Elected Officials\n\n*Because changes can occur\, please navigate to the above links for the most up to date times\, locations\, agendas and details about meetings.
URL:https://www.princewilliamdemocrats.com/event/2022-12-6-2pm-board-of-county-supervisors-meeting-2/
LOCATION:McCoart\, 1 County Complex Ct\, Woodbridge\, VA\, 22192\, United States
CATEGORIES:PWC Board of County Supervisors Meeting
ATTACH;FMTTYPE=image/png:https://www.princewilliamdemocrats.com/wp-content/uploads/2021/03/pwc-bocs-meetings.png
END:VEVENT
BEGIN:VEVENT
DTSTART;TZID=UTC:20221207T190000
DTEND;TZID=UTC:20221207T210000
DTSTAMP:20260421T052826
CREATED:20221130T234758Z
LAST-MODIFIED:20221130T234826Z
UID:10001262-1670439600-1670446800@www.princewilliamdemocrats.com
SUMMARY:PWC School Board Meeting
DESCRIPTION:Citizens Comment Time\nAdditional Information: Click Here \nIndividuals are invited to attend and become informed about the operation of Prince William County Public Schools\, or address the Board during Citizens Comment Time. During the school closure\, please check the meeting announcement for specific links and instructions on signing up for Citizens Comment Time. \nNOTE: Effective February 17\, 2021 the Board will return to its earlier practice of limiting the initial citizen comment period to 30 minutes\, allowing any additional speakers to provide their comments at the end of the meeting. \nAll speakers must provide the School Board Clerk with their address and phone number in order to verify their residency and permit the Clerk to contact them if necessary. Upon request\, the Clerk will not release to the general public the address and phone number of the speaker. However\, such information may be requested under the Freedom of Information Act (FOIA). Speakers must also identify the issue of public concern upon which they will be speaking. (View Policy 134) \nSpecial meetings or work sessions are called when necessary to conduct school business and are announced in advance on the School Division’s website and through local news media. \nAll School Board meetings\, except closed sessions\, are open to the public. \nClosed sessions are held prior to the public meetings at 6 p.m. and are not open to the public. Items discussed in closed sessions are confined by law to personnel\, student matters\, acquisitions/disposition of real property\, legal\, and other specific matters exempted from open sessions under Virginia’s Freedom of Information Act. \nWhile some Board members are expected to physically assemble in the School Board meeting room for the public session\, due to the ongoing pandemic\, other members of the School Board may participate in the meeting through electronic means during the State of Emergency as permitted by law. School Board Agendas are available online in advance of meetings. Agenda items and materials are subject to change up to the time of the meeting. \nMeetings are broadcast live on PWCS-TV (Comcast Channel 18 and Verizon FiOS Channel 36) and can also be viewed live online on the PWCS-TV website. Archived meetings are online on YouTube and online at the PWCS-TV Video On Demand website. \nIf you would like to sign up to speak either in person or electronically at the meeting please use the online citizen comment form to be placed on the list to speak. Please provide your address and telephone number for the record. Citizens who wish to speak in person or electronically must sign up with the Clerk by 4 p.m. on the day of the meeting. Those wishing to speak electronically will be provided with a link to register to do so. \nThose who do not wish to speak to the Board in person or electronically\, but wish to submit a written public statement about the agenda topics\, may provide input to the School Board by accessing the Public Comment Form or by sending an email to the Board. Please email the clerk at pwcsclerk@pwcs.edu for the link to the Public Statement Form. \nContact Information\n\nClerk to the School Board\nP.O. Box 389\nManassas\, VA 20108\nTelephone: 703-791-8709\nEmail: pwcsclerk@pwcs.edu
URL:https://www.princewilliamdemocrats.com/event/2022-12-7-7pm-pwc-school-board-meeting/
LOCATION:Edward L. Kelly Leadership Center\, 14715 Bristow Rd.\, Manassas\, VA\, 20112\, United States
CATEGORIES:PWC School Board Meeting
ATTACH;FMTTYPE=image/png:https://www.princewilliamdemocrats.com/wp-content/uploads/2021/03/pwcs-school-baord-meetings.png
END:VEVENT
BEGIN:VEVENT
DTSTART;TZID=UTC:20221210T150000
DTEND;TZID=UTC:20221210T170000
DTSTAMP:20260421T052826
CREATED:20221130T204339Z
LAST-MODIFIED:20221130T204339Z
UID:10001256-1670684400-1670691600@www.princewilliamdemocrats.com
SUMMARY:Join Us And Jennifer Carroll Foy For A Holiday Party
DESCRIPTION:For Tickets: Click Here \nJoin Jennifer Carroll Foy\, Pamela & Dextor Montgomery\, Hon. Victor S. Angry\, Hon. Kenny Boddye and Hon. Margaret Franklin in support of Jennifer Carroll Foy for State Senate Virginia District 33\, December 10th 3pm-5pm.
URL:https://www.princewilliamdemocrats.com/event/2022-12-10-3pm-join-us-and-jennifer-carroll-foy-for-a-holiday-party/
CATEGORIES:Virginia Democratic Event
ATTACH;FMTTYPE=image/png:https://www.princewilliamdemocrats.com/wp-content/uploads/2022/11/2022-jennifer-foy-holiday-party.png
END:VEVENT
BEGIN:VEVENT
DTSTART;TZID=UTC:20221210T180000
DTEND;TZID=UTC:20221210T220000
DTSTAMP:20260421T052826
CREATED:20221130T232516Z
LAST-MODIFIED:20221130T232607Z
UID:10001258-1670695200-1670709600@www.princewilliamdemocrats.com
SUMMARY:Join Supervisor Bailey's Campaign Kick-off
DESCRIPTION:For Tickets: Click Here \nCome join her as she officially kicks off her re-election campaign. Enjoy music from a live jazz band as she embarks on a jazzy start to continue her service to Prince William County.
URL:https://www.princewilliamdemocrats.com/event/2022-12-10-6pm-join-supervisor-baileys-campaign-kick-off/
LOCATION:Montclair Country Club\, 16500 Edgewood Dr.\, Montclair\, 22025\, United States
CATEGORIES:Prince William County Democratic Event
ATTACH;FMTTYPE=image/jpeg:https://www.princewilliamdemocrats.com/wp-content/uploads/2022/11/2022-reelect-campaign-kickoff-andrea-bailey.jpg
END:VEVENT
BEGIN:VEVENT
DTSTART;TZID=UTC:20221211T140000
DTEND;TZID=UTC:20221211T170000
DTSTAMP:20260421T052826
CREATED:20221124T160942Z
LAST-MODIFIED:20221130T202802Z
UID:10001254-1670767200-1670778000@www.princewilliamdemocrats.com
SUMMARY:Santa's Workshop with Supervisor Angry
DESCRIPTION:For Tickets: Click Here \nSanta and his helpers are coming to town! Supervisor Angry is inviting you to a workshop filled with cookie making\, woodworking\, hot cocoa making\, pictures with Santa\, and so much more. Kids of all ages are welcome. Grab your early bird tickets below! \nLocation:  \nEpiQ Event Hall \n14067 Noblewood Plaza \nWoodbridge\, VA 22193 \nDate / Time: \nDecember 11th \n2:00pm-5:00pm \nAdmission: \n$15 General Admission – Includes the Workshop and picture with Santa \n$20 VIP Ticket – Includes everything in General Admission\, plus a food voucher for EpiQ Food Hall \n\nhttps://secure.actblue.com/donate/santasworkshopwithangry
URL:https://www.princewilliamdemocrats.com/event/2022-12-11-2pm-santas-workshop-with-supervisor-angry/
LOCATION:Epiq Food Hall\, 14067 Noblewood Plaza\, Woodbridge\, VA\, 22193\, United States
CATEGORIES:Prince William County Event
ATTACH;FMTTYPE=image/png:https://www.princewilliamdemocrats.com/wp-content/uploads/2022/11/victor-angry-santas-workshop.png
END:VEVENT
BEGIN:VEVENT
DTSTART;TZID=UTC:20221213T140000
DTEND;TZID=UTC:20221213T170000
DTSTAMP:20260421T052826
CREATED:20221130T234551Z
LAST-MODIFIED:20221130T234613Z
UID:10001261-1670940000-1670950800@www.princewilliamdemocrats.com
SUMMARY:Board of County Supervisors Meeting
DESCRIPTION:Board Of County Supervisors –  PWC Website (More Info Click Here) \n\nMeetings are at 2pm and 7:30pm (times and dates may change\, please check link above and agenda)\n\nSign Up To Speak (More Info Click Here) \n*Note: To sign up to speak virtually the deadline is the day before the meeting (Monday) at 5pm\, if you attend the meeting in person you can sign up the day of. \nPage Resources Include The Following \n\nLive Video\, Brief & Archives (More Info Click Here)\n\nBoard Agenda\nAgenda\nBriefs\nVideo Podcast\nArchive\n\n\nCurrent Agenda\nSpeak Up! Prince William\nMeeting Schedule\nDistrict Map\nRules of Procedures\nStatement of Economic Interest\nSign Up for eNotifications\nWho are Your Elected Officials\n\n*Because changes can occur\, please navigate to the above links for the most up to date times\, locations\, agendas and details about meetings.
URL:https://www.princewilliamdemocrats.com/event/2022-12-13-2pm-board-of-county-supervisors-meeting-2/
LOCATION:McCoart\, 1 County Complex Ct\, Woodbridge\, VA\, 22192\, United States
CATEGORIES:PWC Board of County Supervisors Meeting
ATTACH;FMTTYPE=image/png:https://www.princewilliamdemocrats.com/wp-content/uploads/2021/03/pwc-bocs-meetings.png
END:VEVENT
BEGIN:VEVENT
DTSTART;TZID=UTC:20221217T120000
DTEND;TZID=UTC:20221217T150000
DTSTAMP:20260421T052826
CREATED:20221124T160254Z
LAST-MODIFIED:20221201T002452Z
UID:10001252-1671278400-1671289200@www.princewilliamdemocrats.com
SUMMARY:2022 Blue Victory Brunch
DESCRIPTION:  \nFor Tickets: Click Here \nSave the Date: Saturday\, December 17th for PWCDC’s Blue Victory Brunch  \n\n\n\nJoin us as we honor those who paved the way for a #BluePWC Featuring special guest Congressman Gerry Connolly! \n\n\n\nTickets available soon\, so mark your calendars for this delicious event.
URL:https://www.princewilliamdemocrats.com/event/2022-12-17-12pm-2022-blue-victory-brunch/
LOCATION:Montclair Country Club\, 16500 Edgewood Dr.\, Montclair\, 22025\, United States
CATEGORIES:Prince William County Democratic Event
ATTACH;FMTTYPE=image/jpeg:https://www.princewilliamdemocrats.com/wp-content/uploads/2022/11/2022-blue-victory-brunch.jpg
END:VEVENT
END:VCALENDAR