BEGIN:VCALENDAR
VERSION:2.0
PRODID:-//Prince William County Democrats - ECPv6.15.20//NONSGML v1.0//EN
CALSCALE:GREGORIAN
METHOD:PUBLISH
X-ORIGINAL-URL:https://www.princewilliamdemocrats.com
X-WR-CALDESC:Events for Prince William County Democrats
REFRESH-INTERVAL;VALUE=DURATION:PT1H
X-Robots-Tag:noindex
X-PUBLISHED-TTL:PT1H
BEGIN:VTIMEZONE
TZID:UTC
BEGIN:STANDARD
TZOFFSETFROM:+0000
TZOFFSETTO:+0000
TZNAME:UTC
DTSTART:20210101T000000
END:STANDARD
END:VTIMEZONE
BEGIN:VEVENT
DTSTART;TZID=UTC:20220802T180000
DTEND;TZID=UTC:20220802T200000
DTSTAMP:20260421T121631
CREATED:20220809T182526Z
LAST-MODIFIED:20220809T182601Z
UID:10001511-1659463200-1659470400@www.princewilliamdemocrats.com
SUMMARY:PWC Democrats Veterans Caucus - Veterans and Military Families Caucus Happy Hour
DESCRIPTION:Join PWC Dems Veterans and Military Families Caucus for a happy hour event the first Tuesday of the month. Location TBA each month.
URL:https://www.princewilliamdemocrats.com/event/2022-08-02-pwc-democrats-veterans-caucus-veterans-and-military-families-caucus-happy-hour/
CATEGORIES:Prince William County Democratic Event
ATTACH;FMTTYPE=image/jpeg:https://www.princewilliamdemocrats.com/wp-content/uploads/2022/08/2022-pwc-democrats-veterans-caucus.jpg
END:VEVENT
BEGIN:VEVENT
DTSTART;TZID=UTC:20220808T190000
DTEND;TZID=UTC:20220808T200000
DTSTAMP:20260421T121631
CREATED:20220728T171219Z
LAST-MODIFIED:20220728T171428Z
UID:10001204-1659985200-1659988800@www.princewilliamdemocrats.com
SUMMARY:Gainesville District Monthly Meeting
DESCRIPTION:Please contact Gainesville District Leadership for additional details.
URL:https://www.princewilliamdemocrats.com/event/2022-08-08-7pm-gainesville-district-monthly-meeting-2/
LOCATION:Virtual Event
CATEGORIES:District Meeting
ATTACH;FMTTYPE=image/jpeg:https://www.princewilliamdemocrats.com/wp-content/uploads/2021/02/democratic-monthly-meeting.jpg
END:VEVENT
BEGIN:VEVENT
DTSTART;TZID=UTC:20220808T193000
DTEND;TZID=UTC:20220808T203000
DTSTAMP:20260421T121631
CREATED:20220728T172942Z
LAST-MODIFIED:20220728T173202Z
UID:10001207-1659987000-1659990600@www.princewilliamdemocrats.com
SUMMARY:Occoquan District Monthly Meeting
DESCRIPTION:Please contact Occoquan District Leadership for additional details.
URL:https://www.princewilliamdemocrats.com/event/2022-08-08-730pm-occoquan-district-monthly-meeting/
LOCATION:Virtual Event
CATEGORIES:District Meeting
ATTACH;FMTTYPE=image/jpeg:https://www.princewilliamdemocrats.com/wp-content/uploads/2021/02/democratic-monthly-meeting.jpg
END:VEVENT
BEGIN:VEVENT
DTSTART;TZID=UTC:20220810T193000
DTEND;TZID=UTC:20220810T203000
DTSTAMP:20260421T121631
CREATED:20220728T182352Z
LAST-MODIFIED:20220809T182001Z
UID:10001509-1660159800-1660163400@www.princewilliamdemocrats.com
SUMMARY:Prince William Young Democrats Meeting
DESCRIPTION:Prince William Young Democrats Meeting
URL:https://www.princewilliamdemocrats.com/event/2022-08-10-730pm-prince-william-young-democrats-meeting/
LOCATION:Virtual Event
CATEGORIES:Prince William Young Democrats Event
ATTACH;FMTTYPE=image/png:https://www.princewilliamdemocrats.com/wp-content/uploads/2021/01/cropped-prince-william-county-young-dems-1.png
END:VEVENT
BEGIN:VEVENT
DTSTART;TZID=UTC:20220813T090000
DTEND;TZID=UTC:20220813T090000
DTSTAMP:20260421T121631
CREATED:20220728T171644Z
LAST-MODIFIED:20220728T171831Z
UID:10001205-1660381200-1660381200@www.princewilliamdemocrats.com
SUMMARY:Neabsco District Monthly Meeting
DESCRIPTION:Please contact Neabsco District Leadership for additional details.
URL:https://www.princewilliamdemocrats.com/event/2022-08-13-9am-neabsco-district-monthly-meeting/
LOCATION:Virtual Event
CATEGORIES:District Meeting
ATTACH;FMTTYPE=image/jpeg:https://www.princewilliamdemocrats.com/wp-content/uploads/2021/02/democratic-monthly-meeting.jpg
END:VEVENT
BEGIN:VEVENT
DTSTART;TZID=UTC:20220813T090000
DTEND;TZID=UTC:20220813T100000
DTSTAMP:20260421T121631
CREATED:20220728T174612Z
LAST-MODIFIED:20220728T174612Z
UID:10001211-1660381200-1660384800@www.princewilliamdemocrats.com
SUMMARY:Woodbridge District Monthly Meeting
DESCRIPTION:Please contact Woodbridge District Leadership for additional details.
URL:https://www.princewilliamdemocrats.com/event/2022-08-13-9am-woodbridge-district-monthly-meeting/
LOCATION:Virtual Event
CATEGORIES:District Meeting
ATTACH;FMTTYPE=image/jpeg:https://www.princewilliamdemocrats.com/wp-content/uploads/2021/02/democratic-monthly-meeting.jpg
END:VEVENT
BEGIN:VEVENT
DTSTART;TZID=UTC:20220815T190000
DTEND;TZID=UTC:20220815T200000
DTSTAMP:20260421T121631
CREATED:20220728T170410Z
LAST-MODIFIED:20220728T170517Z
UID:10001202-1660590000-1660593600@www.princewilliamdemocrats.com
SUMMARY:Brentsville District Monthly Meeting
DESCRIPTION:Please contact Brentsville District Leadership for additional details.
URL:https://www.princewilliamdemocrats.com/event/2022-08-15-7pm-brentsville-district-monthly-meeting/
LOCATION:Virtual Event
CATEGORIES:District Meeting
ATTACH;FMTTYPE=image/jpeg:https://www.princewilliamdemocrats.com/wp-content/uploads/2021/02/democratic-monthly-meeting.jpg
END:VEVENT
BEGIN:VEVENT
DTSTART;TZID=UTC:20220818T190000
DTEND;TZID=UTC:20220818T200000
DTSTAMP:20260421T121631
CREATED:20220728T170946Z
LAST-MODIFIED:20220728T171022Z
UID:10001203-1660849200-1660852800@www.princewilliamdemocrats.com
SUMMARY:Coles District Monthly Meeting
DESCRIPTION:Please contact Coles District Leadership for additional details.
URL:https://www.princewilliamdemocrats.com/event/2022-08-18-7pm-coles-district-monthly-meeting/
LOCATION:Virtual Event
CATEGORIES:District Meeting
ATTACH;FMTTYPE=image/jpeg:https://www.princewilliamdemocrats.com/wp-content/uploads/2021/02/democratic-monthly-meeting.jpg
END:VEVENT
BEGIN:VEVENT
DTSTART;TZID=UTC:20220820T080000
DTEND;TZID=UTC:20220820T120000
DTSTAMP:20260421T121631
CREATED:20220823T183312Z
LAST-MODIFIED:20220823T183312Z
UID:10001515-1660982400-1660996800@www.princewilliamdemocrats.com
SUMMARY:Woodbridge Democrats Yard Sale and Fundraiser
DESCRIPTION:YARD SALE  YARD SALE \n\n\nJoin the Woodbridge Dems this weekend at their Family Yard Sale & Fundraiser!
URL:https://www.princewilliamdemocrats.com/event/2022-08-20-8am-woodbridge-democrats-yard-sale-and-fundraiser/
CATEGORIES:Prince William County Democratic Event
ATTACH;FMTTYPE=image/jpeg:https://www.princewilliamdemocrats.com/wp-content/uploads/2022/08/2022-woodbridge-democrats-yard-sale-fundraiser.jpg
END:VEVENT
BEGIN:VEVENT
DTSTART;TZID=UTC:20220820T090000
DTEND;TZID=UTC:20220820T130000
DTSTAMP:20260421T121631
CREATED:20220809T191523Z
LAST-MODIFIED:20220809T191939Z
UID:10001513-1660986000-1661000400@www.princewilliamdemocrats.com
SUMMARY:Constitutional Officer's Expungement Clinic
DESCRIPTION:Hello and thank you for your interest in our upcoming Constitutional Officers’ Expungement Clinic. By submitting this pre-registration form you authorize us to review your information to determine clinic eligibility. Clinic services are limited to offenses in Prince William County\, City of Manassas and City of Manassas Park. We look forward to serving you!\n\nEvent Pre-registration: You will be notified of eligibility prior to the August 20th clinic date
URL:https://www.princewilliamdemocrats.com/event/2022-08-20-9am-constitutional-officers-expungement-clinic/
LOCATION:Manassas Volunteer Fire Station\, 9322 Centre Street\, Manassas\, VA\, 20110\, United States
CATEGORIES:Prince William County Event
ATTACH;FMTTYPE=image/png:https://www.princewilliamdemocrats.com/wp-content/uploads/2022/08/2022-constitutional-officers-expungement-clinic.png
END:VEVENT
BEGIN:VEVENT
DTSTART;TZID=UTC:20220820T100000
DTEND;TZID=UTC:20220820T110000
DTSTAMP:20260421T121631
CREATED:20220728T174143Z
LAST-MODIFIED:20220728T174348Z
UID:10001208-1660989600-1660993200@www.princewilliamdemocrats.com
SUMMARY:Potomac District Monthly Meeting
DESCRIPTION:Please contact Potomac District Leadership for additional details.
URL:https://www.princewilliamdemocrats.com/event/2022-08-20-10am-potomac-district-monthly-meeting/
LOCATION:Virtual Event
CATEGORIES:District Meeting
ATTACH;FMTTYPE=image/jpeg:https://www.princewilliamdemocrats.com/wp-content/uploads/2021/02/democratic-monthly-meeting.jpg
END:VEVENT
BEGIN:VEVENT
DTSTART;TZID=UTC:20220822T190000
DTEND;TZID=UTC:20220822T200000
DTSTAMP:20260421T121631
CREATED:20220823T183544Z
LAST-MODIFIED:20220823T183611Z
UID:10001516-1661194800-1661198400@www.princewilliamdemocrats.com
SUMMARY:PWC Black Democratic Committee Monthly Meeting
DESCRIPTION:Please contact PWC Black Democratic Committee Leadership for additional details.
URL:https://www.princewilliamdemocrats.com/event/2022-08-22-7pm-pwc-black-democratic-committee-monthly-meeting/
CATEGORIES:Democratic Black Caucus
ATTACH;FMTTYPE=image/jpeg:https://www.princewilliamdemocrats.com/wp-content/uploads/2021/02/democratic-monthly-meeting.jpg
END:VEVENT
BEGIN:VEVENT
DTSTART;TZID=UTC:20220825T190000
DTEND;TZID=UTC:20220825T200000
DTSTAMP:20260421T121631
CREATED:20220728T174942Z
LAST-MODIFIED:20220728T175220Z
UID:10001508-1661454000-1661457600@www.princewilliamdemocrats.com
SUMMARY:PWC Democratic Monthly Meeting
DESCRIPTION:Please contact PWC Democratic Leadership for additional details. \nMeetings are held in-person and virtual.
URL:https://www.princewilliamdemocrats.com/event/2022-08-25-7pm-pwc-democratic-monthly-meeting/
LOCATION:Edward L. Kelly Leadership Center\, 14715 Bristow Rd.\, Manassas\, VA\, 20112\, United States
ATTACH;FMTTYPE=image/jpeg:https://www.princewilliamdemocrats.com/wp-content/uploads/2021/02/democratic-monthly-meeting.jpg
END:VEVENT
BEGIN:VEVENT
DTSTART;TZID=UTC:20220827T190000
DTEND;TZID=UTC:20220827T210000
DTSTAMP:20260421T121631
CREATED:20220809T192415Z
LAST-MODIFIED:20220809T193007Z
UID:10001514-1661626800-1661634000@www.princewilliamdemocrats.com
SUMMARY:Aloha From Hawaii Fundraiser for Justin David Wilk
DESCRIPTION:ALOHA FROM HAWAII\n\nFor More Details: Click Here \nSaturday\, August 27th from 7-9 PM \n9629 Janet Rose Court\, Manassas\, VA\, 20111 \nTickets can be purchased in advance here or you can pay via check or cash at the door on the day of the event. \nKids are welcome at this outdoor event. Indoor air conditioning will be provided as well with snacks and beverages. \nPlease make checks out to: \nJustin Wilk for Prince William \nDear Friends\, \nIt has been a pleasure to serve the Potomac district the past six years. Your support during this time has meant the world to me. \nYour donations will help me continue working and speaking for our students\, teachers\, and county residents. \nTogether we can achieve a world- class education for EVERY student. \nSincerely\, \nJustin
URL:https://www.princewilliamdemocrats.com/event/2022-08-27-7pm-aloha-from-hawaii-fundraiser-for-justin-david-wilk/
CATEGORIES:Prince William County Democratic Event
ATTACH;FMTTYPE=image/jpeg:https://www.princewilliamdemocrats.com/wp-content/uploads/2022/08/2022-aloha-from-hawii-justin-wilks.jpg
END:VEVENT
END:VCALENDAR