BEGIN:VCALENDAR
VERSION:2.0
PRODID:-//Prince William County Democrats - ECPv6.15.20//NONSGML v1.0//EN
CALSCALE:GREGORIAN
METHOD:PUBLISH
X-ORIGINAL-URL:https://www.princewilliamdemocrats.com
X-WR-CALDESC:Events for Prince William County Democrats
REFRESH-INTERVAL;VALUE=DURATION:PT1H
X-Robots-Tag:noindex
X-PUBLISHED-TTL:PT1H
BEGIN:VTIMEZONE
TZID:UTC
BEGIN:STANDARD
TZOFFSETFROM:+0000
TZOFFSETTO:+0000
TZNAME:UTC
DTSTART:20200101T000000
END:STANDARD
END:VTIMEZONE
BEGIN:VEVENT
DTSTART;TZID=UTC:20211201T190000
DTEND;TZID=UTC:20211201T200000
DTSTAMP:20260422T023623
CREATED:20211209T033501Z
LAST-MODIFIED:20211209T033501Z
UID:10001323-1638385200-1638388800@www.princewilliamdemocrats.com
SUMMARY:PWC School Board Meeting
DESCRIPTION:Citizens Comment Time\nAdditional Information: Click Here \nIndividuals are invited to attend and become informed about the operation of Prince William County Public Schools\, or address the Board during Citizens Comment Time. During the school closure\, please check the meeting announcement for specific links and instructions on signing up for Citizens Comment Time. \nNOTE: Effective February 17\, 2021 the Board will return to its earlier practice of limiting the initial citizen comment period to 30 minutes\, allowing any additional speakers to provide their comments at the end of the meeting. \nAll speakers must provide the School Board Clerk with their address and phone number in order to verify their residency and permit the Clerk to contact them if necessary. Upon request\, the Clerk will not release to the general public the address and phone number of the speaker. However\, such information may be requested under the Freedom of Information Act (FOIA). Speakers must also identify the issue of public concern upon which they will be speaking. (View Policy 134) \nSpecial meetings or work sessions are called when necessary to conduct school business and are announced in advance on the School Division’s website and through local news media. \nAll School Board meetings\, except closed sessions\, are open to the public. \nClosed sessions are held prior to the public meetings at 6 p.m. and are not open to the public. Items discussed in closed sessions are confined by law to personnel\, student matters\, acquisitions/disposition of real property\, legal\, and other specific matters exempted from open sessions under Virginia’s Freedom of Information Act. \nWhile some Board members are expected to physically assemble in the School Board meeting room for the public session\, due to the ongoing pandemic\, other members of the School Board may participate in the meeting through electronic means during the State of Emergency as permitted by law. School Board Agendas are available online in advance of meetings. Agenda items and materials are subject to change up to the time of the meeting. \nMeetings are broadcast live on PWCS-TV (Comcast Channel 18 and Verizon FiOS Channel 36) and can also be viewed live online on the PWCS-TV website. Archived meetings are online on YouTube and online at the PWCS-TV Video On Demand website. \nIf you would like to sign up to speak either in person or electronically at the meeting please use the online citizen comment form to be placed on the list to speak. Please provide your address and telephone number for the record. Citizens who wish to speak in person or electronically must sign up with the Clerk by 4 p.m. on the day of the meeting. Those wishing to speak electronically will be provided with a link to register to do so. \nThose who do not wish to speak to the Board in person or electronically\, but wish to submit a written public statement about the agenda topics\, may provide input to the School Board by accessing the Public Comment Form or by sending an email to the Board. Please email the clerk at pwcsclerk@pwcs.edu for the link to the Public Statement Form. \nContact Information\n\nClerk to the School Board\nP.O. Box 389\nManassas\, VA 20108\nTelephone: 703-791-8709\nEmail: pwcsclerk@pwcs.edu
URL:https://www.princewilliamdemocrats.com/event/2021-12-01-7pm-pwc-school-board-meeting/
LOCATION:Edward L. Kelly Leadership Center\, 14715 Bristow Rd.\, Manassas\, VA\, 20112\, United States
CATEGORIES:PWC School Board Meeting
ATTACH;FMTTYPE=image/png:https://www.princewilliamdemocrats.com/wp-content/uploads/2021/03/pwcs-school-baord-meetings.png
END:VEVENT
BEGIN:VEVENT
DTSTART;TZID=UTC:20211207T134500
DTEND;TZID=UTC:20211207T170000
DTSTAMP:20260422T023623
CREATED:20211209T033821Z
LAST-MODIFIED:20211209T033821Z
UID:10001324-1638884700-1638896400@www.princewilliamdemocrats.com
SUMMARY:Board of County Supervisors Meeting
DESCRIPTION:Board Of County Supervisors –  PWC Website (More Info Click Here) \n\nMeetings are at 2pm and 7:30pm (times and dates may change\, please check link above and agenda)\n\nSign Up To Speak (More Info Click Here) \n*Note: To sign up to speak virtually the deadline is the day before the meeting (Monday) at 5pm\, if you attend the meeting in person you can sign up the day of. \nPage Resources Include The Following \n\nLive Video\, Brief & Archives (More Info Click Here)\n\nBoard Agenda\nAgenda\nBriefs\nVideo Podcast\nArchive\n\n\nCurrent Agenda\nSpeak Up! Prince William\nMeeting Schedule\nDistrict Map\nRules of Procedures\nStatement of Economic Interest\nSign Up for eNotifications\nWho are Your Elected Officials\n\n*Because changes can occur\, please navigate to the above links for the most up to date times\, locations\, agendas and details about meetings.
URL:https://www.princewilliamdemocrats.com/event/2021-12-07-145pm-board-of-county-supervisors-meeting-2/
LOCATION:McCoart\, 1 County Complex Ct\, Woodbridge\, VA\, 22192\, United States
CATEGORIES:PWC Board of County Supervisors Meeting
ATTACH;FMTTYPE=image/png:https://www.princewilliamdemocrats.com/wp-content/uploads/2021/03/pwc-bocs-meetings.png
END:VEVENT
BEGIN:VEVENT
DTSTART;TZID=UTC:20211209T190000
DTEND;TZID=UTC:20211209T200000
DTSTAMP:20260422T023623
CREATED:20211209T034552Z
LAST-MODIFIED:20211209T034552Z
UID:10001326-1639076400-1639080000@www.princewilliamdemocrats.com
SUMMARY:PWC Democratic Monthly Meeting
DESCRIPTION:Please contact PWC Democratic Leadership for additional details.
URL:https://www.princewilliamdemocrats.com/event/2021-12-09-7pm-pwc-democratic-monthly-meeting/
LOCATION:Virtual Event
CATEGORIES:District Meeting
ATTACH;FMTTYPE=image/jpeg:https://www.princewilliamdemocrats.com/wp-content/uploads/2021/02/democratic-monthly-meeting.jpg
END:VEVENT
BEGIN:VEVENT
DTSTART;TZID=UTC:20211211T100000
DTEND;TZID=UTC:20211211T110000
DTSTAMP:20260422T023623
CREATED:20211209T040705Z
LAST-MODIFIED:20211209T040705Z
UID:10001331-1639216800-1639220400@www.princewilliamdemocrats.com
SUMMARY:COVID-19 Town Hall
DESCRIPTION:Written By: Congresswoman Jennifer Wexton\n\n \n\nMy office has received many questions about the COVID Omicron variant\, vaccines for kids\, booster shots\, and how we get through this next stage in the pandemic.\n\n \n\nI’m hosting a town hall with Dr. David Goodfriend to provide a #VA10 public health update and answer your questions.\n\n \n\nHope to see you (virtually) this Saturday at 10!
URL:https://www.princewilliamdemocrats.com/event/2021-12-11-10am-covid-19-town-hall/
LOCATION:Virtual Event
CATEGORIES:Virginia Event
ATTACH;FMTTYPE=image/jpeg:https://www.princewilliamdemocrats.com/wp-content/uploads/2021/12/2021-congresswoman-jennifer-wexton.jpg
END:VEVENT
BEGIN:VEVENT
DTSTART;TZID=UTC:20211213T193000
DTEND;TZID=UTC:20211213T203000
DTSTAMP:20260422T023623
CREATED:20210305T160041Z
LAST-MODIFIED:20210305T160103Z
UID:10001038-1639423800-1639427400@www.princewilliamdemocrats.com
SUMMARY:Occoquan District Monthly Meeting
DESCRIPTION:Please contact Occoquan District Leadership for additional details. \nContact #: 202-255-6714 \nOMDDC meets at 730 second Monday of each month
URL:https://www.princewilliamdemocrats.com/event/2021-12-13-730pm-occoquan-district-monthly-meeting/
CATEGORIES:District Meeting
ATTACH;FMTTYPE=image/jpeg:https://www.princewilliamdemocrats.com/wp-content/uploads/2021/02/democratic-monthly-meeting.jpg
END:VEVENT
BEGIN:VEVENT
DTSTART;TZID=UTC:20211214T134500
DTEND;TZID=UTC:20211214T170000
DTSTAMP:20260422T023623
CREATED:20211209T033941Z
LAST-MODIFIED:20211209T034007Z
UID:10001325-1639489500-1639501200@www.princewilliamdemocrats.com
SUMMARY:Board of County Supervisors Meeting
DESCRIPTION:Board Of County Supervisors –  PWC Website (More Info Click Here) \n\nMeetings are at 2pm and 7:30pm (times and dates may change\, please check link above and agenda)\n\nSign Up To Speak (More Info Click Here) \n*Note: To sign up to speak virtually the deadline is the day before the meeting (Monday) at 5pm\, if you attend the meeting in person you can sign up the day of. \nPage Resources Include The Following \n\nLive Video\, Brief & Archives (More Info Click Here)\n\nBoard Agenda\nAgenda\nBriefs\nVideo Podcast\nArchive\n\n\nCurrent Agenda\nSpeak Up! Prince William\nMeeting Schedule\nDistrict Map\nRules of Procedures\nStatement of Economic Interest\nSign Up for eNotifications\nWho are Your Elected Officials\n\n*Because changes can occur\, please navigate to the above links for the most up to date times\, locations\, agendas and details about meetings.
URL:https://www.princewilliamdemocrats.com/event/2021-12-14-145pm-board-of-county-supervisors-meeting-2/
LOCATION:McCoart\, 1 County Complex Ct\, Woodbridge\, VA\, 22192\, United States
CATEGORIES:PWC Board of County Supervisors Meeting
ATTACH;FMTTYPE=image/png:https://www.princewilliamdemocrats.com/wp-content/uploads/2021/03/pwc-bocs-meetings.png
END:VEVENT
BEGIN:VEVENT
DTSTART;TZID=UTC:20211216T183000
DTEND;TZID=UTC:20211216T193000
DTSTAMP:20260422T023623
CREATED:20211216T144400Z
LAST-MODIFIED:20211216T144400Z
UID:10001335-1639679400-1639683000@www.princewilliamdemocrats.com
SUMMARY:Prince William County Racial and Social Justice Commission Meeting
DESCRIPTION:For More Details: Click Here
URL:https://www.princewilliamdemocrats.com/event/2021-12-16-630pm-prince-william-county-racial-and-social-justice-commission-meeting/
LOCATION:McCoart\, 1 County Complex Ct\, Woodbridge\, VA\, 22192\, United States
CATEGORIES:Prince William County Event
ATTACH;FMTTYPE=image/jpeg:https://www.princewilliamdemocrats.com/wp-content/uploads/2021/12/2021-racial-social-justice-december-meeting.jpg
END:VEVENT
BEGIN:VEVENT
DTSTART;TZID=UTC:20211217T130000
DTEND;TZID=UTC:20211217T160000
DTSTAMP:20260422T023623
CREATED:20211215T214208Z
LAST-MODIFIED:20211215T214215Z
UID:10001333-1639746000-1639756800@www.princewilliamdemocrats.com
SUMMARY:SCOVA Public Hearings on Redistricting
DESCRIPTION:For More Details: Click Here \n\n\n\nSign up here to watch SCOVA’s hearings on redistricting maps! 12/15 & 12/17 from 1-4pm\, more info below  \n\n\n\nhttps://www.mobilize.us/virginiacivicengage…/event/433032/ \n\n\n\nNOTE: This event is to WATCH the hearings. To make public comments during the hearings\, please sign up by emailing Redistricting@vacourts.gov and letting them know which date you’d like to provide testimony (Dec 15th or 17th). You must sign up at least 24 hours prior to hearings.
URL:https://www.princewilliamdemocrats.com/event/2021-12-17-1pm-scova-public-hearings-on-redistricting/
LOCATION:Virtual Event
CATEGORIES:Virginia Event
ATTACH;FMTTYPE=image/png:https://www.princewilliamdemocrats.com/wp-content/uploads/2021/12/2021-scova-public-hearing-on-redistricting-virginia-civic-engagement-table.png
END:VEVENT
BEGIN:VEVENT
DTSTART;TZID=UTC:20211218T093000
DTEND;TZID=UTC:20211218T113000
DTSTAMP:20260422T023623
CREATED:20211216T145247Z
LAST-MODIFIED:20211216T145247Z
UID:10001337-1639819800-1639827000@www.princewilliamdemocrats.com
SUMMARY:Pre Session Legislative Town Hall
DESCRIPTION:For More Details: Click Here\n\nJoin the Greater Prince William General Assembly Delegation for a Town Hall on Saturday 12/18 from 9am-11:30am to discuss your legislative needs \n\n\n\nMake your voice heard— your delegates are listening \n\n\n\nThe Greater Prince William General Assembly Delegation for a town hall to share your legislative needs before heading to Richmond for our 2022 session.\nPlease register at bit.ly/pwc1218\n\nAccommodation requests can be sent to district29@senate.virginia.gov
URL:https://www.princewilliamdemocrats.com/event/2021-12-18-930am-pre-session-legislative-town-hall/
CATEGORIES:Prince William County Event
ATTACH;FMTTYPE=image/jpeg:https://www.princewilliamdemocrats.com/wp-content/uploads/2021/12/2021-pre-season-legislative-town-hall.jpg
END:VEVENT
END:VCALENDAR