BEGIN:VCALENDAR
VERSION:2.0
PRODID:-//Prince William County Democrats - ECPv6.15.20//NONSGML v1.0//EN
CALSCALE:GREGORIAN
METHOD:PUBLISH
X-ORIGINAL-URL:https://www.princewilliamdemocrats.com
X-WR-CALDESC:Events for Prince William County Democrats
REFRESH-INTERVAL;VALUE=DURATION:PT1H
X-Robots-Tag:noindex
X-PUBLISHED-TTL:PT1H
BEGIN:VTIMEZONE
TZID:UTC
BEGIN:STANDARD
TZOFFSETFROM:+0000
TZOFFSETTO:+0000
TZNAME:UTC
DTSTART:20200101T000000
END:STANDARD
END:VTIMEZONE
BEGIN:VEVENT
DTSTART;TZID=UTC:20210805T193000
DTEND;TZID=UTC:20210805T203000
DTSTAMP:20260422T104040
CREATED:20210707T001946Z
LAST-MODIFIED:20210707T001946Z
UID:10001154-1628191800-1628195400@www.princewilliamdemocrats.com
SUMMARY:Prince William Young Democrats Meeting
DESCRIPTION:Please contact Prince William Young Democrats Leadership for additional detail
URL:https://www.princewilliamdemocrats.com/event/2021-08-05-730pm-prince-william-young-democrats-meeting/
LOCATION:Virtual Event
CATEGORIES:Prince William Young Democrats Event
ATTACH;FMTTYPE=image/png:https://www.princewilliamdemocrats.com/wp-content/uploads/2021/01/cropped-prince-william-county-young-dems-1.png
END:VEVENT
BEGIN:VEVENT
DTSTART;TZID=UTC:20210809T193000
DTEND;TZID=UTC:20210809T203000
DTSTAMP:20260422T104040
CREATED:20210305T155319Z
LAST-MODIFIED:20210305T155355Z
UID:10001034-1628537400-1628541000@www.princewilliamdemocrats.com
SUMMARY:Occoquan District Monthly Meeting
DESCRIPTION:Please contact Occoquan District Leadership for additional details. \nContact #: 202-255-6714 \nOMDDC meets at 730 second Monday of each month
URL:https://www.princewilliamdemocrats.com/event/2021-08-09-730pm-occoquan-district-monthly-meeting/
CATEGORIES:District Meeting
ATTACH;FMTTYPE=image/jpeg:https://www.princewilliamdemocrats.com/wp-content/uploads/2021/02/democratic-monthly-meeting.jpg
END:VEVENT
BEGIN:VEVENT
DTSTART;TZID=UTC:20210817T170000
DTEND;TZID=UTC:20210817T190000
DTSTAMP:20260422T104040
CREATED:20210817T191356Z
LAST-MODIFIED:20210817T191652Z
UID:10001004-1629219600-1629226800@www.princewilliamdemocrats.com
SUMMARY:Join Special Guest Congressman Gerry Connolly and Michelle Maldonado for an event!
DESCRIPTION:Get Tickets: Click Here \n  \nJoin us Tuesday\, August 17th from 5:00pm – 7:00pm with Special Guest Congressman Gerry Connolly \nTuesday\, August 17th \n5:00pm – 7:00pm \nThree Monkeys Pub and Chophouse \n9329 Main Street in Old Town Manassas \n(Street parking as available. Free parking garage 2 blocks away at Main St. and Prince William St.) \nDue to space limitations\, this is a ticketed event. You may purchase a ticket online using this form\, or pay by check at the door. All proceeds from the event go towards helping us hold onto this critical seat and maintaining our Democratic majority in the General Assembly. \nAll checks should be made payable to “Friends of Michelle Maldonado.” \nWe look forward to seeing you there. \n[Congressman Connolly is appearing at this event as a special guest. Congressman Connolly is not soliciting funds or donations.]
URL:https://www.princewilliamdemocrats.com/event/2021-08-17-5pm-join-special-guest-congressman-gerry-connolly-and-michelle-maldonado-for-an-event/
LOCATION:Three Monkeys Pub and Chophouse\, 9329 Main Street\, Manassas\, VA\, 20110\, United States
CATEGORIES:Prince William County Delegate Event
ATTACH;FMTTYPE=image/png:https://www.princewilliamdemocrats.com/wp-content/uploads/2021/08/2021-michelle-maldonado-house-delegate-event.png
END:VEVENT
BEGIN:VEVENT
DTSTART;TZID=UTC:20210819T183000
DTEND;TZID=UTC:20210819T200000
DTSTAMP:20260422T104040
CREATED:20210720T200730Z
LAST-MODIFIED:20210720T200833Z
UID:10000989-1629397800-1629403200@www.princewilliamdemocrats.com
SUMMARY:Attend The Racial & Social Justice Commission Meeting!
DESCRIPTION:For More Details: Click Here
URL:https://www.princewilliamdemocrats.com/event/2021-08-19-630pm-attend-july-2021-racial-social-justice-commission-meeting/
LOCATION:McCoart\, 1 County Complex Ct\, Woodbridge\, VA\, 22192\, United States
CATEGORIES:Prince William County Event
ATTACH;FMTTYPE=image/jpeg:https://www.princewilliamdemocrats.com/wp-content/uploads/2021/07/2021-racial-and-social-justic-commission.jpg
END:VEVENT
BEGIN:VEVENT
DTSTART;TZID=UTC:20210821T093000
DTEND;TZID=UTC:20210821T230000
DTSTAMP:20260422T104040
CREATED:20210718T160016Z
LAST-MODIFIED:20210720T195822Z
UID:10001167-1629538200-1629586800@www.princewilliamdemocrats.com
SUMMARY:Coles District Monthly Meeting
DESCRIPTION:Please contact Coles District Leadership for additional details.
URL:https://www.princewilliamdemocrats.com/event/2021-08-21-930am-coles-district-monthly-meeting/
LOCATION:Virtual Event
CATEGORIES:District Meeting
ATTACH;FMTTYPE=image/jpeg:https://www.princewilliamdemocrats.com/wp-content/uploads/2021/02/democratic-monthly-meeting.jpg
END:VEVENT
BEGIN:VEVENT
DTSTART;TZID=UTC:20210821T150000
DTEND;TZID=UTC:20210821T170000
DTSTAMP:20260422T104040
CREATED:20210720T201903Z
LAST-MODIFIED:20210720T202238Z
UID:10000991-1629558000-1629565200@www.princewilliamdemocrats.com
SUMMARY:Occoquan Democrats Happy Hour Fundraising Event
DESCRIPTION:For More Details: Click Here \nJoin the Occoquan Democrats for a casual summer happy hour fundraiser. With another big election upon us\, and things opening back up\, it’s time to come together as Democrats and spend some time together face-to-face!
URL:https://www.princewilliamdemocrats.com/event/2021-08-21-3pm-occoquan-democrats-happy-hour-fundraising-event/
LOCATION:Los Toltecos\, 4120 Merchant Plaza\, Woodbridge\, VA\, 22192\, United States
CATEGORIES:Prince William County Democratic Event
ATTACH;FMTTYPE=image/jpeg:https://www.princewilliamdemocrats.com/wp-content/uploads/2021/07/2021-occoquan-democrats-happy-hour-event.jpg
END:VEVENT
BEGIN:VEVENT
DTSTART;TZID=UTC:20210825T180000
DTEND;TZID=UTC:20210825T200000
DTSTAMP:20260422T104040
CREATED:20210727T010848Z
LAST-MODIFIED:20210727T011445Z
UID:10001001-1629914400-1629921600@www.princewilliamdemocrats.com
SUMMARY:PWCDC Presents - Summer Breeze Mixer
DESCRIPTION:To Get Tickets: Click Here \nCome join PWC Democrats with special guests Mark Herring and Hala Ayala\, August 25th at Effingham Manor Winery for a Summer Breeze Mixer event. \n 
URL:https://www.princewilliamdemocrats.com/event/2021-08-25-6pm-pwcdc-presents-summer-breeze-mixer/
LOCATION:Effingham Manor Winery\, 14325 Trotters Ridge Pl\, Nokesville\, VA\, 20181\, United States
CATEGORIES:Prince William County Democratic Event
ATTACH;FMTTYPE=image/jpeg:https://www.princewilliamdemocrats.com/wp-content/uploads/2021/07/2021-democratic-event-summer-breeze-mixer-scaled.jpg
END:VEVENT
BEGIN:VEVENT
DTSTART;TZID=UTC:20210825T190000
DTEND;TZID=UTC:20210825T200000
DTSTAMP:20260422T104040
CREATED:20210322T231524Z
LAST-MODIFIED:20210322T231543Z
UID:10001058-1629918000-1629921600@www.princewilliamdemocrats.com
SUMMARY:Democratic Women's Caucus Monthly Meeting
DESCRIPTION:Please contact Democratic Women’s Caucus Leadership for additional detail
URL:https://www.princewilliamdemocrats.com/event/2021-08-25-7pm-democratic-womens-caucus-monthly-meeting/
LOCATION:Virtual Event
CATEGORIES:PWC Democratic Women's Event
ATTACH;FMTTYPE=image/jpeg:https://www.princewilliamdemocrats.com/wp-content/uploads/2021/02/prince-william-county-democratic-womens-caucus-e1613424539900.jpg
END:VEVENT
BEGIN:VEVENT
DTSTART;TZID=UTC:20210828T130000
DTEND;TZID=UTC:20210828T160000
DTSTAMP:20260422T104040
CREATED:20210821T204705Z
LAST-MODIFIED:20210821T204705Z
UID:10001005-1630155600-1630166400@www.princewilliamdemocrats.com
SUMMARY:Team Helmer Day of Action co-hosted with the Fairfax and Prince William Young Democrats
DESCRIPTION:For More Details: Click Here \nWe are excited to be joined by the Fairfax and Prince William Young Democrats for a Day of Action on August 28 at 1:00 PM at our main office. \nAs one of the most competitive races this year\, we are going to need everyone’s support. We will train volunteers on how to maintain safe and socially distanced canvassing practices at the door while talking to voters about why Dan Helmer\, Terry McAuliffe\, Hala Ayala\, and Mark Herring are the right people to move Virginia forward in 2021! \nWe will adhere to all CDC recommendations to ensure the safety of our staff\, our volunteers\, and voters across the District.
URL:https://www.princewilliamdemocrats.com/event/2021-08-28-1pm-dan-helmer-for-virginia-canvass-launch-co-hosted-by-prince-william-and-fairfax-young-democrats/
LOCATION:Fairfax Station\, 5618 Ox Road\, Fairfax Station\, VA\, 22039\, United States
CATEGORIES:Prince William Young Democrats Event
ATTACH;FMTTYPE=image/jpeg:https://www.princewilliamdemocrats.com/wp-content/uploads/2021/08/2021-young-dems-dan-helmer-launch.jpg
END:VEVENT
BEGIN:VEVENT
DTSTART;TZID=UTC:20210828T190000
DTEND;TZID=UTC:20210828T200000
DTSTAMP:20260422T104040
CREATED:20210822T235356Z
LAST-MODIFIED:20210822T235356Z
UID:10001007-1630177200-1630180800@www.princewilliamdemocrats.com
SUMMARY:A Hot August Night An Outdoor Fundraiser Featuring Justin Wilk
DESCRIPTION:Live From Merchant Park \nA Hot August Night An Outdoor Fundraiser Featuring Justin Wilk \nSaturday\, August 28 7-9 PM \nJoin us for an evening showcasing the sounds of DJ D’Bklyn and Justin singing live to some of his favorite Neil Diamond hits! \nMerchant Park is located at: \n3944 Cameron St\, Dumfries\, VA 22026 \nParking is available for the event at Dumfries Elementary School. \nTickets can be purchased on this website or checks and cash will also be accepted at the event. \nPlease make checks out to: \nJustin Wilk for Prince William \nContact Justin for mailing address \nSponsors will be listed in accordance to their level unless otherwise requested. \nA Note from Justin – \nI want to thank all of you who have supported me from the beginning. I also want to thank you all for your renewed support for me now. \nFor my new supporters\, welcome! Thank you so much. Your donations will help me continue working and speaking for our students\, teachers\, and county residents. \nTogether we can achieve a world- class education for EVERY student. \nSincerely\, \nJustin
URL:https://www.princewilliamdemocrats.com/event/2021-08-28-7pm-justin-wilk-potomac-school-board/
LOCATION:Merchant Park\, 3944 Cameron St\, Dumfries\, VA\, 22026\, United States
CATEGORIES:Prince William County Democratic Event
ATTACH;FMTTYPE=image/png:https://www.princewilliamdemocrats.com/wp-content/uploads/2021/08/2021-justin-wilk-potomac-school-board.png
END:VEVENT
END:VCALENDAR