BEGIN:VCALENDAR
VERSION:2.0
PRODID:-//Prince William County Democrats - ECPv6.15.20//NONSGML v1.0//EN
CALSCALE:GREGORIAN
METHOD:PUBLISH
X-WR-CALNAME:Prince William County Democrats
X-ORIGINAL-URL:https://www.princewilliamdemocrats.com
X-WR-CALDESC:Events for Prince William County Democrats
REFRESH-INTERVAL;VALUE=DURATION:PT1H
X-Robots-Tag:noindex
X-PUBLISHED-TTL:PT1H
BEGIN:VTIMEZONE
TZID:UTC
BEGIN:STANDARD
TZOFFSETFROM:+0000
TZOFFSETTO:+0000
TZNAME:UTC
DTSTART:20200101T000000
END:STANDARD
END:VTIMEZONE
BEGIN:VEVENT
DTSTART;TZID=UTC:20210205T150000
DTEND;TZID=UTC:20210205T170000
DTSTAMP:20260422T184037
CREATED:20210204T221314Z
LAST-MODIFIED:20210204T221314Z
UID:10001003-1612537200-1612544400@www.princewilliamdemocrats.com
SUMMARY:Chow Wagon Food Distribution -  Friday\, Feb 5th in Woodbridge
DESCRIPTION:For Additional Information: Click Here
URL:https://www.princewilliamdemocrats.com/event/chow-wagon-food-distribution-friday-feb-5th-in-woodbridge/
LOCATION:Fred Lynn Middle School\, 1650 Prince William Pkwy E\, Woodbridge\, VA\, 22191
CATEGORIES:Prince William County Event
ATTACH;FMTTYPE=image/jpeg:https://www.princewilliamdemocrats.com/wp-content/uploads/2021/02/2021-chow-wagon-food-distribution-woodbridge-e1612473162584.jpg
END:VEVENT
BEGIN:VEVENT
DTSTART;TZID=UTC:20210206T090000
DTEND;TZID=UTC:20210206T110000
DTSTAMP:20260422T184037
CREATED:20210202T191642Z
LAST-MODIFIED:20210204T220903Z
UID:10000994-1612602000-1612609200@www.princewilliamdemocrats.com
SUMMARY:Candidate's Petition Parkway!
DESCRIPTION:2021 Womens Caucus Candidates Petition Parkway \n  \nYou are formally invited by Prince William County Democratic Women’s Caucus in conjunction with Potomac District Democratic Committee to our Candidate’s Petition Parkway! This is a drive-thru event to safely collect signatures for Virginia’s Statewide Candidates to help ensure everyone gets on the ballot. All in attendance MUST wear a facemask\, practice social distancing by remaining in their car\, and are encouraged to bring own black pen and hand sanitizer. \nClick Here For Event
URL:https://www.princewilliamdemocrats.com/event/candidates-petition-parkway/
LOCATION:Dumfries Town Hall Parking Lot\, 17755 Main St\, Dumfries\, VA\, 22026
CATEGORIES:Prince William County Democratic Event,PWC Democratic Women's Event
ATTACH;FMTTYPE=image/jpeg:https://www.princewilliamdemocrats.com/wp-content/uploads/2021/02/2021-womens-caucus-candidate-petition-parkway-header.jpg
END:VEVENT
BEGIN:VEVENT
DTSTART;TZID=UTC:20210206T120000
DTEND;TZID=UTC:20210206T140000
DTSTAMP:20260422T184037
CREATED:20210201T202416Z
LAST-MODIFIED:20210204T220108Z
UID:10001002-1612612800-1612620000@www.princewilliamdemocrats.com
SUMMARY:Drive Through Petition Signing Sponsored By GMDDC - February 6th from 12pm - 2pm
DESCRIPTION:Drive Through Petition Signing Sponsored By GMDDC
URL:https://www.princewilliamdemocrats.com/event/drive-through-petition-signing-sponsored-by-gmddc-february-6th-from-12pm-2pm/
LOCATION:Battlefield High School\, 15000 Graduation Dr.\, Haymarket\, VA\, 20169
CATEGORIES:GMDDC Event
ATTACH;FMTTYPE=image/jpeg:https://www.princewilliamdemocrats.com/wp-content/uploads/2021/02/2021-drive-through-petition-signing-sponsored-by-gmmddc-header.jpg
END:VEVENT
BEGIN:VEVENT
DTSTART;TZID=UTC:20210213T093000
DTEND;TZID=UTC:20210213T223000
DTSTAMP:20260422T184037
CREATED:20210211T165343Z
LAST-MODIFIED:20210211T165728Z
UID:10001008-1613208600-1613255400@www.princewilliamdemocrats.com
SUMMARY:Coles District Monthly Meeting
DESCRIPTION:Please contact Coles District Leadership for additional details.
URL:https://www.princewilliamdemocrats.com/event/2021-02-13-930am-coles-district-monthly-meeting/
CATEGORIES:District Meeting
ATTACH;FMTTYPE=image/jpeg:https://www.princewilliamdemocrats.com/wp-content/uploads/2021/02/democratic-monthly-meeting.jpg
END:VEVENT
BEGIN:VEVENT
DTSTART;TZID=UTC:20210213T190000
DTEND;TZID=UTC:20210213T200000
DTSTAMP:20260422T184037
CREATED:20210209T000802Z
LAST-MODIFIED:20210209T000802Z
UID:10001006-1613242800-1613246400@www.princewilliamdemocrats.com
SUMMARY:Come Join Idris at the Coffee House!
DESCRIPTION:For More Details: Click Here\n\n \n\nCome join the Idris O’Connor for Delegate Campaign’s Coffeehouse night in celebration of Black History Month. Special guests are Clean Comedian Ms. Christina Wilson and Prince William County’s first Black Poet Laureate Ms. Kim B. Miller. It will be a fun night for the whole family as we discuss our grassroots people powered campaign and celebrate Black History Month. \n\n \n\nThis event will be held over Zoom at 7 PM on Saturday\, February 13th. Upon purchase of a ticket\, a link for the zoom meeting will be sent to your email. We look forward to seeing everyone there!
URL:https://www.princewilliamdemocrats.com/event/come-join-idris-at-the-coffee-house/
LOCATION:Virtual Event
CATEGORIES:Prince William County Democratic Virtual Event
ATTACH;FMTTYPE=image/png:https://www.princewilliamdemocrats.com/wp-content/uploads/2021/02/2021-coffee-house-with-idris.png
END:VEVENT
BEGIN:VEVENT
DTSTART;VALUE=DATE:20210214
DTEND;VALUE=DATE:20210215
DTSTAMP:20260422T184037
CREATED:20210214T194558Z
LAST-MODIFIED:20210214T194558Z
UID:10001016-1613260800-1613347199@www.princewilliamdemocrats.com
SUMMARY:Kara Pitek For Delegate Valentine's Day Bake Sale
DESCRIPTION:For More Details: Click Here
URL:https://www.princewilliamdemocrats.com/event/kara-pitek-for-delegate-valentines-day-bake-sale/
CATEGORIES:Prince William County Delegate Event
ATTACH;FMTTYPE=image/jpeg:https://www.princewilliamdemocrats.com/wp-content/uploads/2021/02/2021-kara-pitek-for-delegate-valentines-day-bake-sale.jpg
END:VEVENT
BEGIN:VEVENT
DTSTART;TZID=UTC:20210214T130000
DTEND;TZID=UTC:20210214T150000
DTSTAMP:20260422T184037
CREATED:20210214T193531Z
LAST-MODIFIED:20210214T194703Z
UID:10001014-1613307600-1613314800@www.princewilliamdemocrats.com
SUMMARY:Briana Sewell for Delegate Drive Thru Signature Collection
DESCRIPTION:Location: Woodbridge High School \n\n\n\nDate / Time: Sunday February 14th from 1pm-3pm
URL:https://www.princewilliamdemocrats.com/event/briana-sewell-for-delegate-drive-thru-signature-collection/
LOCATION:Woodbridge High School\, 3001 Old Bridge Rd\, Woodbridge\, VA\, 22192\, United States
CATEGORIES:Prince William County Delegate Event
ATTACH;FMTTYPE=image/png:https://www.princewilliamdemocrats.com/wp-content/uploads/2021/02/2021-briana-sewell-signature-collection-for-delegate.png
END:VEVENT
BEGIN:VEVENT
DTSTART;TZID=UTC:20210220T100000
DTEND;TZID=UTC:20210220T233000
DTSTAMP:20260422T184037
CREATED:20210215T002513Z
LAST-MODIFIED:20210215T002540Z
UID:10001018-1613815200-1613863800@www.princewilliamdemocrats.com
SUMMARY:Potomac District Monthly Meeting
DESCRIPTION:Please contact Potomac District Leadership for additional details. 
URL:https://www.princewilliamdemocrats.com/event/2021-02-20-10am-coles-district-monthly-meeting/
CATEGORIES:District Meeting
ATTACH;FMTTYPE=image/jpeg:https://www.princewilliamdemocrats.com/wp-content/uploads/2021/02/democratic-monthly-meeting.jpg
END:VEVENT
BEGIN:VEVENT
DTSTART;TZID=UTC:20210221T130000
DTEND;TZID=UTC:20210221T150000
DTSTAMP:20260422T184037
CREATED:20210220T211842Z
LAST-MODIFIED:20210220T211908Z
UID:10001024-1613912400-1613919600@www.princewilliamdemocrats.com
SUMMARY:Help Get Our Democratic Candidates on the Ballot
DESCRIPTION:The Occoquan Magisterial District of Prince William County invites your campaign to a “Drive-Up\, Drive-Thru” Signature Collection Event THIS SUNDAY!  Woodbridge High School this Sunday\, February 21st between 1:00 and 3:00 p.m. This is a Drive-Up\, Drive-Thru Signature Collection  \n\n\n\nHelp Get Our Democratic Candidates on the Ballot(An Encore Event) To be placed on the ballot\, our Democratic Candidates need to collect Signatures (and address) with their Petition of Candidacy.   Eighty Democrats signed petitions last week. We need 80 more faithful Democrats to show up this Sunday.  Tell your friends to come to sign the petitions. \n\n\n\nIf you couldn’t make it to last Sunday’s drive-through petition signing\, you have a second chance this Sunday. \n\n\n\nPlease tell your friends about the Event…Your Party thanks you.Woodbridge Senior High School\, Sunday\, February 21st between 1:00 and 3:00 p.m.Please wear a mask. \n\n\n\nCandidates must file a declaration of candidacy. The petition must contain the required number of signatures for the office being sought. See you this Sunday!
URL:https://www.princewilliamdemocrats.com/event/2021-02-21-1pm-help-get-our-democratic-candidates-on-the-ballot/
LOCATION:Woodbridge High School\, 3001 Old Bridge Rd\, Woodbridge\, VA\, 22192\, United States
CATEGORIES:Prince William County Democratic Event
ATTACH;FMTTYPE=image/png:https://www.princewilliamdemocrats.com/wp-content/uploads/2020/05/democratic-party-icon-sm.png
END:VEVENT
BEGIN:VEVENT
DTSTART;TZID=UTC:20210223T190000
DTEND;TZID=UTC:20210223T203000
DTSTAMP:20260422T184037
CREATED:20210219T025402Z
LAST-MODIFIED:20210219T025503Z
UID:10001022-1614106800-1614112200@www.princewilliamdemocrats.com
SUMMARY:Public Safety Town Hall
DESCRIPTION:Public Safety Town Hall With Vice Chair Andrea Bailey
URL:https://www.princewilliamdemocrats.com/event/public-safety-town-hall/
LOCATION:Virtual Event
CATEGORIES:Prince William County Event
ATTACH;FMTTYPE=image/jpeg:https://www.princewilliamdemocrats.com/wp-content/uploads/2021/02/2021-public-safety-town-hall-with-supervisor-bailey-header.jpg
END:VEVENT
BEGIN:VEVENT
DTSTART;TZID=UTC:20210224T190000
DTEND;TZID=UTC:20210224T200000
DTSTAMP:20260422T184037
CREATED:20210225T045148Z
LAST-MODIFIED:20210225T045148Z
UID:10000904-1614193200-1614196800@www.princewilliamdemocrats.com
SUMMARY:Democratic Women's Caucus Monthly Meeting
DESCRIPTION:Please contact Democratic Women’s Caucus Leadership for additional detail
URL:https://www.princewilliamdemocrats.com/event/2021-02-24-7pm-democratic-womens-caucus-monthly-meeting/
LOCATION:Virtual Event
CATEGORIES:PWC Democratic Women's Event
ATTACH;FMTTYPE=image/jpeg:https://www.princewilliamdemocrats.com/wp-content/uploads/2021/02/prince-william-county-democratic-womens-caucus-e1613424539900.jpg
END:VEVENT
BEGIN:VEVENT
DTSTART;TZID=UTC:20210225T100000
DTEND;TZID=UTC:20210225T110000
DTSTAMP:20260422T184037
CREATED:20210225T040411Z
LAST-MODIFIED:20210225T041020Z
UID:10000902-1614247200-1614250800@www.princewilliamdemocrats.com
SUMMARY:Celebrating Black History Month African-Americans Making History In Virginia
DESCRIPTION:Women’s Council of Realtors Virginia\, Diversity & Inclusion Committee is inviting you to a scheduled Zoom meeting. \n  \n\n\n\nTopic: Celebrating Black History Month – African-Americans Making History in Virginia \n  \nTime: Feb 25\, 2021 10:00 AM Eastern Time (US and Canada) \n  \n\n\n\nJoin Zoom Meeting \n\n\n\nhttps://us02web.zoom.us/j/85102720942?pwd=WGNzbEhpTk5MQlNOa0ZDdVhTYjJFZz09 \n\n\n\n  \nMeeting ID: 851 0272 0942 \n\n\n\n  \nPasscode: 338218 \n\n\n\n  \nOne tap mobile \n\n\n\n+16465588656\,\,85102720942#\,\,\,\,*338218# US (New York) \n\n\n\n+13017158592\,\,85102720942#\,\,\,\,*338218# US (Washington DC) \n\n\n\nDial by your location \n\n\n\n+1 646 558 8656 US (New York) \n\n\n\n+1 301 715 8592 US (Washington DC) \n\n\n\n+1 312 626 6799 US (Chicago) \n\n\n\n+1 669 900 9128 US (San Jose) \n\n\n\n+1 253 215 8782 US (Tacoma) \n\n\n\n+1 346 248 7799 US (Houston) \n\n\n\nMeeting ID: 851 0272 0942 \n\n\n\nPasscode: 338218 \n\n\n\nFind your local number: https://us02web.zoom.us/u/kvUac7woj
URL:https://www.princewilliamdemocrats.com/event/2021-02-25-10am-celebrating-black-history-month-african-americans-making-history-in-virginia/
LOCATION:Virtual Event
CATEGORIES:Prince William County Event
ATTACH;FMTTYPE=image/jpeg:https://www.princewilliamdemocrats.com/wp-content/uploads/2021/02/2021-celebrating-black-history-month-with-supervisor-angry.jpg
END:VEVENT
BEGIN:VEVENT
DTSTART;TZID=UTC:20210225T193000
DTEND;TZID=UTC:20210225T203000
DTSTAMP:20260422T184037
CREATED:20210225T041847Z
LAST-MODIFIED:20210225T041909Z
UID:10000903-1614281400-1614285000@www.princewilliamdemocrats.com
SUMMARY:PWC Democratic Committee Monthly Meeting
DESCRIPTION:Please contact PWC Democratic Leadership for additional details.
URL:https://www.princewilliamdemocrats.com/event/2021-02-25-730pm-pwc-democratic-committee-monthly-meeting/
LOCATION:Virtual Event
CATEGORIES:Prince William County Democratic Event
ATTACH;FMTTYPE=image/jpeg:https://www.princewilliamdemocrats.com/wp-content/uploads/2021/02/democratic-monthly-meeting.jpg
END:VEVENT
BEGIN:VEVENT
DTSTART;TZID=UTC:20210226T190000
DTEND;TZID=UTC:20210226T200000
DTSTAMP:20260422T184037
CREATED:20210225T035943Z
LAST-MODIFIED:20210225T035943Z
UID:10000901-1614366000-1614369600@www.princewilliamdemocrats.com
SUMMARY:Virtual Black History Month Event With Supervisor Margaret Angela Franklin
DESCRIPTION:Hope you can join us this Friday celebrating African American families who are pioneers in Prince William County’s history!
URL:https://www.princewilliamdemocrats.com/event/2021-02-26-7pm-virtual-black-history-month-event-with-supervisor-margaret-angela-franklin/
LOCATION:Virtual Event
CATEGORIES:Prince William County Event
ATTACH;FMTTYPE=image/jpeg:https://www.princewilliamdemocrats.com/wp-content/uploads/2021/02/2021-black-history-month-event-with-supervisor-margaret-franklin.jpg
END:VEVENT
BEGIN:VEVENT
DTSTART;TZID=UTC:20210227T180000
DTEND;TZID=UTC:20210227T190000
DTSTAMP:20260422T184037
CREATED:20210218T225521Z
LAST-MODIFIED:20210218T230110Z
UID:10001020-1614448800-1614452400@www.princewilliamdemocrats.com
SUMMARY:Margaritas With Margaret
DESCRIPTION:Contribute At: Click Here\n\n\n\nZoom Meeting Link: Click Here\n \nMargaritas With Margaret
URL:https://www.princewilliamdemocrats.com/event/2021-02-27-6pm-margaritas-with-margaret/
CATEGORIES:Prince William County Event
ATTACH;FMTTYPE=image/png:https://www.princewilliamdemocrats.com/wp-content/uploads/2021/02/2021-margaritas-with-margaret-header.png
END:VEVENT
BEGIN:VEVENT
DTSTART;TZID=UTC:20210228T130000
DTEND;TZID=UTC:20210228T150000
DTSTAMP:20260422T184037
CREATED:20210222T232039Z
LAST-MODIFIED:20210222T232150Z
UID:10001026-1614517200-1614524400@www.princewilliamdemocrats.com
SUMMARY:Prince William County Democratic Committee County-wide Drive Thru Petition
DESCRIPTION:
URL:https://www.princewilliamdemocrats.com/event/2021-02-28-1pm-prince-william-county-democratic-committee-county-wide-drive-thru-petition/
CATEGORIES:Prince William County Democratic Event
ATTACH;FMTTYPE=image/png:https://www.princewilliamdemocrats.com/wp-content/uploads/2021/02/2021-prince-william-county-democratic-committee-drive-thru-petition.png
END:VEVENT
END:VCALENDAR