BEGIN:VCALENDAR
VERSION:2.0
PRODID:-//Prince William County Democrats - ECPv6.15.20//NONSGML v1.0//EN
CALSCALE:GREGORIAN
METHOD:PUBLISH
X-ORIGINAL-URL:https://www.princewilliamdemocrats.com
X-WR-CALDESC:Events for Prince William County Democrats
REFRESH-INTERVAL;VALUE=DURATION:PT1H
X-Robots-Tag:noindex
X-PUBLISHED-TTL:PT1H
BEGIN:VTIMEZONE
TZID:UTC
BEGIN:STANDARD
TZOFFSETFROM:+0000
TZOFFSETTO:+0000
TZNAME:UTC
DTSTART:20220101T000000
END:STANDARD
END:VTIMEZONE
BEGIN:VEVENT
DTSTART;TZID=UTC:20230617T100000
DTEND;TZID=UTC:20230617T110000
DTSTAMP:20260421T051038
CREATED:20230605T212752Z
LAST-MODIFIED:20230605T212752Z
UID:10001661-1686996000-1686999600@www.princewilliamdemocrats.com
SUMMARY:Woodbridge District Monthly Meeting
DESCRIPTION:Please contact Woodbridge District Leadership for additional details.
URL:https://www.princewilliamdemocrats.com/event/2023-06-17-10am-woodbridge-district-monthly-meeting-2/
LOCATION:Virtual Event
CATEGORIES:District Meeting
ATTACH;FMTTYPE=image/jpeg:https://www.princewilliamdemocrats.com/wp-content/uploads/2021/02/democratic-monthly-meeting.jpg
END:VEVENT
BEGIN:VEVENT
DTSTART;TZID=UTC:20230617T170000
DTEND;TZID=UTC:20230617T200000
DTSTAMP:20260421T051038
CREATED:20230619T153352Z
LAST-MODIFIED:20230619T153352Z
UID:10001668-1687021200-1687032000@www.princewilliamdemocrats.com
SUMMARY:Summer Fish Fry Fundraiser
DESCRIPTION:For More Details: Click Here \nJoin Idris O’Connor and the Coles Democratic Committee for a fun Summer Fish Fry to celebrate the Summer season\, and support Idris O’Connor’s campaign for Coles District Supervisor!
URL:https://www.princewilliamdemocrats.com/event/2023-06-17-5pm-summer-fish-fry-fundraiser/
CATEGORIES:Prince William County Democratic Event
ATTACH;FMTTYPE=image/jpeg:https://www.princewilliamdemocrats.com/wp-content/uploads/2023/06/2023-idris-oconnor-fish-fry.jpg
END:VEVENT
BEGIN:VEVENT
DTSTART;TZID=UTC:20230619T080000
DTEND;TZID=UTC:20230619T170000
DTSTAMP:20260421T051038
CREATED:20230619T150043Z
LAST-MODIFIED:20230619T151257Z
UID:10001663-1687161600-1687194000@www.princewilliamdemocrats.com
SUMMARY:Phone Banking for Rozia Henson For HD19
DESCRIPTION:For More Details: Click Here \n\n\n\nHelp is win in the June Primaries! Sign up to phone bank every Tuesday and Thursday for phone banking!
URL:https://www.princewilliamdemocrats.com/event/2023-06-19-phone-banking-for-rozia-henson-for-hd19/
CATEGORIES:Prince William County Democratic Event
ATTACH;FMTTYPE=image/png:https://www.princewilliamdemocrats.com/wp-content/uploads/2023/05/2023-rozia-henson-for-delegate.png
END:VEVENT
BEGIN:VEVENT
DTSTART;TZID=UTC:20230619T080000
DTEND;TZID=UTC:20230619T170000
DTSTAMP:20260421T051038
CREATED:20230619T162322Z
LAST-MODIFIED:20230619T162322Z
UID:10001670-1687161600-1687194000@www.princewilliamdemocrats.com
SUMMARY:Re-Elect Victor Angry for Neabsco District Supervisor
DESCRIPTION:I need your help to get me across the finish line. Come out and support me at one of Neabsco Distirct’s 15 polling locations\, It is greatly appreciated. Thank you.\n\n \n\nSignup Genius:\n\n \n\nhttps://www.signupgenius.com/go/10c084caaad2fa0ffc16-minnieville8#/
URL:https://www.princewilliamdemocrats.com/event/re-elect-victor-angry-for-neabsco-district-supervisor/
CATEGORIES:Prince William County Democratic Event
ATTACH;FMTTYPE=image/png:https://www.princewilliamdemocrats.com/wp-content/uploads/2023/06/2023-reelect-supervisor-victor-angry.png
END:VEVENT
BEGIN:VEVENT
DTSTART;TZID=UTC:20230619T183000
DTEND;TZID=UTC:20230619T203000
DTSTAMP:20260421T051038
CREATED:20230619T155025Z
LAST-MODIFIED:20230619T155025Z
UID:10001669-1687199400-1687206600@www.princewilliamdemocrats.com
SUMMARY:A CommUNITY Concert  in support of Makya Little featuring El DeBarge
DESCRIPTION:For More Details: Click Here \nMonday\, June 19\, 2023 | 6:30pm \nAlamo Drafthouse Cinema \nWoodbridge\, Virginia \nThank you for contributing to Friends of Makya Little in support of Makya Little for 19th District Delegate! \nWe greatly appreciate your prayers\, support\, and generosity as she runs to represent Virginia’s new 19th House District encompassing portions of both Fairfax and Prince William Counties.
URL:https://www.princewilliamdemocrats.com/event/2023-06-19-630pm-a-community-concert-in-support-of-makya-little-featuring-el-debarge/
CATEGORIES:Prince William County Democratic Event
ATTACH;FMTTYPE=image/png:https://www.princewilliamdemocrats.com/wp-content/uploads/2023/06/2023-maka-little-juneteenth-community-concert.png
END:VEVENT
BEGIN:VEVENT
DTSTART;TZID=UTC:20230619T190000
DTEND;TZID=UTC:20230619T200000
DTSTAMP:20260421T051038
CREATED:20230605T205316Z
LAST-MODIFIED:20230605T205345Z
UID:10001361-1687201200-1687204800@www.princewilliamdemocrats.com
SUMMARY:Brentsville District Monthly Meeting
DESCRIPTION:Please contact Brentsville District Leadership for additional details.
URL:https://www.princewilliamdemocrats.com/event/2023-06-19-7pm-brentsville-district-monthly-meeting-2/
LOCATION:Virtual Event
CATEGORIES:District Meeting
ATTACH;FMTTYPE=image/jpeg:https://www.princewilliamdemocrats.com/wp-content/uploads/2021/02/democratic-monthly-meeting.jpg
END:VEVENT
BEGIN:VEVENT
DTSTART;TZID=UTC:20230622T190000
DTEND;TZID=UTC:20230622T200000
DTSTAMP:20260421T051038
CREATED:20230605T212941Z
LAST-MODIFIED:20230605T212959Z
UID:10001662-1687460400-1687464000@www.princewilliamdemocrats.com
SUMMARY:PWC Democratic Monthly Meeting
DESCRIPTION:Please contact PWC Democratic Leadership for additional details.
URL:https://www.princewilliamdemocrats.com/event/2023-06-22-7pm-pwc-democratic-monthly-meeting-2/
LOCATION:Virtual Event
CATEGORIES:District Meeting
ATTACH;FMTTYPE=image/jpeg:https://www.princewilliamdemocrats.com/wp-content/uploads/2021/02/democratic-monthly-meeting.jpg
END:VEVENT
BEGIN:VEVENT
DTSTART;TZID=UTC:20230623T180000
DTEND;TZID=UTC:20230623T200000
DTSTAMP:20260421T051038
CREATED:20230315T234207Z
LAST-MODIFIED:20230315T234207Z
UID:10001615-1687543200-1687550400@www.princewilliamdemocrats.com
SUMMARY:VADems Blue Common Wealth Gala
DESCRIPTION:BLUE COMMONWEALTH GALA 2023\n\n  \nHosted by the Democratic Party of Virginia in Richmond’s Historic Main Street Station\, the 2023 Blue Commonwealth Gala is Virginia’s premier gathering of elected officials\, candidates\, community activists\, and Democratic Party leaders. Funds raised at this iconic event help to ensure the Democratic Party and its candidates have the resources needed to win in November and beyond. We invite you to join us at this annual gathering to meet your fellow Democrats and future leaders of Virginia! \nDate/Time \nFriday\, June 23rd\, 2023 \n6:00 pm \nLocation \nMain Street Station \n1500 E Main St. \nRichmond\, VA 23219 \nDetails \nbluecommonwealthgala.com
URL:https://www.princewilliamdemocrats.com/event/2023-06-23-6pm-vadems-blue-common-wealth-gala/
CATEGORIES:Virginia Democratic Event
ATTACH;FMTTYPE=image/png:https://www.princewilliamdemocrats.com/wp-content/uploads/2023/03/va-dems-2023-blue-common-wealth-gala.png
END:VEVENT
BEGIN:VEVENT
DTSTART;TZID=UTC:20230624T100000
DTEND;TZID=UTC:20230624T120000
DTSTAMP:20260421T051038
CREATED:20230619T151101Z
LAST-MODIFIED:20230619T151122Z
UID:10001666-1687600800-1687608000@www.princewilliamdemocrats.com
SUMMARY:Canvass for Travis Nembhard
DESCRIPTION:For More Details: Click Here \n\n\n\nJoin Team Nembhard in your area to talk to your neighbors about HD-22’s next Delegate!
URL:https://www.princewilliamdemocrats.com/event/2023-06-24-10am-canvass-for-travis-nembhard/
CATEGORIES:Prince William County Canvass
ATTACH;FMTTYPE=image/png:https://www.princewilliamdemocrats.com/wp-content/uploads/2023/06/2023-travis-nembhard-for-delegate-canvass.png
END:VEVENT
BEGIN:VEVENT
DTSTART;TZID=UTC:20230624T100000
DTEND;TZID=UTC:20230624T133000
DTSTAMP:20260421T051038
CREATED:20230623T134843Z
LAST-MODIFIED:20230623T134926Z
UID:10001671-1687600800-1687613400@www.princewilliamdemocrats.com
SUMMARY:Join Team Danica Roem\, Team Josh Thomas And Team Travis Nembhard For A Joint Canvass
DESCRIPTION:Join Team Danica Roem – Virginia Delegate\, Team Josh Thomas for Delegate\, & Team Travis Nembhard for Delegate for a joint canvass launch this Saturday\, June 24th! \n\n\n\nhttps://www.mobilize.us/danicaforstatesenate/event/567267/ \n\n\n\nWe’ll be knocking doors in SD-30\, HD-21\, & HD-22 to talk about how important it is to elect Danica\, Josh\, & Travis this November. Training is included! All you need is a phone\, good shoes\, & a passion for electing great candidates
URL:https://www.princewilliamdemocrats.com/event/2023-06-24-join-team-danica-roem-team-josh-thomas-and-team-travis-nembhard-for-a-joint-canvass/
CATEGORIES:Virginia Democratic Event
ATTACH;FMTTYPE=image/jpeg:https://www.princewilliamdemocrats.com/wp-content/uploads/2023/06/2023-danica-josh-travis-canvas.jpg
END:VEVENT
BEGIN:VEVENT
DTSTART;TZID=UTC:20230625T130000
DTEND;TZID=UTC:20230625T160000
DTSTAMP:20260421T051038
CREATED:20230427T012357Z
LAST-MODIFIED:20230427T012357Z
UID:10001639-1687698000-1687708800@www.princewilliamdemocrats.com
SUMMARY:Join us at Danica Roem's Manassas Fundraiser!
DESCRIPTION:For More Details: Click Here \nVirginia Del. Danica Roem is running for the 30th District of the state Senate this fall! So please join us at Tandoori Village in Manassas to support Danica’s election campaign on Sunday\, June 25 from 1-4 p.m. \nThis is one of our first events of the general election\, so let’s get together to prepare to elect Danica and protect the Democratic majority in Virginia’s state Senate. \nRegister today by contributing: \nHost: $1\,000 \nCo-Host: $500 \nAlly: $250 \nFriend: $100 \nSupporter: $50 \nYoung Democrat*: $30 \n*Young Democrats are identified as students and young professionals under the age of 35. \nContact alia@danicaforstatesenate.com for questions! \nDonate by check to: \nFriends of Danica Roem for Senate \nP.O. Box 726 \nManassas\, VA 20113
URL:https://www.princewilliamdemocrats.com/event/2023-06-25-join-us-at-danica-roems-manassas-fundraiser/
CATEGORIES:Prince William County Democratic Event
ATTACH;FMTTYPE=image/png:https://www.princewilliamdemocrats.com/wp-content/uploads/2023/04/2023-danica-roem-for-va-state-senate.png
END:VEVENT
BEGIN:VEVENT
DTSTART;TZID=UTC:20230708T080000
DTEND;TZID=UTC:20230708T100000
DTSTAMP:20260421T051038
CREATED:20230516T235459Z
LAST-MODIFIED:20230516T235459Z
UID:10001655-1688803200-1688810400@www.princewilliamdemocrats.com
SUMMARY:Two Blue Cities Breakfast Fundraiser
DESCRIPTION:Registration is open. Join us on July 8 to celebrate another year of keeping Manassas and Manassas Park Blue and raise money for our 2023 candidates.
URL:https://www.princewilliamdemocrats.com/event/2023-07-08-9am-two-blue-cities-breakfast-fundraiser/
CATEGORIES:Prince William County Democratic Event
ATTACH;FMTTYPE=image/jpeg:https://www.princewilliamdemocrats.com/wp-content/uploads/2023/05/2023-two-blue-cities-breakfast-fundraiser.jpg
END:VEVENT
BEGIN:VEVENT
DTSTART;TZID=UTC:20230708T090000
DTEND;TZID=UTC:20230708T100000
DTSTAMP:20260421T051038
CREATED:20230703T200724Z
LAST-MODIFIED:20230703T200724Z
UID:10001675-1688806800-1688810400@www.princewilliamdemocrats.com
SUMMARY:Neabsco District Monthly Meeting
DESCRIPTION:Please contact Neabsco District Leadership for additional details.
URL:https://www.princewilliamdemocrats.com/event/2023-07-08-9am-neabsco-district-monthly-meeting/
LOCATION:Virtual Event
CATEGORIES:District Meeting
ATTACH;FMTTYPE=image/jpeg:https://www.princewilliamdemocrats.com/wp-content/uploads/2021/02/democratic-monthly-meeting.jpg
END:VEVENT
BEGIN:VEVENT
DTSTART;TZID=UTC:20230708T090000
DTEND;TZID=UTC:20230708T110000
DTSTAMP:20260421T051038
CREATED:20230703T224539Z
LAST-MODIFIED:20230703T224539Z
UID:10001682-1688806800-1688814000@www.princewilliamdemocrats.com
SUMMARY:Two Blue Cities Breakfast Fundraiser
DESCRIPTION:Join Manassas and Manassas Park Cities Democratic Committee on Saturday\, July 8th for their annual breakfast fundraiser!\n\n\nIt’s always a delicious event & it’s more important than ever for us to support our Democrat neighbors\, so get your tickets today \n\n\n RSVP by July 5th here:\nhttps://secure.actblue.com/donate/tbc2023
URL:https://www.princewilliamdemocrats.com/event/2023-07-08-9am-two-blue-cities-breakfast-fundraiser-2/
CATEGORIES:Prince William County Democratic Event
ATTACH;FMTTYPE=image/jpeg:https://www.princewilliamdemocrats.com/wp-content/uploads/2023/07/2023-two-blues-cities-breakfast-fundraiser.jpg
END:VEVENT
BEGIN:VEVENT
DTSTART;TZID=UTC:20230708T133000
DTEND;TZID=UTC:20230708T153000
DTSTAMP:20260421T051038
CREATED:20230703T223612Z
LAST-MODIFIED:20230703T223612Z
UID:10001680-1688823000-1688830200@www.princewilliamdemocrats.com
SUMMARY:Blue Brick Wall Fundraiser
DESCRIPTION:Join VA Senate President Pro Tempore Senator L. Louise Lucas on Saturday\, July 8th to kick off the “Blue Brick Wall” fundraiser series!\n\n\nPersonalized bricks will be displayed in Senator Lucas’s office in Richmond. Staff will be in touch with you to coordinate the name that you wish to be printed on the brick \n\n\nRSVP here:\nhttps://secure.actblue.com/donate/bluebrickwall
URL:https://www.princewilliamdemocrats.com/event/2023-07-08-130pm-blue-brick-wall-fundraiser/
CATEGORIES:Virginia Democratic Event
ATTACH;FMTTYPE=image/jpeg:https://www.princewilliamdemocrats.com/wp-content/uploads/2023/07/2023-lucas-blue-brick-fundraiser.jpg
END:VEVENT
BEGIN:VEVENT
DTSTART;TZID=UTC:20230708T180000
DTEND;TZID=UTC:20230708T210000
DTSTAMP:20260421T051038
CREATED:20230703T224057Z
LAST-MODIFIED:20230703T224118Z
UID:10001681-1688839200-1688850000@www.princewilliamdemocrats.com
SUMMARY:3rd Annual Blues and Barbecue
DESCRIPTION:You’re invited to the 3rd annual Blues & BBQ fundraiser on July 8th in support of Vice Mayor Monae Nickerson \n\n\nFeaturing entertainment by the incredibly talented Blues artist Memphis Gold \n\n\nTickets are going fast\, so get yours today!\nhttps://secure.actblue.com/donate/3rdannualbluesbbq
URL:https://www.princewilliamdemocrats.com/event/2023-07-08-6pm-3rd-annual-blues-and-barbecue/
CATEGORIES:Prince William County Democratic Event
ATTACH;FMTTYPE=image/jpeg:https://www.princewilliamdemocrats.com/wp-content/uploads/2023/07/2023-nickerson-blues-bbq.jpg
END:VEVENT
BEGIN:VEVENT
DTSTART;TZID=UTC:20230710T190000
DTEND;TZID=UTC:20230710T200000
DTSTAMP:20260421T051038
CREATED:20230703T200059Z
LAST-MODIFIED:20230703T200127Z
UID:10001674-1689015600-1689019200@www.princewilliamdemocrats.com
SUMMARY:Gainesville District Monthly Meeting
DESCRIPTION:Please contact Gainesville District Leadership for additional details.
URL:https://www.princewilliamdemocrats.com/event/2023-07-10-7pm-gainesville-district-monthly-meeting/
LOCATION:Virtual Event
CATEGORIES:District Meeting
ATTACH;FMTTYPE=image/jpeg:https://www.princewilliamdemocrats.com/wp-content/uploads/2021/02/democratic-monthly-meeting.jpg
END:VEVENT
BEGIN:VEVENT
DTSTART;TZID=UTC:20230710T193000
DTEND;TZID=UTC:20230710T203000
DTSTAMP:20260421T051038
CREATED:20230703T201106Z
LAST-MODIFIED:20230703T201106Z
UID:10001676-1689017400-1689021000@www.princewilliamdemocrats.com
SUMMARY:Occoquan District Monthly Meeting
DESCRIPTION:Please contact Occoquan District Leadership for additional details.
URL:https://www.princewilliamdemocrats.com/event/2023-07-10-730pm-occoquan-district-monthly-meeting/
LOCATION:Virtual Event
CATEGORIES:District Meeting
ATTACH;FMTTYPE=image/jpeg:https://www.princewilliamdemocrats.com/wp-content/uploads/2021/02/democratic-monthly-meeting.jpg
END:VEVENT
BEGIN:VEVENT
DTSTART;TZID=UTC:20230713T073000
DTEND;TZID=UTC:20230713T093000
DTSTAMP:20260421T051038
CREATED:20230703T225432Z
LAST-MODIFIED:20230703T225432Z
UID:10001683-1689233400-1689240600@www.princewilliamdemocrats.com
SUMMARY:Affordable Housing Summit
DESCRIPTION:We’re getting very excited about the Affordable Housing Summit on July 13th! We’ve been working with so many great groups and people who are doing incredible work to advance affordable housing in Prince William County.\n\n\nAndrea Bailey for PWC Potomac District Supervisor and Delegate Michelle Maldonado – HD50 are two of our panelists who have been working to advance the cause of affordable housing through our local and state governments.\n\n\nWe are so grateful to have these great panelists and to hear from them about the challenges and opportunities they face at the state and local levels.\n\n\nThe summit is free and open to the public\, but we ask that you RSVP so we can plan accordingly.\n\n\nFor More Details / RSVP: Click Here
URL:https://www.princewilliamdemocrats.com/event/2023-07-13-730am-affordable-housing-summit/
CATEGORIES:Prince William County Event
ATTACH;FMTTYPE=image/jpeg:https://www.princewilliamdemocrats.com/wp-content/uploads/2023/07/2023-bailey-moldonado-affordable-housing.jpg
END:VEVENT
BEGIN:VEVENT
DTSTART;TZID=UTC:20230715T100000
DTEND;TZID=UTC:20230715T110000
DTSTAMP:20260421T051038
CREATED:20230703T201325Z
LAST-MODIFIED:20230703T201325Z
UID:10001677-1689415200-1689418800@www.princewilliamdemocrats.com
SUMMARY:Potomac District Monthly Meeting
DESCRIPTION:Please contact Potomac District Leadership for additional details.
URL:https://www.princewilliamdemocrats.com/event/2023-07-15-10am-potomac-district-monthly-meeting/
LOCATION:Virtual Event
CATEGORIES:District Meeting
ATTACH;FMTTYPE=image/jpeg:https://www.princewilliamdemocrats.com/wp-content/uploads/2021/02/democratic-monthly-meeting.jpg
END:VEVENT
BEGIN:VEVENT
DTSTART;TZID=UTC:20230715T100000
DTEND;TZID=UTC:20230715T110000
DTSTAMP:20260421T051038
CREATED:20230703T202107Z
LAST-MODIFIED:20230703T202136Z
UID:10001678-1689415200-1689418800@www.princewilliamdemocrats.com
SUMMARY:Woodbridge District Monthly Meeting
DESCRIPTION:Please contact Woodbridge District Leadership for additional details.
URL:https://www.princewilliamdemocrats.com/event/2023-07-15-10am-woodbridge-district-monthly-meeting/
LOCATION:Virtual Event
CATEGORIES:District Meeting
ATTACH;FMTTYPE=image/jpeg:https://www.princewilliamdemocrats.com/wp-content/uploads/2021/02/democratic-monthly-meeting.jpg
END:VEVENT
BEGIN:VEVENT
DTSTART;TZID=UTC:20230715T140000
DTEND;TZID=UTC:20230715T170000
DTSTAMP:20260421T051038
CREATED:20230703T231920Z
LAST-MODIFIED:20230703T232816Z
UID:10001685-1689429600-1689440400@www.princewilliamdemocrats.com
SUMMARY:PWCDC Presents Summer Unity Potluck
DESCRIPTION:PWCDC is excited to present our Summer Unity Potluck on 7/15!\n\n\nBring your family and enjoy a beautiful summer afternoon in Montclair\, VA with your PWC Democrat friends as we gear up for the 2023 election cycle.\n\n\nThis event will feature special guests Congresswoman Jennifer Wexton\, Congresswoman Abigail Spanberger\, and Former Delegate Jay Jones.\n\n\nAddress & event details will be provided upon RSVP: Click Here\n\n\nFor More Details and Contributions:\nhttps://www.princewilliamdemocrats.com/events/summer-unity-potluck/
URL:https://www.princewilliamdemocrats.com/event/pwcdc-presents-summer-unity-potluck-july-15th-at-2pm/
CATEGORIES:Prince William County Democratic Event
ATTACH;FMTTYPE=image/jpeg:https://www.princewilliamdemocrats.com/wp-content/uploads/2023/07/2023-prince-willim-democrats-summer-unity-potluck.jpg
END:VEVENT
BEGIN:VEVENT
DTSTART;TZID=UTC:20230715T173000
DTEND;TZID=UTC:20230715T203000
DTSTAMP:20260421T051038
CREATED:20230703T230205Z
LAST-MODIFIED:20230703T230205Z
UID:10001684-1689442200-1689453000@www.princewilliamdemocrats.com
SUMMARY:Join Us For Amy's Birthday Fundraiser
DESCRIPTION:Join us for Amy Ashworth‘s Birthday Fundraiser on Saturday\, 7/15! \nCome celebrate Amy’s birthday & her accomplishments as Commonwealth’s Attorney with some tasty ice cream & refreshments! RSVP to Taylor at (702) 325-6536 or email taylor@voteashworth.com with any questions \nFor More Details: Click Here
URL:https://www.princewilliamdemocrats.com/event/2023-07-15-530pm-join-us-for-amys-birthday-fundraiser/
CATEGORIES:Prince William County Democratic Event
ATTACH;FMTTYPE=image/jpeg:https://www.princewilliamdemocrats.com/wp-content/uploads/2023/07/2023-amy-ashworth-birthday-fundraiser.jpg
END:VEVENT
BEGIN:VEVENT
DTSTART;TZID=UTC:20230716T150000
DTEND;TZID=UTC:20230716T170000
DTSTAMP:20260421T051038
CREATED:20230716T141646Z
LAST-MODIFIED:20230716T141801Z
UID:10001686-1689519600-1689526800@www.princewilliamdemocrats.com
SUMMARY:Tea with Two Teachers
DESCRIPTION:Join Lisa Zargarpur for Coles and Adele Jackson PWC Brentsville District School Board Member for an afternoon Tea with Two Teachers on Sunday\, July 16th!\n\n\nThis is a wonderful opportunity to hear from the only school board candidates who are current teachers! Address provided upon RSVP.\n\n\nRSVP here:\nhttps://secure.actblue.com/donate/teawithteachers
URL:https://www.princewilliamdemocrats.com/event/2023-07-16-3pm-tea-with-two-teachers/
CATEGORIES:Prince William County Democratic Event
ATTACH;FMTTYPE=image/jpeg:https://www.princewilliamdemocrats.com/wp-content/uploads/2023/07/2023-tea-with-two-teachers-fundraiser.jpg
END:VEVENT
BEGIN:VEVENT
DTSTART;TZID=UTC:20230717T190000
DTEND;TZID=UTC:20230717T200000
DTSTAMP:20260421T051038
CREATED:20230703T195756Z
LAST-MODIFIED:20230703T195756Z
UID:10001672-1689620400-1689624000@www.princewilliamdemocrats.com
SUMMARY:Brentsville District Monthly Meeting
DESCRIPTION:Please contact Brentsville District Leadership for additional details.
URL:https://www.princewilliamdemocrats.com/event/2023-07-17-7pm-brentsville-district-monthly-meeting-2/
LOCATION:Virtual Event
CATEGORIES:District Meeting
ATTACH;FMTTYPE=image/jpeg:https://www.princewilliamdemocrats.com/wp-content/uploads/2021/02/democratic-monthly-meeting.jpg
END:VEVENT
BEGIN:VEVENT
DTSTART;TZID=UTC:20230720T190000
DTEND;TZID=UTC:20230720T200000
DTSTAMP:20260421T051038
CREATED:20230703T195921Z
LAST-MODIFIED:20230703T195950Z
UID:10001673-1689879600-1689883200@www.princewilliamdemocrats.com
SUMMARY:Coles District Monthly Meeting
DESCRIPTION:Please contact Coles District Leadership for additional details.
URL:https://www.princewilliamdemocrats.com/event/2023-07-20-7pm-coles-district-monthly-meeting/
LOCATION:Virtual Event
CATEGORIES:District Meeting
ATTACH;FMTTYPE=image/jpeg:https://www.princewilliamdemocrats.com/wp-content/uploads/2021/02/democratic-monthly-meeting.jpg
END:VEVENT
BEGIN:VEVENT
DTSTART;TZID=UTC:20230722T100000
DTEND;TZID=UTC:20230722T140000
DTSTAMP:20260421T051038
CREATED:20230716T142133Z
LAST-MODIFIED:20230716T142133Z
UID:10001687-1690020000-1690034400@www.princewilliamdemocrats.com
SUMMARY:Pancake Brunch with Richard Jessie
DESCRIPTION:Save the date for a Pancake Brunch on Saturday\, 7/22 in support of Richard Jessie\, our Democratic candidate for Occoquan District PWCS Board!\n\n\n RSVP:\nhttps://signup.com/go/RMoUutE\n\n\n Donations:\nhttps://secure.actblue.com/donate/pancake2023
URL:https://www.princewilliamdemocrats.com/event/2023-07-22-10am-pancake-brunch-with-richard-jessie/
CATEGORIES:Prince William County Democratic Event
ATTACH;FMTTYPE=image/jpeg:https://www.princewilliamdemocrats.com/wp-content/uploads/2023/07/2023-richard-jessie-pancake-brunch.jpg
END:VEVENT
BEGIN:VEVENT
DTSTART;TZID=UTC:20230726T190000
DTEND;TZID=UTC:20230726T200000
DTSTAMP:20260421T051038
CREATED:20230802T112502Z
LAST-MODIFIED:20230802T112502Z
UID:10001381-1690398000-1690401600@www.princewilliamdemocrats.com
SUMMARY:Democratic Women's Caucus Monthly Meeting
DESCRIPTION:Please contact Democratic Women’s Caucus Leadership for additional detail
URL:https://www.princewilliamdemocrats.com/event/2023-07-26-7pm-democratic-womens-caucus-monthly-meeting/
LOCATION:Virtual Event
CATEGORIES:PWC Democratic Women's Event
ATTACH;FMTTYPE=image/jpeg:https://www.princewilliamdemocrats.com/wp-content/uploads/2021/02/prince-william-county-democratic-womens-caucus-e1613424539900.jpg
END:VEVENT
BEGIN:VEVENT
DTSTART;TZID=UTC:20230727T180000
DTEND;TZID=UTC:20230727T193000
DTSTAMP:20260421T051038
CREATED:20230802T113756Z
LAST-MODIFIED:20230802T113756Z
UID:10001384-1690480800-1690486200@www.princewilliamdemocrats.com
SUMMARY:Prince William County Climate Defense Town Hall
DESCRIPTION:Make sure to attend this important climate change town hall this Thursday\, July 27th! Featuring Briana Sewell for Delegate\, Delegate Michelle Maldonado – HD50\, Delegate Candi Mundon King\, and Jeremy McPike  \nVirginia LCV’s 2023 Legislative Scorecard is here! We’re kicking off the scorecard release with a Prince William County Climate Defense Town Hall. This is a chance to ask questions and voice your concerns about combating climate change\, protecting natural resources\, advancing clean energy infrastructure\, and ensuring a healthy democracy.
URL:https://www.princewilliamdemocrats.com/event/2023-07-27-6pm-prince-william-county-climate-defense-town-hall/
CATEGORIES:Prince William County Event
ATTACH;FMTTYPE=image/jpeg:https://www.princewilliamdemocrats.com/wp-content/uploads/2023/08/2023-climate-defense-town-hall.jpg
END:VEVENT
BEGIN:VEVENT
DTSTART;TZID=UTC:20230727T190000
DTEND;TZID=UTC:20230727T210000
DTSTAMP:20260421T051038
CREATED:20230703T202439Z
LAST-MODIFIED:20230802T113522Z
UID:10001679-1690484400-1690491600@www.princewilliamdemocrats.com
SUMMARY:PWC Democratic Monthly Meeting
DESCRIPTION:Please contact PWC Democratic Leadership for additional details.
URL:https://www.princewilliamdemocrats.com/event/2023-07-23-7pm-pwc-democratic-monthly-meeting/
LOCATION:Virtual Event
CATEGORIES:District Meeting
ATTACH;FMTTYPE=image/jpeg:https://www.princewilliamdemocrats.com/wp-content/uploads/2021/02/democratic-monthly-meeting.jpg
END:VEVENT
END:VCALENDAR