BEGIN:VCALENDAR
VERSION:2.0
PRODID:-//Prince William County Democrats - ECPv6.15.20//NONSGML v1.0//EN
CALSCALE:GREGORIAN
METHOD:PUBLISH
X-ORIGINAL-URL:https://www.princewilliamdemocrats.com
X-WR-CALDESC:Events for Prince William County Democrats
REFRESH-INTERVAL;VALUE=DURATION:PT1H
X-Robots-Tag:noindex
X-PUBLISHED-TTL:PT1H
BEGIN:VTIMEZONE
TZID:UTC
BEGIN:STANDARD
TZOFFSETFROM:+0000
TZOFFSETTO:+0000
TZNAME:UTC
DTSTART:20200101T000000
END:STANDARD
END:VTIMEZONE
BEGIN:VEVENT
DTSTART;TZID=UTC:20210623T190000
DTEND;TZID=UTC:20210623T200000
DTSTAMP:20260422T225254
CREATED:20210322T225424Z
LAST-MODIFIED:20210322T225815Z
UID:10000928-1624474800-1624478400@www.princewilliamdemocrats.com
SUMMARY:Democratic Women's Caucus Monthly Meeting
DESCRIPTION:Please contact Democratic Women’s Caucus Leadership for additional detail
URL:https://www.princewilliamdemocrats.com/event/2021-06-23-7pm-democratic-womens-caucus-monthly-meeting/
LOCATION:Virtual Event
CATEGORIES:PWC Democratic Women's Event
ATTACH;FMTTYPE=image/jpeg:https://www.princewilliamdemocrats.com/wp-content/uploads/2021/02/prince-william-county-democratic-womens-caucus-e1613424539900.jpg
END:VEVENT
BEGIN:VEVENT
DTSTART;TZID=UTC:20210623T190000
DTEND;TZID=UTC:20210623T203000
DTSTAMP:20260422T225254
CREATED:20210617T112218Z
LAST-MODIFIED:20210617T112218Z
UID:10001126-1624474800-1624480200@www.princewilliamdemocrats.com
SUMMARY:Affordable Housing Virtual Town Hall with Supervisors Margaret Franklin and Kenny Boddye
DESCRIPTION:To Register: Click Here\n\nAffordable Housing – What is it? Why do we need it? How do we get there?\n\n\n\n\n\n\nAbout this event \n\n\n“Housing is the missing ingredient to our region’s prosperity\, and the smartest investment we could make is to add it back in.” \nPrince William is one of the few Northern Virginia jurisdictions to not have affordable housing policies or funding. Now\, as the County updates its Comprehensive and Strategic Plans\, Supervisors Franklin and Boddye invite you to join them in a town hall on this important topic. \nA Community Foundation study of housing in the DC Metro region found critical gaps in housing affordability across jurisdictions and income levels. This has real economic and quality of life consequences for the community as a whole. “Without stable housing\, it is difficult for people to obtain economic security\, a quality education\, good health and employment\,” said Terri Lee Freeman\, president of The Community Foundation for the National Capital Region. \nEven middle-income households working in fields such as education\, public safety and nursing can find themselves priced out of the market. It will take innovative policies and community collaboration to find a path forward. \nThe Supervisors will be joined by Metropolitan Washington Council of Governments Housing Programs Manager Hillary Chapman\, PWC Community Development Director Rebecca Horner and PWC Planning Director Parag Agrawal. Together\, the panel will take a local lens to this regional challenge\, welcoming audience input via the Zoom chat. You can also submit your questions in advance during the registration process\, using the link below.
URL:https://www.princewilliamdemocrats.com/event/2021-06-23-7pm-affordable-housing-virtual-town-hall-with-supervisors-margaret-franklin-and-kenny-boddye/
LOCATION:Virtual Event
CATEGORIES:Prince William County Event
ATTACH;FMTTYPE=image/jpeg:https://www.princewilliamdemocrats.com/wp-content/uploads/2021/06/2021-affordable-housing-virtual-town-hall.jpg
END:VEVENT
BEGIN:VEVENT
DTSTART;TZID=UTC:20210624T190000
DTEND;TZID=UTC:20210624T200000
DTSTAMP:20260422T225254
CREATED:20210601T230055Z
LAST-MODIFIED:20210601T230055Z
UID:10001112-1624561200-1624564800@www.princewilliamdemocrats.com
SUMMARY:PWC Democratic Monthly Meeting
DESCRIPTION:Please contact PWC Democratic Leadership for additional details.
URL:https://www.princewilliamdemocrats.com/event/2021-06-24-7pm-pwc-democratic-monthly-meeting/
LOCATION:Virtual Event
CATEGORIES:District Meeting,Prince William County Democratic Virtual Event
ATTACH;FMTTYPE=image/jpeg:https://www.princewilliamdemocrats.com/wp-content/uploads/2021/02/democratic-monthly-meeting.jpg
END:VEVENT
BEGIN:VEVENT
DTSTART;TZID=UTC:20210625T190000
DTEND;TZID=UTC:20210625T200000
DTSTAMP:20260422T225254
CREATED:20210621T233034Z
LAST-MODIFIED:20210621T233034Z
UID:10001128-1624647600-1624651200@www.princewilliamdemocrats.com
SUMMARY:Virtual Show and PRIDE Celebration - Live on Zoom
DESCRIPTION:Fore More Details: Click Here \nJoin FCDC’s LGBTQA+ Caucus\, the Fairfax Young Democrats\, and FCDC’s Outreach Committee for their first virtual drag show fundraiser! \nThis event will celebrate Pride Month\, highlight our LGBTQ+ Community\, and bring a lot of fun directly to your home! \nWith the help of GMU’s Drag Performers and our host\, Providence School Board Member Karl Frisch\, we are helping to raise funds for two local LGBTQ+ organizations doing amazing work for our LGBTQ+ community. Safe Space NOVA is dedicated to providing a safe\, accepting\, and supportive environment to combat social stigmas\, bullying and other challenges faced by LGBTQ+ youth. Casa BruMar’s mission is to bridge the gap that leaves the LGBTQ+ community behind when it comes to equality that is equitable in education\, social services\, and human dignity in the Commonwealth of Virginia and in Prince William County. \nIn lieu of traditional sponsorship levels\, we kindly ask attendees to make donations to both organizations to support their programs (information included below). \nThis form is for individuals ONLY. Campaigns\, unions and other organizations must pay by check and mail a completed paper registration.
URL:https://www.princewilliamdemocrats.com/event/2021-06-25-7pm-virtual-show-and-pride-celebration/
LOCATION:Virtual Event
CATEGORIES:Virginia Event
ATTACH;FMTTYPE=image/png:https://www.princewilliamdemocrats.com/wp-content/uploads/2021/06/2021-moving-virginia-forward.png
END:VEVENT
BEGIN:VEVENT
DTSTART;VALUE=DATE:20210626
DTEND;VALUE=DATE:20210627
DTSTAMP:20260422T225254
CREATED:20210614T120744Z
LAST-MODIFIED:20210614T120744Z
UID:10000976-1624665600-1624751999@www.princewilliamdemocrats.com
SUMMARY:Unification Party
DESCRIPTION:Unification Party
URL:https://www.princewilliamdemocrats.com/event/2021-06-26-unification-party/
CATEGORIES:Prince William County Democratic Event
ATTACH;FMTTYPE=image/png:https://www.princewilliamdemocrats.com/wp-content/uploads/2020/05/democratic-party-icon-sm.png
END:VEVENT
BEGIN:VEVENT
DTSTART;TZID=UTC:20210626T100000
DTEND;TZID=UTC:20210626T130000
DTSTAMP:20260422T225254
CREATED:20210628T142353Z
LAST-MODIFIED:20210628T142353Z
UID:10001134-1624701600-1624712400@www.princewilliamdemocrats.com
SUMMARY:Pride Month Canvass Kick-Off with Briana Sewell and Delegate Danica Roem
DESCRIPTION:For More Details: Click Here \nJoin Team Sewell and Team Roem for a Pride Canvass launch! We’ll be knocking on doors and talking with voters in HD-51! Please bring water\, a friend\, and some good walking shoes!
URL:https://www.princewilliamdemocrats.com/event/2021-06-26-10am-pride-month-canvas-kickoff/
CATEGORIES:Prince William County Elections
ATTACH;FMTTYPE=image/jpeg:https://www.princewilliamdemocrats.com/wp-content/uploads/2021/06/2021-briana-sewell-canvas-kickoff.jpg
END:VEVENT
BEGIN:VEVENT
DTSTART;TZID=UTC:20210627T140000
DTEND;TZID=UTC:20210627T150000
DTSTAMP:20260422T225254
CREATED:20210628T140452Z
LAST-MODIFIED:20210628T140538Z
UID:10001130-1624802400-1624806000@www.princewilliamdemocrats.com
SUMMARY:Candi King Voting Matters Celebration
DESCRIPTION:For More Details: Click Here \nCome and celebrate our victory with Delegate Candi King! We will be hosting a family-friendly event with food and refreshments! Dress comfortably and get ready to have a great time! Make sure to sign up to get the location!
URL:https://www.princewilliamdemocrats.com/event/2021-06-27-2pm-candi-king-voting-matters-celebration/
LOCATION:Virtual Event
CATEGORIES:Prince William County Delegate Event
ATTACH;FMTTYPE=image/png:https://www.princewilliamdemocrats.com/wp-content/uploads/2021/06/2021-candio-king-voting-matters-celebration.png
END:VEVENT
BEGIN:VEVENT
DTSTART;TZID=UTC:20210627T160000
DTEND;TZID=UTC:20210627T180000
DTSTAMP:20260422T225254
CREATED:20210614T123625Z
LAST-MODIFIED:20210614T123625Z
UID:10001120-1624809600-1624816800@www.princewilliamdemocrats.com
SUMMARY:Briana Sewell For Delegate
DESCRIPTION:Sunday\, June 27th from 4pm-6pm – Address Provided Upon RSVP
URL:https://www.princewilliamdemocrats.com/event/2021-06-27-4pm-briana-sewell-for-delegate/
CATEGORIES:Prince William County Elections
ATTACH;FMTTYPE=image/png:https://www.princewilliamdemocrats.com/wp-content/uploads/2021/06/2021-sewell-for-delegate-fundraiser-june-27th.png
END:VEVENT
BEGIN:VEVENT
DTSTART;TZID=UTC:20210630T120000
DTEND;TZID=UTC:20210630T130000
DTSTAMP:20260422T225254
CREATED:20210629T184936Z
LAST-MODIFIED:20210629T184936Z
UID:10001135-1625054400-1625058000@www.princewilliamdemocrats.com
SUMMARY:Future of Transit Continued with Supervisors Angry and Boddye
DESCRIPTION:For More Details: Click Here \nThe constituents who joined us for the “Future of Transit” town hall had so many great questions that we couldn’t get to them all in one session. Occoquan District Supervisor Kenny Boddye and Neabsco District Supervisor Victor Angry will continue the conversation during a live stream at 12 noon\, Wednesday\, June 30\, discussing transit priorities for the Occoquan and Neabsco Districts of Prince William County.
URL:https://www.princewilliamdemocrats.com/event/2021-06-30-12pm-future-of-transit-continued-with-supervisors-angry-and-boddye/
LOCATION:Virtual Event
CATEGORIES:Prince William County Event
ATTACH;FMTTYPE=image/jpeg:https://www.princewilliamdemocrats.com/wp-content/uploads/2021/06/2021-future-transit-continued.jpg
END:VEVENT
BEGIN:VEVENT
DTSTART;TZID=UTC:20210701T193000
DTEND;TZID=UTC:20210701T203000
DTSTAMP:20260422T225254
CREATED:20210630T132036Z
LAST-MODIFIED:20210630T132036Z
UID:10001137-1625167800-1625171400@www.princewilliamdemocrats.com
SUMMARY:Prince William Young Democrats Meeting
DESCRIPTION:Please contact Prince William Young Democrats Leadership for additional detail
URL:https://www.princewilliamdemocrats.com/event/2021-07-01-730pm-prince-william-young-democrats-meeting/
LOCATION:Virtual Event
CATEGORIES:Prince William Young Democrats Event
ATTACH;FMTTYPE=image/png:https://www.princewilliamdemocrats.com/wp-content/uploads/2021/01/cropped-prince-william-county-young-dems-1.png
END:VEVENT
BEGIN:VEVENT
DTSTART;TZID=UTC:20210703T090000
DTEND;TZID=UTC:20210703T120000
DTSTAMP:20260422T225254
CREATED:20210630T132912Z
LAST-MODIFIED:20210630T132912Z
UID:10001140-1625302800-1625313600@www.princewilliamdemocrats.com
SUMMARY:Annual Dale City 4th of July Parade
DESCRIPTION:Come and join the Prince William Democratic Committee at the Annual Dale City 4th of July Parade\, featuring Congressman Gerry Connolly\, LT Governor candidate Delegate Hala Ayala\, and Attorney General Mark Herring. \nWe will assemble at the Dale City Boys and Girls Club\, located at 5070 Dale Blvd\, Woodbridge 22193 at 9:00AM. \nOur spot in line is #78. \nPlease no candy.
URL:https://www.princewilliamdemocrats.com/event/2021-07-03-9am-annual-dale-city-4th-of-july-parade/
LOCATION:Dale City Boys and Girls Club\, 5070 Dale Blvd\, Woodbridge\, VA\, 22193\, United States
CATEGORIES:Prince William County Event
ATTACH;FMTTYPE=image/png:https://www.princewilliamdemocrats.com/wp-content/uploads/2021/06/2021-prince-william-county-democrats.png
END:VEVENT
BEGIN:VEVENT
DTSTART;TZID=UTC:20210707T180000
DTEND;TZID=UTC:20210707T200000
DTSTAMP:20260422T225254
CREATED:20210707T010528Z
LAST-MODIFIED:20210707T010528Z
UID:10001160-1625680800-1625688000@www.princewilliamdemocrats.com
SUMMARY:Board of County Supervisors Meeting - Planning Commission Meeting
DESCRIPTION:Board Of County Supervisors –  PWC Website (More Info Click Here) \n\nMeetings are at 2pm and 7:30pm (times and dates may change\, please check link above and agenda)\n\nSign Up To Speak (More Info Click Here) \n*Note: To sign up to speak virtually the deadline is the day before the meeting (Monday) at 5pm\, if you attend the meeting in person you can sign up the day of. \nPage Resources Include The Following \n\nLive Video\, Brief & Archives (More Info Click Here)\n\nBoard Agenda\nAgenda\nBriefs\nVideo Podcast\nArchive\n\n\nCurrent Agenda\nSpeak Up! Prince William\nMeeting Schedule\nDistrict Map\nRules of Procedures\nStatement of Economic Interest\nSign Up for eNotifications\nWho are Your Elected Officials\n\n*Because changes can occur\, please navigate to the above links for the most up to date times\, locations\, agendas and details about meetings.
URL:https://www.princewilliamdemocrats.com/event/2021-07-07-6pm-board-of-county-supervisors-meeting-planning-commission-meeting/
LOCATION:McCoart\, 1 County Complex Ct\, Woodbridge\, VA\, 22192\, United States
CATEGORIES:PWC Board of County Supervisors Meeting
ATTACH;FMTTYPE=image/png:https://www.princewilliamdemocrats.com/wp-content/uploads/2021/03/pwc-bocs-meetings.png
END:VEVENT
BEGIN:VEVENT
DTSTART;TZID=UTC:20210710T090000
DTEND;TZID=UTC:20210710T100000
DTSTAMP:20260422T225254
CREATED:20210706T234737Z
LAST-MODIFIED:20210706T234757Z
UID:10001142-1625907600-1625911200@www.princewilliamdemocrats.com
SUMMARY:Neabsco District Monthly Meeting
DESCRIPTION:Please contact Neabsco District Leadership for additional details.
URL:https://www.princewilliamdemocrats.com/event/2021-07-10-9am-neabsco-district-monthly-meeting/
LOCATION:Virtual Event
CATEGORIES:District Meeting
ATTACH;FMTTYPE=image/jpeg:https://www.princewilliamdemocrats.com/wp-content/uploads/2021/02/democratic-monthly-meeting.jpg
END:VEVENT
BEGIN:VEVENT
DTSTART;TZID=UTC:20210710T170000
DTEND;TZID=UTC:20210710T200000
DTSTAMP:20260422T225254
CREATED:20210708T203007Z
LAST-MODIFIED:20210708T204725Z
UID:10001164-1625936400-1625947200@www.princewilliamdemocrats.com
SUMMARY:LT and Gwin are leaving us!! Please come help say goodbye to them... Prince William County style!
DESCRIPTION:Saturday July 10\, 2021 at 5pm – 8pm.
URL:https://www.princewilliamdemocrats.com/event/2021-07-10-5pm-lt-and-gwin-are-leaving-us-please-come-help-say-goodbye-to-them-prince-william-county-style/
CATEGORIES:Prince William County Democratic Event
ATTACH;FMTTYPE=image/jpeg:https://www.princewilliamdemocrats.com/wp-content/uploads/2021/07/2021-good-bye-lt.jpg
END:VEVENT
BEGIN:VEVENT
DTSTART;TZID=UTC:20210710T180000
DTEND;TZID=UTC:20210710T210000
DTSTAMP:20260422T225254
CREATED:20210628T141648Z
LAST-MODIFIED:20210710T190842Z
UID:10001132-1625940000-1625950800@www.princewilliamdemocrats.com
SUMMARY:Inaugural Blues Barbecue Monae Nickerson for Dumfries Town Council
DESCRIPTION:For More Details: Click Here \nPlease join us at the Inaugural Blues and Barbecue Event in support of the re-election of Monae Nickerson for Dumfries Town Council!\nThe event will take place on Saturday\, July 10th\, from 6:00 PM to 9:00 PM in Prince William County\, the address will be provided upon RSVP/ticket purchase.\nWe will enjoy Blues by Memphis Gold\, food\, guest speakers\, and fireworks!
URL:https://www.princewilliamdemocrats.com/event/2021-07-10-6pm-inaugural-blues-barbecue-monae-nickerson-for-dumfries-town-council/
CATEGORIES:Prince William County Elections
ATTACH;FMTTYPE=image/jpeg:https://www.princewilliamdemocrats.com/wp-content/uploads/2021/06/2021-inaugural-blues-barbecue-monae-nickerson.jpg
END:VEVENT
BEGIN:VEVENT
DTSTART;TZID=UTC:20210712T190000
DTEND;TZID=UTC:20210712T200000
DTSTAMP:20260422T225254
CREATED:20210706T234425Z
LAST-MODIFIED:20210706T234425Z
UID:10001141-1626116400-1626120000@www.princewilliamdemocrats.com
SUMMARY:Gainesville District Monthly Meeting
DESCRIPTION:Please contact Gainesville District Leadership for additional details.
URL:https://www.princewilliamdemocrats.com/event/2021-07-12-7pm-gainesville-district-monthly-meeting-2/
LOCATION:Virtual Event
CATEGORIES:District Meeting
ATTACH;FMTTYPE=image/jpeg:https://www.princewilliamdemocrats.com/wp-content/uploads/2021/02/democratic-monthly-meeting.jpg
END:VEVENT
BEGIN:VEVENT
DTSTART;TZID=UTC:20210712T193000
DTEND;TZID=UTC:20210712T203000
DTSTAMP:20260422T225254
CREATED:20210305T155124Z
LAST-MODIFIED:20210305T155150Z
UID:10001033-1626118200-1626121800@www.princewilliamdemocrats.com
SUMMARY:Occoquan District Monthly Meeting
DESCRIPTION:Please contact Occoquan District Leadership for additional details. \nContact #: 202-255-6714 \nOMDDC meets at 730 second Monday of each month
URL:https://www.princewilliamdemocrats.com/event/2021-07-12-730pm-occoquan-district-monthly-meeting/
CATEGORIES:District Meeting
ATTACH;FMTTYPE=image/jpeg:https://www.princewilliamdemocrats.com/wp-content/uploads/2021/02/democratic-monthly-meeting.jpg
END:VEVENT
BEGIN:VEVENT
DTSTART;TZID=UTC:20210713T140000
DTEND;TZID=UTC:20210713T170000
DTSTAMP:20260422T225254
CREATED:20210707T010657Z
LAST-MODIFIED:20210707T010714Z
UID:10001162-1626184800-1626195600@www.princewilliamdemocrats.com
SUMMARY:Board of County Supervisors Meeting
DESCRIPTION:Board Of County Supervisors –  PWC Website (More Info Click Here) \n\nMeetings are at 2pm and 7:30pm (times and dates may change\, please check link above and agenda)\n\nSign Up To Speak (More Info Click Here) \n*Note: To sign up to speak virtually the deadline is the day before the meeting (Monday) at 5pm\, if you attend the meeting in person you can sign up the day of. \nPage Resources Include The Following \n\nLive Video\, Brief & Archives (More Info Click Here)\n\nBoard Agenda\nAgenda\nBriefs\nVideo Podcast\nArchive\n\n\nCurrent Agenda\nSpeak Up! Prince William\nMeeting Schedule\nDistrict Map\nRules of Procedures\nStatement of Economic Interest\nSign Up for eNotifications\nWho are Your Elected Officials\n\n*Because changes can occur\, please navigate to the above links for the most up to date times\, locations\, agendas and details about meetings.
URL:https://www.princewilliamdemocrats.com/event/2021-07-13-2pm-board-of-county-supervisors-meeting-2/
LOCATION:McCoart\, 1 County Complex Ct\, Woodbridge\, VA\, 22192\, United States
CATEGORIES:PWC Board of County Supervisors Meeting
ATTACH;FMTTYPE=image/png:https://www.princewilliamdemocrats.com/wp-content/uploads/2021/03/pwc-bocs-meetings.png
END:VEVENT
BEGIN:VEVENT
DTSTART;TZID=UTC:20210715T183000
DTEND;TZID=UTC:20210715T200000
DTSTAMP:20260422T225254
CREATED:20210720T200538Z
LAST-MODIFIED:20210720T200844Z
UID:10001168-1626373800-1626379200@www.princewilliamdemocrats.com
SUMMARY:Attend The Racial & Social Justice Commission Meeting!
DESCRIPTION:For More Details: Click Here
URL:https://www.princewilliamdemocrats.com/event/2021-07-15-630pm-attend-july-2021-racial-social-justice-commission-meeting/
LOCATION:McCoart\, 1 County Complex Ct\, Woodbridge\, VA\, 22192\, United States
CATEGORIES:Prince William County Event
ATTACH;FMTTYPE=image/jpeg:https://www.princewilliamdemocrats.com/wp-content/uploads/2021/07/2021-racial-and-social-justic-commission.jpg
END:VEVENT
BEGIN:VEVENT
DTSTART;TZID=UTC:20210716T160000
DTEND;TZID=UTC:20210716T180000
DTSTAMP:20260422T225254
CREATED:20210710T190328Z
LAST-MODIFIED:20210710T190813Z
UID:10001166-1626451200-1626458400@www.princewilliamdemocrats.com
SUMMARY:Join Senator Tim Kaine and Michelle Maldonado for HAPPY HOUR!
DESCRIPTION:Join us Friday\, July 16th from 4 – 6 PM for a Happy Hour with U.S. Senator Tim Kaine! \nWe’ll be getting together at Zandra’s Taqueria (9114 Center Street) in Old Town Manassas. Street parking is available or you can park at the garage next to the Manassas train station. \nDue to space limitations\, this is a ticketed event. You may purchase a ticket online using this form\, or pay by check at the door. All proceeds from the event go towards helping us hold onto this critical seat and maintaining our Democratic majority in the General Assembly. \nAll checks should be made payable to “Friends of Michelle Maldonado.”
URL:https://www.princewilliamdemocrats.com/event/2021-07-16-4pm-join-senator-tim-kaine-and-michelle-maldonado-for-happy-hour/
LOCATION:Zandras Taqueria\, 9114 Center St.\, Manassas\, VA\, 20110\, United States
CATEGORIES:Prince William County Democratic Event
ATTACH;FMTTYPE=image/jpeg:https://www.princewilliamdemocrats.com/wp-content/uploads/2021/07/2021-happy-hour-michelle-maldonado-tim-kaine.jpg
END:VEVENT
BEGIN:VEVENT
DTSTART;TZID=UTC:20210716T170000
DTEND;TZID=UTC:20210716T180000
DTSTAMP:20260422T225254
CREATED:20210708T205147Z
LAST-MODIFIED:20210708T205216Z
UID:10001165-1626454800-1626458400@www.princewilliamdemocrats.com
SUMMARY:Help Dan Helmer return to the State House.
DESCRIPTION:Don’t miss this opportunity to meet Senator Mark Warner and help Dan Helmer return to the State House. The RNC has declared Dan’s seat as the most vulnerable in NOVA and is flooding money into his opponent. Help keep VA blue!!!
URL:https://www.princewilliamdemocrats.com/event/2021-07-16-5pm-dan-helmer-return-to-the-state-house/
CATEGORIES:Prince William County Democratic Event
ATTACH;FMTTYPE=image/jpeg:https://www.princewilliamdemocrats.com/wp-content/uploads/2021/07/2021-dan-helmer-guest-senator-mark-warner.jpg
END:VEVENT
BEGIN:VEVENT
DTSTART;TZID=UTC:20210717T090000
DTEND;TZID=UTC:20210717T110000
DTSTAMP:20260422T225254
CREATED:20210707T000915Z
LAST-MODIFIED:20210707T000934Z
UID:10001152-1626512400-1626519600@www.princewilliamdemocrats.com
SUMMARY:Coles District Monthly Meeting
DESCRIPTION:Please contact Coles District Leadership for additional details.
URL:https://www.princewilliamdemocrats.com/event/2021-07-17-9am-coles-district-monthly-meeting/
LOCATION:Virtual Event
CATEGORIES:District Meeting
ATTACH;FMTTYPE=image/jpeg:https://www.princewilliamdemocrats.com/wp-content/uploads/2021/02/democratic-monthly-meeting.jpg
END:VEVENT
BEGIN:VEVENT
DTSTART;TZID=UTC:20210717T100000
DTEND;TZID=UTC:20210717T110000
DTSTAMP:20260422T225254
CREATED:20210707T000319Z
LAST-MODIFIED:20210707T000319Z
UID:10001148-1626516000-1626519600@www.princewilliamdemocrats.com
SUMMARY:Potomac District Monthly Meeting
DESCRIPTION:Please contact Potomac District Leadership for additional details.
URL:https://www.princewilliamdemocrats.com/event/2021-07-17-10am-potomac-district-monthly-meeting/
LOCATION:Virtual Event
CATEGORIES:District Meeting
ATTACH;FMTTYPE=image/jpeg:https://www.princewilliamdemocrats.com/wp-content/uploads/2021/02/democratic-monthly-meeting.jpg
END:VEVENT
BEGIN:VEVENT
DTSTART;TZID=UTC:20210717T103000
DTEND;TZID=UTC:20210717T113000
DTSTAMP:20260422T225254
CREATED:20210707T000457Z
LAST-MODIFIED:20210707T000519Z
UID:10001150-1626517800-1626521400@www.princewilliamdemocrats.com
SUMMARY:Woodbridge District Monthly Meeting
DESCRIPTION:Please contact Woodbridge District Leadership for additional details.
URL:https://www.princewilliamdemocrats.com/event/2021-07-17-1030am-woodbridge-district-monthly-meeting/
LOCATION:Virtual Event
CATEGORIES:District Meeting
ATTACH;FMTTYPE=image/jpeg:https://www.princewilliamdemocrats.com/wp-content/uploads/2021/02/democratic-monthly-meeting.jpg
END:VEVENT
BEGIN:VEVENT
DTSTART;TZID=UTC:20210717T103000
DTEND;TZID=UTC:20210717T123000
DTSTAMP:20260422T225254
CREATED:20210707T003907Z
LAST-MODIFIED:20210707T004851Z
UID:10001156-1626517800-1626525000@www.princewilliamdemocrats.com
SUMMARY:Support our Democratic House of Delegates Candidates!! Join our Canvass Launch In Dumfries
DESCRIPTION:For More Details: Click Here \n  \nSave the date!!!!!! The Potomac Democratic Committee is hosting a joint canvass launch on July 17 at 10:30 am for: \nHD 31 Delegate Elizabeth Guzman\, \nHD 2 Delegate Candi King \nHD 52 Delegate Luke Torian. \nWe will be talking to voters about the importance of keeping the House of Delegates Blue and preserving the legislative gains that are helping working families. When we vote\, we win!!!! Refreshments will be served.
URL:https://www.princewilliamdemocrats.com/event/2021-07-17-1030am-potomac-dems-canvassing/
LOCATION:Dumfries Town Hall\, 17749 Main St.\, Dumfries\, VA\, United States
CATEGORIES:Prince William County Democratic Event
ATTACH;FMTTYPE=image/jpeg:https://www.princewilliamdemocrats.com/wp-content/uploads/2021/07/2021-prince-william-county-potomac-district-get-out-the-vote.jpg
END:VEVENT
BEGIN:VEVENT
DTSTART;TZID=UTC:20210717T150000
DTEND;TZID=UTC:20210717T170000
DTSTAMP:20260422T225254
CREATED:20210707T005146Z
LAST-MODIFIED:20210711T163525Z
UID:10001158-1626534000-1626541200@www.princewilliamdemocrats.com
SUMMARY:Albert E. Brooks Sr. Commemorative
DESCRIPTION:For More Details: Click Here\n\nPlease join the African American Democratic Club – PWC and the Brooks family on 17 July 2021\, 3:00PM at Ebenezer Baptist Church\, 13020 Telegraph Road\, Woodbridge VA 22192 to celebrate the life and legacy of ALBERT EARL BROOKS\, SR.\n\nTo attend\, please register with the enclosed Eventbrite link. Click Here
URL:https://www.princewilliamdemocrats.com/event/2021-07-17-3pm-albert-e-brooks-sr-commemorative/
LOCATION:Ebenezer Baptist Church\, 13020 Telegraph Rd\, Woodbridge\, VA\, 22192\, United States
CATEGORIES:Prince William County Event
ATTACH;FMTTYPE=image/jpeg:https://www.princewilliamdemocrats.com/wp-content/uploads/2021/07/2021-albert-brooks-commemorative.jpg
END:VEVENT
BEGIN:VEVENT
DTSTART;TZID=UTC:20210719T193000
DTEND;TZID=UTC:20210719T203000
DTSTAMP:20260422T225254
CREATED:20210706T235441Z
LAST-MODIFIED:20210706T235506Z
UID:10001144-1626723000-1626726600@www.princewilliamdemocrats.com
SUMMARY:Brentsville District Monthly Meeting
DESCRIPTION:Please contact Brentsville District Leadership for additional details.
URL:https://www.princewilliamdemocrats.com/event/2021-07-19-730pm-brentsville-district-monthly-meeting/
LOCATION:Virtual Event
CATEGORIES:District Meeting
ATTACH;FMTTYPE=image/jpeg:https://www.princewilliamdemocrats.com/wp-content/uploads/2021/02/democratic-monthly-meeting.jpg
END:VEVENT
BEGIN:VEVENT
DTSTART;TZID=UTC:20210720T140000
DTEND;TZID=UTC:20210720T170000
DTSTAMP:20260422T225254
CREATED:20210707T010940Z
LAST-MODIFIED:20210707T011011Z
UID:10001163-1626789600-1626800400@www.princewilliamdemocrats.com
SUMMARY:Board of County Supervisors Meeting
DESCRIPTION:Board Of County Supervisors –  PWC Website (More Info Click Here) \n\nMeetings are at 2pm and 7:30pm (times and dates may change\, please check link above and agenda)\n\nSign Up To Speak (More Info Click Here) \n*Note: To sign up to speak virtually the deadline is the day before the meeting (Monday) at 5pm\, if you attend the meeting in person you can sign up the day of. \nPage Resources Include The Following \n\nLive Video\, Brief & Archives (More Info Click Here)\n\nBoard Agenda\nAgenda\nBriefs\nVideo Podcast\nArchive\n\n\nCurrent Agenda\nSpeak Up! Prince William\nMeeting Schedule\nDistrict Map\nRules of Procedures\nStatement of Economic Interest\nSign Up for eNotifications\nWho are Your Elected Officials\n\n*Because changes can occur\, please navigate to the above links for the most up to date times\, locations\, agendas and details about meetings.
URL:https://www.princewilliamdemocrats.com/event/2021-07-20-2pm-board-of-county-supervisors-meeting-2/
LOCATION:McCoart\, 1 County Complex Ct\, Woodbridge\, VA\, 22192\, United States
CATEGORIES:PWC Board of County Supervisors Meeting
ATTACH;FMTTYPE=image/png:https://www.princewilliamdemocrats.com/wp-content/uploads/2021/03/pwc-bocs-meetings.png
END:VEVENT
BEGIN:VEVENT
DTSTART;TZID=UTC:20210722T190000
DTEND;TZID=UTC:20210722T203000
DTSTAMP:20260422T225254
CREATED:20210706T235743Z
LAST-MODIFIED:20210720T201444Z
UID:10001146-1626980400-1626985800@www.princewilliamdemocrats.com
SUMMARY:PWC Democratic Monthly Meeting
DESCRIPTION:Please contact PWC Democratic Leadership for additional details.
URL:https://www.princewilliamdemocrats.com/event/2021-07-22-7pm-pwc-democratic-monthly-meeting/
LOCATION:Virtual Event
CATEGORIES:District Meeting
ATTACH;FMTTYPE=image/jpeg:https://www.princewilliamdemocrats.com/wp-content/uploads/2021/02/democratic-monthly-meeting.jpg
END:VEVENT
BEGIN:VEVENT
DTSTART;TZID=UTC:20210724T180000
DTEND;TZID=UTC:20210724T200000
DTSTAMP:20260422T225254
CREATED:20210720T202554Z
LAST-MODIFIED:20210720T204139Z
UID:10000993-1627149600-1627156800@www.princewilliamdemocrats.com
SUMMARY:Join us in supporting Del. Danica Roem's re-election campaign!
DESCRIPTION:To Register: Click Here \nOn Saturday\, July 24th\, join Mayor Jeanette Rishell\, Brian Pace\, and Christopher Sexton for a fundraiser in support of Del. Danica Roem\, who is running for re-election in VA’s 13th District. We have special guests to announce so buy a ticket to join in the fun!
URL:https://www.princewilliamdemocrats.com/event/2021-07-24-6pm-join-us-in-supporting-del-danica-roems-re-election-campaign/
CATEGORIES:Prince William County Democratic Event
ATTACH;FMTTYPE=image/png:https://www.princewilliamdemocrats.com/wp-content/uploads/2021/07/2021-danica-roem-fundraiser-with-mayor-jeanette-rishell.png
END:VEVENT
END:VCALENDAR