BEGIN:VCALENDAR
VERSION:2.0
PRODID:-//Prince William County Democrats - ECPv6.15.20//NONSGML v1.0//EN
CALSCALE:GREGORIAN
METHOD:PUBLISH
X-WR-CALNAME:Prince William County Democrats
X-ORIGINAL-URL:https://www.princewilliamdemocrats.com
X-WR-CALDESC:Events for Prince William County Democrats
REFRESH-INTERVAL;VALUE=DURATION:PT1H
X-Robots-Tag:noindex
X-PUBLISHED-TTL:PT1H
BEGIN:VTIMEZONE
TZID:UTC
BEGIN:STANDARD
TZOFFSETFROM:+0000
TZOFFSETTO:+0000
TZNAME:UTC
DTSTART:20210101T000000
END:STANDARD
END:VTIMEZONE
BEGIN:VEVENT
DTSTART;TZID=UTC:20220617T180000
DTEND;TZID=UTC:20220617T200000
DTSTAMP:20260421T205808
CREATED:20220613T002006Z
LAST-MODIFIED:20220613T002006Z
UID:10001185-1655488800-1655496000@www.princewilliamdemocrats.com
SUMMARY:Gainesville and Brentsville Support for Congresswoman Jennifer Wexton
DESCRIPTION:For Support and Additional Details: Click Here
URL:https://www.princewilliamdemocrats.com/event/2022-06-17-6pm-gainesville-and-brentsville-support-for-congresswoman-jennifer-wexton/
CATEGORIES:Prince William County Democratic Event
ATTACH;FMTTYPE=image/png:https://www.princewilliamdemocrats.com/wp-content/uploads/2022/06/2022-gainesville-brentsville-support-jennifer-wexton.png
END:VEVENT
BEGIN:VEVENT
DTSTART;TZID=UTC:20220618T100000
DTEND;TZID=UTC:20220618T110000
DTSTAMP:20260421T205808
CREATED:20220608T140251Z
LAST-MODIFIED:20220608T140318Z
UID:10001178-1655546400-1655550000@www.princewilliamdemocrats.com
SUMMARY:Potomac District Monthly Meeting
DESCRIPTION:Please contact Potomac District Leadership for additional details.
URL:https://www.princewilliamdemocrats.com/event/2022-06-18-10am-potomac-district-monthly-meeting-2/
LOCATION:Virtual Event
CATEGORIES:District Meeting
ATTACH;FMTTYPE=image/jpeg:https://www.princewilliamdemocrats.com/wp-content/uploads/2021/02/democratic-monthly-meeting.jpg
END:VEVENT
BEGIN:VEVENT
DTSTART;TZID=UTC:20220618T100000
DTEND;TZID=UTC:20220618T110000
DTSTAMP:20260421T205808
CREATED:20220613T012616Z
LAST-MODIFIED:20220613T012643Z
UID:10001189-1655546400-1655550000@www.princewilliamdemocrats.com
SUMMARY:Historical Commission Marker Unveiling - Juneteenth Celebration for the Historical Marker
DESCRIPTION:All are welcome to join us for the unveiling of the Historical Marker at the Dumfries Slave & Free African American Cemetery. Please come out and honor those that helped build this country!
URL:https://www.princewilliamdemocrats.com/event/2022-06-18-10am-historical-commission-marker-unveiling-juneteenth-celebration-for-the-historical-marker/
CATEGORIES:Prince William County Event
ATTACH;FMTTYPE=image/jpeg:https://www.princewilliamdemocrats.com/wp-content/uploads/2022/06/2022-historical-commission-marker.jpg
END:VEVENT
BEGIN:VEVENT
DTSTART;TZID=UTC:20220618T170000
DTEND;TZID=UTC:20220618T190000
DTSTAMP:20260421T205808
CREATED:20220613T010344Z
LAST-MODIFIED:20220613T010416Z
UID:10001187-1655571600-1655578800@www.princewilliamdemocrats.com
SUMMARY:Danica First Senate Fundraiser
DESCRIPTION:For More Information: Click Here \nJoin Brian Pace and Christopher Sexton in Manassas on Saturday\, June 18th to kick off Danica Roem’s campaign for state senate in the newly drawn 30th district. It will be a great evening of fun and drinks.\n\nhttps://secure.actblue.com/donate/danicasenatekickoff\n\nKeeping the Democratic majority in the Virginia Senate will be essential to protecting Virginia’s progress. Helping elect Danica to the State Senate is the first step to holding the majority\, while ensuring we continue to fix Rt. 28\, protect the environment in Western PWC\, and make Virginia an inclusive commonwealth.\n 
URL:https://www.princewilliamdemocrats.com/event/2022-06-18-5pm-danica-first-senate-fundraiser/
CATEGORIES:Prince William County Democratic Event
ATTACH;FMTTYPE=image/jpeg:https://www.princewilliamdemocrats.com/wp-content/uploads/2022/06/2022-danicas-first-senate-fundraiser.jpg
END:VEVENT
BEGIN:VEVENT
DTSTART;TZID=UTC:20220620T190000
DTEND;TZID=UTC:20220620T200000
DTSTAMP:20260421T205808
CREATED:20220601T211448Z
LAST-MODIFIED:20220601T211517Z
UID:10001462-1655751600-1655755200@www.princewilliamdemocrats.com
SUMMARY:Brentsville District Monthly Meeting
DESCRIPTION:Please contact Brentsville District Leadership for additional details.
URL:https://www.princewilliamdemocrats.com/event/2022-06-20-7pm-brentsville-district-monthly-meeting/
CATEGORIES:District Meeting
ATTACH;FMTTYPE=image/jpeg:https://www.princewilliamdemocrats.com/wp-content/uploads/2021/02/democratic-monthly-meeting.jpg
END:VEVENT
BEGIN:VEVENT
DTSTART;TZID=UTC:20220622T190000
DTEND;TZID=UTC:20220622T210000
DTSTAMP:20260421T205808
CREATED:20220608T141943Z
LAST-MODIFIED:20220613T011421Z
UID:10001183-1655924400-1655931600@www.princewilliamdemocrats.com
SUMMARY:Town Hall with Supervisor Victor S. Angry on Transportation Projects and Initiatives
DESCRIPTION:
URL:https://www.princewilliamdemocrats.com/event/2022-06-22-7pm-town-hall-with-supervisor-victor-s-angry-on-transportation-projects-and-initiatives/
LOCATION:Beville Middle School\, 4901 Dale Blvd\, Woodbridge\, VA\, 22193\, United States
CATEGORIES:Prince William County Event
ATTACH;FMTTYPE=image/jpeg:https://www.princewilliamdemocrats.com/wp-content/uploads/2022/06/2022-supervisor-angry-transportation-projects.jpg
END:VEVENT
BEGIN:VEVENT
DTSTART;TZID=UTC:20220623T190000
DTEND;TZID=UTC:20220623T210000
DTSTAMP:20260421T205808
CREATED:20220601T210913Z
LAST-MODIFIED:20220601T211240Z
UID:10001460-1656010800-1656018000@www.princewilliamdemocrats.com
SUMMARY:PWC Democratic Monthly Meeting
DESCRIPTION:Please contact PWC Democratic Leadership for additional details.
URL:https://www.princewilliamdemocrats.com/event/2022-06-23-7pm-pwc-democratic-monthly-meeting/
CATEGORIES:District Meeting
ATTACH;FMTTYPE=image/jpeg:https://www.princewilliamdemocrats.com/wp-content/uploads/2021/02/democratic-monthly-meeting.jpg
END:VEVENT
BEGIN:VEVENT
DTSTART;TZID=UTC:20220628T140000
DTEND;TZID=UTC:20220628T170000
DTSTAMP:20260421T205808
CREATED:20220601T192155Z
LAST-MODIFIED:20220601T192218Z
UID:10001453-1656424800-1656435600@www.princewilliamdemocrats.com
SUMMARY:Board of County Supervisors Meeting
DESCRIPTION:Board Of County Supervisors –  PWC Website (More Info Click Here) \n\nMeetings are at 2pm and 7:30pm (times and dates may change\, please check link above and agenda)\n\nSign Up To Speak (More Info Click Here) \n*Note: To sign up to speak virtually the deadline is the day before the meeting (Monday) at 5pm\, if you attend the meeting in person you can sign up the day of. \nPage Resources Include The Following \n\nLive Video\, Brief & Archives (More Info Click Here)\n\nBoard Agenda\nAgenda\nBriefs\nVideo Podcast\nArchive\n\n\nCurrent Agenda\nSpeak Up! Prince William\nMeeting Schedule\nDistrict Map\nRules of Procedures\nStatement of Economic Interest\nSign Up for eNotifications\nWho are Your Elected Officials\n\n*Because changes can occur\, please navigate to the above links for the most up to date times\, locations\, agendas and details about meetings.
URL:https://www.princewilliamdemocrats.com/event/2022-06-28-2pm-board-of-county-supervisors-meeting-2/
LOCATION:McCoart\, 1 County Complex Ct\, Woodbridge\, VA\, 22192\, United States
CATEGORIES:PWC Board of County Supervisors Meeting
ATTACH;FMTTYPE=image/png:https://www.princewilliamdemocrats.com/wp-content/uploads/2021/03/pwc-bocs-meetings.png
END:VEVENT
BEGIN:VEVENT
DTSTART;TZID=UTC:20220709T090000
DTEND;TZID=UTC:20220709T100000
DTSTAMP:20260421T205808
CREATED:20220704T014524Z
LAST-MODIFIED:20220704T014622Z
UID:10001474-1657357200-1657360800@www.princewilliamdemocrats.com
SUMMARY:Woodbridge District Monthly Meeting
DESCRIPTION:Please contact Woodbridge District Leadership for additional details.
URL:https://www.princewilliamdemocrats.com/event/2022-07-09-9am-woodbridge-district-monthly-meeting/
LOCATION:Virtual Event
CATEGORIES:District Meeting
ATTACH;FMTTYPE=image/jpeg:https://www.princewilliamdemocrats.com/wp-content/uploads/2021/02/democratic-monthly-meeting.jpg
END:VEVENT
BEGIN:VEVENT
DTSTART;TZID=UTC:20220709T090000
DTEND;TZID=UTC:20220709T100000
DTSTAMP:20260421T205808
CREATED:20220704T014832Z
LAST-MODIFIED:20220704T014832Z
UID:10001475-1657357200-1657360800@www.princewilliamdemocrats.com
SUMMARY:Neabsco District Monthly Meeting
DESCRIPTION:Please contact Neabsco District Leadership for additional details.
URL:https://www.princewilliamdemocrats.com/event/2022-07-09-9am-neabsco-district-monthly-meeting/
LOCATION:Virtual Event
CATEGORIES:District Meeting
ATTACH;FMTTYPE=image/jpeg:https://www.princewilliamdemocrats.com/wp-content/uploads/2021/02/democratic-monthly-meeting.jpg
END:VEVENT
BEGIN:VEVENT
DTSTART;TZID=UTC:20220709T100000
DTEND;TZID=UTC:20220709T170000
DTSTAMP:20260421T205808
CREATED:20220706T170219Z
LAST-MODIFIED:20220706T170346Z
UID:10001482-1657360800-1657386000@www.princewilliamdemocrats.com
SUMMARY:Jennifer Wexton for Congress - Manassas Canvass
DESCRIPTION:Fore More Details: Click Here \nTime \n\n\nSaturday\, July 9 – Sunday\, July 10\nMultiple times available\n\n\n\n\n\n  \n\n\nLocation \n\n\n9804 Hutchison Ln\nManassas\, VA 20110 \nMap
URL:https://www.princewilliamdemocrats.com/event/2022-07-09-10am-jennifer-wexton-for-congress-manassas-canvass/
CATEGORIES:Prince William County Canvass
ATTACH;FMTTYPE=image/png:https://www.princewilliamdemocrats.com/wp-content/uploads/2022/07/2022-jennifer-wexton-for-congress.png
END:VEVENT
BEGIN:VEVENT
DTSTART;TZID=UTC:20220710T130000
DTEND;TZID=UTC:20220710T170000
DTSTAMP:20260421T205808
CREATED:20220706T170414Z
LAST-MODIFIED:20220706T170441Z
UID:10001483-1657458000-1657472400@www.princewilliamdemocrats.com
SUMMARY:Jennifer Wexton for Congress - Manassas Canvass
DESCRIPTION:Fore More Details: Click Here \nTime \n\n\nSaturday\, July 9 – Sunday\, July 10\nMultiple times available\n\n\n\n\n\n  \n\n\nLocation \n\n\n9804 Hutchison Ln\nManassas\, VA 20110 \nMap
URL:https://www.princewilliamdemocrats.com/event/2022-07-10-1pm-jennifer-wexton-for-congress-manassas-canvass/
CATEGORIES:Prince William County Canvass
END:VEVENT
BEGIN:VEVENT
DTSTART;TZID=UTC:20220711T190000
DTEND;TZID=UTC:20220711T200000
DTSTAMP:20260421T205808
CREATED:20220704T015243Z
LAST-MODIFIED:20220704T015311Z
UID:10001476-1657566000-1657569600@www.princewilliamdemocrats.com
SUMMARY:Gainesville District Monthly Meeting
DESCRIPTION:Please contact Gainesville District Leadership for additional details.
URL:https://www.princewilliamdemocrats.com/event/2022-07-11-7pm-gainesville-district-monthly-meeting-2/
LOCATION:Virtual Event
CATEGORIES:District Meeting
ATTACH;FMTTYPE=image/jpeg:https://www.princewilliamdemocrats.com/wp-content/uploads/2021/02/democratic-monthly-meeting.jpg
END:VEVENT
BEGIN:VEVENT
DTSTART;TZID=UTC:20220711T193000
DTEND;TZID=UTC:20220711T203000
DTSTAMP:20260421T205808
CREATED:20220704T015439Z
LAST-MODIFIED:20220704T015542Z
UID:10001477-1657567800-1657571400@www.princewilliamdemocrats.com
SUMMARY:Occoquan District Monthly Meeting
DESCRIPTION:Please contact Occoquan District Leadership for additional details.
URL:https://www.princewilliamdemocrats.com/event/2022-07-11-730am-occoquan-district-monthly-meeting/
LOCATION:Virtual Event
CATEGORIES:District Meeting
ATTACH;FMTTYPE=image/jpeg:https://www.princewilliamdemocrats.com/wp-content/uploads/2021/02/democratic-monthly-meeting.jpg
END:VEVENT
BEGIN:VEVENT
DTSTART;TZID=UTC:20220712T140000
DTEND;TZID=UTC:20220712T170000
DTSTAMP:20260421T205808
CREATED:20220706T163611Z
LAST-MODIFIED:20220706T163611Z
UID:10001480-1657634400-1657645200@www.princewilliamdemocrats.com
SUMMARY:Board of County Supervisors Meeting
DESCRIPTION:Board Of County Supervisors –  PWC Website (More Info Click Here) \n\nMeetings are at 2pm and 7:30pm (times and dates may change\, please check link above and agenda)\n\nSign Up To Speak (More Info Click Here) \n*Note: To sign up to speak virtually the deadline is the day before the meeting (Monday) at 5pm\, if you attend the meeting in person you can sign up the day of. \nPage Resources Include The Following \n\nLive Video\, Brief & Archives (More Info Click Here)\n\nBoard Agenda\nAgenda\nBriefs\nVideo Podcast\nArchive\n\n\nCurrent Agenda\nSpeak Up! Prince William\nMeeting Schedule\nDistrict Map\nRules of Procedures\nStatement of Economic Interest\nSign Up for eNotifications\nWho are Your Elected Officials\n\n*Because changes can occur\, please navigate to the above links for the most up to date times\, locations\, agendas and details about meetings.
URL:https://www.princewilliamdemocrats.com/event/2022-07-12-2pm-board-of-county-supervisors-meeting-2/
LOCATION:McCoart\, 1 County Complex Ct\, Woodbridge\, VA\, 22192\, United States
CATEGORIES:PWC Board of County Supervisors Meeting
ATTACH;FMTTYPE=image/png:https://www.princewilliamdemocrats.com/wp-content/uploads/2021/03/pwc-bocs-meetings.png
END:VEVENT
BEGIN:VEVENT
DTSTART;TZID=UTC:20220716T100000
DTEND;TZID=UTC:20220716T110000
DTSTAMP:20260421T205808
CREATED:20220706T163202Z
LAST-MODIFIED:20220706T163244Z
UID:10001479-1657965600-1657969200@www.princewilliamdemocrats.com
SUMMARY:Potomac District Monthly Meeting
DESCRIPTION:Please contact Potomac District Leadership for additional details.
URL:https://www.princewilliamdemocrats.com/event/2022-07-16-10am-potomac-district-monthly-meeting-2/
LOCATION:Virtual Event
CATEGORIES:District Meeting
ATTACH;FMTTYPE=image/jpeg:https://www.princewilliamdemocrats.com/wp-content/uploads/2021/02/democratic-monthly-meeting.jpg
END:VEVENT
BEGIN:VEVENT
DTSTART;TZID=UTC:20220716T100000
DTEND;TZID=UTC:20220716T120000
DTSTAMP:20260421T205808
CREATED:20220715T192845Z
LAST-MODIFIED:20220715T192845Z
UID:10001502-1657965600-1657972800@www.princewilliamdemocrats.com
SUMMARY:Canvass with Team Spanberger in Woodbridge!
DESCRIPTION:For More Details: Click Here \nJoin Team Spanberger as we canvass in Woodbridge! We will provide training\, PPE\, and COVID-19 protocols for safe canvassing.
URL:https://www.princewilliamdemocrats.com/event/2022-07-16-10am-canvass-with-team-spanberger-in-woodbridge/
CATEGORIES:Prince William County Canvass
ATTACH;FMTTYPE=image/png:https://www.princewilliamdemocrats.com/wp-content/uploads/2022/07/2022-spanberger-woodbridge-canvas.png
END:VEVENT
BEGIN:VEVENT
DTSTART;TZID=UTC:20220716T100000
DTEND;TZID=UTC:20220716T140000
DTSTAMP:20260421T205808
CREATED:20220715T185834Z
LAST-MODIFIED:20220715T185917Z
UID:10001485-1657965600-1657980000@www.princewilliamdemocrats.com
SUMMARY:Jennifer Wexton for Congress - PWC Canvass
DESCRIPTION:For More Details: Click Here \nJoin Team Wexton at our Prince William County canvass for the ’22 election cycle! \nWe have all seen the news recently: gun violence in our schools and communities\, the ongoing and very serious threat to our democracy\, and now the stripping away of a woman’s right to control her own body and healthcare. \nNow more than ever\, canvassing is critical for engaging with voters and sharing Jennifer’s vision for the VA10 so we can fight back and win. We cannot do it without you. \nPlease join us in PWC to knock on some doors with Jennifer Wexton! We will also have waters available and yard signs for those interested.
URL:https://www.princewilliamdemocrats.com/event/2022-07-16-10am-jennifer-wexton-for-congress-pwc-canvass/
CATEGORIES:Prince William County Canvass
ATTACH;FMTTYPE=image/png:https://www.princewilliamdemocrats.com/wp-content/uploads/2022/07/2022-jennifer-wexton-for-congress.png
END:VEVENT
BEGIN:VEVENT
DTSTART;TZID=UTC:20220716T100000
DTEND;TZID=UTC:20220716T170000
DTSTAMP:20260421T205808
CREATED:20220715T191656Z
LAST-MODIFIED:20220715T192012Z
UID:10001493-1657965600-1657990800@www.princewilliamdemocrats.com
SUMMARY:Jennifer Wexton for Congress - PWC Canvass - Haymarket
DESCRIPTION:For More Details: Click Here \nJoin Team Wexton at our Prince William County canvass for the ’22 election cycle! \nWe have all seen the news recently: gun violence in our schools and communities\, the ongoing and very serious threat to our democracy\, and now the stripping away of a woman’s right to control her own body and healthcare. \nNow more than ever\, canvassing is critical for engaging with voters and sharing Jennifer’s vision for the VA10 so we can fight back and win. We cannot do it without you. \nPlease join us in PWC to knock on some doors with Jennifer Wexton! We will also have waters available and yard signs for those interested.
URL:https://www.princewilliamdemocrats.com/event/2022-07-16-10am-jennifer-wexton-for-congress-pwc-canvass-2/
CATEGORIES:Prince William County Canvass
ATTACH;FMTTYPE=image/png:https://www.princewilliamdemocrats.com/wp-content/uploads/2022/07/2022-jennifer-wexton-for-congress.png
END:VEVENT
BEGIN:VEVENT
DTSTART;TZID=UTC:20220716T120000
DTEND;TZID=UTC:20220716T153000
DTSTAMP:20260421T205808
CREATED:20220715T194841Z
LAST-MODIFIED:20220715T194913Z
UID:10001505-1657972800-1657985400@www.princewilliamdemocrats.com
SUMMARY:Canvass with Team Spanberger in Prince William County!
DESCRIPTION:For More Details: Click Here \nJoin Team Spanberger to canvass in Prince William County to #SpanThe7th! We are so excited talk to voters about Abigail and get them ready for this year’s election. Training\, literature\, and water will be provided.
URL:https://www.princewilliamdemocrats.com/event/2022-07-16-12pm-canvass-with-team-spanberger-in-prince-william-county/
CATEGORIES:Prince William County Canvass
ATTACH;FMTTYPE=image/png:https://www.princewilliamdemocrats.com/wp-content/uploads/2022/07/2022-team-spanberger-prince-william-canvass.png
END:VEVENT
BEGIN:VEVENT
DTSTART;TZID=UTC:20220716T170000
DTEND;TZID=UTC:20220716T210000
DTSTAMP:20260421T205808
CREATED:20220623T175530Z
LAST-MODIFIED:20220623T200539Z
UID:10001468-1657990800-1658005200@www.princewilliamdemocrats.com
SUMMARY:PWC Young Dems Fundraiser BBQ
DESCRIPTION:For More Details: Click Here
URL:https://www.princewilliamdemocrats.com/event/2022-07-16-5pm-pwc-young-dems-fundraiser-bbq/
CATEGORIES:Prince William Young Democrats Event
ATTACH;FMTTYPE=image/jpeg:https://www.princewilliamdemocrats.com/wp-content/uploads/2022/06/prince-william-young-dems-fundraiser-bbq.jpg
END:VEVENT
BEGIN:VEVENT
DTSTART;TZID=UTC:20220717T100000
DTEND;TZID=UTC:20220717T170000
DTSTAMP:20260421T205808
CREATED:20220715T191910Z
LAST-MODIFIED:20220715T191947Z
UID:10001495-1658052000-1658077200@www.princewilliamdemocrats.com
SUMMARY:Jennifer Wexton for Congress - PWC Canvass - Haymarket
DESCRIPTION:For More Details: Click Here \nJoin Team Wexton at our Prince William County canvass for the ’22 election cycle! \nWe have all seen the news recently: gun violence in our schools and communities\, the ongoing and very serious threat to our democracy\, and now the stripping away of a woman’s right to control her own body and healthcare. \nNow more than ever\, canvassing is critical for engaging with voters and sharing Jennifer’s vision for the VA10 so we can fight back and win. We cannot do it without you. \nPlease join us in PWC to knock on some doors with Jennifer Wexton! We will also have waters available and yard signs for those interested.
URL:https://www.princewilliamdemocrats.com/event/2022-07-17-10am-jennifer-wexton-for-congress-pwc-canvass-haymarket/
CATEGORIES:Prince William County Canvass
ATTACH;FMTTYPE=image/png:https://www.princewilliamdemocrats.com/wp-content/uploads/2022/07/2022-jennifer-wexton-for-congress.png
END:VEVENT
BEGIN:VEVENT
DTSTART;TZID=UTC:20220717T120000
DTEND;TZID=UTC:20220717T150000
DTSTAMP:20260421T205808
CREATED:20220715T195139Z
LAST-MODIFIED:20220715T195725Z
UID:10001506-1658059200-1658070000@www.princewilliamdemocrats.com
SUMMARY:Canvass with Team Spanberger in Prince William County!
DESCRIPTION:For More Details: Click Here \nJoin Team Spanberger to canvass in Prince William County to #SpanThe7th! We are so excited talk to voters about Abigail and get them ready for this year’s election. Training\, literature\, and water will be provided.
URL:https://www.princewilliamdemocrats.com/event/2022-07-17-12pm-canvass-with-team-spanberger-in-prince-william-county/
CATEGORIES:Prince William County Canvass
ATTACH;FMTTYPE=image/png:https://www.princewilliamdemocrats.com/wp-content/uploads/2022/07/2022-team-spanberger-prince-william-canvass.png
END:VEVENT
BEGIN:VEVENT
DTSTART;TZID=UTC:20220717T130000
DTEND;TZID=UTC:20220717T170000
DTSTAMP:20260421T205808
CREATED:20220715T190114Z
LAST-MODIFIED:20220715T190429Z
UID:10001487-1658062800-1658077200@www.princewilliamdemocrats.com
SUMMARY:Jennifer Wexton for Congress - PWC Canvass
DESCRIPTION:For More Details: Click Here \nJoin Team Wexton at our Prince William County canvass for the ’22 election cycle! \nWe have all seen the news recently: gun violence in our schools and communities\, the ongoing and very serious threat to our democracy\, and now the stripping away of a woman’s right to control her own body and healthcare. \nNow more than ever\, canvassing is critical for engaging with voters and sharing Jennifer’s vision for the VA10 so we can fight back and win. We cannot do it without you. \nPlease join us in PWC to knock on some doors with Jennifer Wexton! We will also have waters available and yard signs for those interested.
URL:https://www.princewilliamdemocrats.com/event/2022-07-17-1pm-jennifer-wexton-for-congress-pwc-canvass/
CATEGORIES:Prince William County Canvass
ATTACH;FMTTYPE=image/png:https://www.princewilliamdemocrats.com/wp-content/uploads/2022/07/2022-jennifer-wexton-for-congress.png
END:VEVENT
BEGIN:VEVENT
DTSTART;TZID=UTC:20220718T190000
DTEND;TZID=UTC:20220718T200000
DTSTAMP:20260421T205808
CREATED:20220706T162822Z
LAST-MODIFIED:20220706T162845Z
UID:10001478-1658170800-1658174400@www.princewilliamdemocrats.com
SUMMARY:Brentsville District Monthly Meeting
DESCRIPTION:Please contact Brentsville District Leadership for additional details.
URL:https://www.princewilliamdemocrats.com/event/2022-07-18-7pm-brentsville-district-monthly-meeting/
LOCATION:Virtual Event
CATEGORIES:District Meeting
ATTACH;FMTTYPE=image/jpeg:https://www.princewilliamdemocrats.com/wp-content/uploads/2021/02/democratic-monthly-meeting.jpg
END:VEVENT
BEGIN:VEVENT
DTSTART;TZID=UTC:20220719T140000
DTEND;TZID=UTC:20220719T170000
DTSTAMP:20260421T205808
CREATED:20220706T163746Z
LAST-MODIFIED:20220706T163746Z
UID:10001481-1658239200-1658250000@www.princewilliamdemocrats.com
SUMMARY:Board of County Supervisors Meeting
DESCRIPTION:Board Of County Supervisors –  PWC Website (More Info Click Here) \n\nMeetings are at 2pm and 7:30pm (times and dates may change\, please check link above and agenda)\n\nSign Up To Speak (More Info Click Here) \n*Note: To sign up to speak virtually the deadline is the day before the meeting (Monday) at 5pm\, if you attend the meeting in person you can sign up the day of. \nPage Resources Include The Following \n\nLive Video\, Brief & Archives (More Info Click Here)\n\nBoard Agenda\nAgenda\nBriefs\nVideo Podcast\nArchive\n\n\nCurrent Agenda\nSpeak Up! Prince William\nMeeting Schedule\nDistrict Map\nRules of Procedures\nStatement of Economic Interest\nSign Up for eNotifications\nWho are Your Elected Officials\n\n*Because changes can occur\, please navigate to the above links for the most up to date times\, locations\, agendas and details about meetings.
URL:https://www.princewilliamdemocrats.com/event/2022-07-19-2pm-board-of-county-supervisors-meeting-2/
LOCATION:McCoart\, 1 County Complex Ct\, Woodbridge\, VA\, 22192\, United States
CATEGORIES:PWC Board of County Supervisors Meeting
ATTACH;FMTTYPE=image/png:https://www.princewilliamdemocrats.com/wp-content/uploads/2021/03/pwc-bocs-meetings.png
END:VEVENT
BEGIN:VEVENT
DTSTART;TZID=UTC:20220721T183000
DTEND;TZID=UTC:20220721T200000
DTSTAMP:20260421T205808
CREATED:20220720T144345Z
LAST-MODIFIED:20220720T144408Z
UID:10001201-1658428200-1658433600@www.princewilliamdemocrats.com
SUMMARY:Racial & Social Justice Commission
DESCRIPTION:
URL:https://www.princewilliamdemocrats.com/event/2022-07-21-630pm-racial-social-justice-commission/
LOCATION:McCoart\, 1 County Complex Ct\, Woodbridge\, VA\, 22192\, United States
CATEGORIES:Prince William County Event
ATTACH;FMTTYPE=image/png:https://www.princewilliamdemocrats.com/wp-content/uploads/2022/07/2022-07-racial-and-social-justice-meeting.png
END:VEVENT
BEGIN:VEVENT
DTSTART;TZID=UTC:20220721T190000
DTEND;TZID=UTC:20220721T203000
DTSTAMP:20260421T205808
CREATED:20220704T013815Z
LAST-MODIFIED:20220713T002808Z
UID:10001472-1658430000-1658435400@www.princewilliamdemocrats.com
SUMMARY:Coles District Monthly Meeting
DESCRIPTION:Please contact Coles District Leadership for additional details.
URL:https://www.princewilliamdemocrats.com/event/2022-07-21-730pm-coles-district-monthly-meeting/
LOCATION:Virtual Event
CATEGORIES:District Meeting
ATTACH;FMTTYPE=image/jpeg:https://www.princewilliamdemocrats.com/wp-content/uploads/2021/02/democratic-monthly-meeting.jpg
END:VEVENT
BEGIN:VEVENT
DTSTART;TZID=UTC:20220722T130000
DTEND;TZID=UTC:20220722T140000
DTSTAMP:20260421T205808
CREATED:20220720T143727Z
LAST-MODIFIED:20220720T143924Z
UID:10001200-1658494800-1658498400@www.princewilliamdemocrats.com
SUMMARY:Virginia Technology & Innovation Caucus with Delegate Maldonado
DESCRIPTION:This is going to be interesting!\nPlease join us via Zoom this Friday from 1pm-2pm ET.\nEver wonder what Blockchain is\, how cryptocurrency really works or what organizations and legislatures are doing to create strong infrastructure\, process\, and accountability around this emerging financial technology?\nJoin us at our first public event of the new bipartisan Virginia Technology & Innovation Caucus hosted by the Virginia Blockchain Council.\nJoin Zoom Meeting\nhttps://us02web.zoom.us/j/82397128052…\nMeeting ID: 823 9712 8052\nPasscode: 419906
URL:https://www.princewilliamdemocrats.com/event/2022-07-22-1pm-virginia-technology-innovation-caucus-with-delegate-maldonado/
LOCATION:Virtual Event
CATEGORIES:Virginia Event
ATTACH;FMTTYPE=image/jpeg:https://www.princewilliamdemocrats.com/wp-content/uploads/2022/07/2022-delegate-maldonado-on-blockchain.jpg
END:VEVENT
BEGIN:VEVENT
DTSTART;TZID=UTC:20220723T100000
DTEND;TZID=UTC:20220723T140000
DTSTAMP:20260421T205808
CREATED:20220715T193130Z
LAST-MODIFIED:20220715T193130Z
UID:10001503-1658570400-1658584800@www.princewilliamdemocrats.com
SUMMARY:Canvass with Team Spanberger in Woodbridge!
DESCRIPTION:For More Details: Click Here \nJoin Team Spanberger as we canvass in Woodbridge! We will provide training\, PPE\, and COVID-19 protocols for safe canvassing.
URL:https://www.princewilliamdemocrats.com/event/2022-07-23-10am-canvass-with-team-spanberger-in-woodbridge/
CATEGORIES:Prince William County Canvass
ATTACH;FMTTYPE=image/png:https://www.princewilliamdemocrats.com/wp-content/uploads/2022/04/2022-prince-william-county-veterans-meet-greet-abigail-spanberger.png
END:VEVENT
END:VCALENDAR