BEGIN:VCALENDAR
VERSION:2.0
PRODID:-//Prince William County Democrats - ECPv6.15.20//NONSGML v1.0//EN
CALSCALE:GREGORIAN
METHOD:PUBLISH
X-WR-CALNAME:Prince William County Democrats
X-ORIGINAL-URL:https://www.princewilliamdemocrats.com
X-WR-CALDESC:Events for Prince William County Democrats
REFRESH-INTERVAL;VALUE=DURATION:PT1H
X-Robots-Tag:noindex
X-PUBLISHED-TTL:PT1H
BEGIN:VTIMEZONE
TZID:UTC
BEGIN:STANDARD
TZOFFSETFROM:+0000
TZOFFSETTO:+0000
TZNAME:UTC
DTSTART:20190101T000000
END:STANDARD
END:VTIMEZONE
BEGIN:VEVENT
DTSTART;TZID=UTC:20210130T100000
DTEND;TZID=UTC:20210130T120000
DTSTAMP:20260422T223226
CREATED:20210128T144627Z
LAST-MODIFIED:20210204T215711Z
UID:10001000-1612000800-1612008000@www.princewilliamdemocrats.com
SUMMARY:Celebrate Tu B'Shevat And Plant A Tree
DESCRIPTION:Join Team Pitek at Minnieville Elementary at 10:00am this Saturday\, January 30 to plant a tree to celebrate Tu B’Shevat!Purchase your ticket here: www.actblue.com/donate/plantatree \n\n\n\n***Please wear a mask and practice social distancing***
URL:https://www.princewilliamdemocrats.com/event/celebrate-tu-bshevat-and-plant-a-tree/
CATEGORIES:Prince William County Event
ATTACH;FMTTYPE=image/jpeg:https://www.princewilliamdemocrats.com/wp-content/uploads/2021/02/2021-celebrate-tu-bshevat-and-plant-a-tree.jpg
END:VEVENT
BEGIN:VEVENT
DTSTART;TZID=UTC:20210128T173000
DTEND;TZID=UTC:20210128T183000
DTSTAMP:20260422T223226
CREATED:20210127T171135Z
LAST-MODIFIED:20210204T215243Z
UID:10000998-1611855000-1611858600@www.princewilliamdemocrats.com
SUMMARY:General Assembly Update with Supervisor Bailey and Delegate Cadi King
DESCRIPTION:Watch on Facebook Live on the page of Andrea Bailey Prince William County Supervisor.
URL:https://www.princewilliamdemocrats.com/event/general-assembly-update-with-supervisor-bailey-and-delegate-cadi-king/
CATEGORIES:Prince William County Delegate Event,Prince William County Supervisor Event
ATTACH;FMTTYPE=image/jpeg:https://www.princewilliamdemocrats.com/wp-content/uploads/2021/02/2021-general-assembly-update-supervisor-bailey-delegate-king.jpg
END:VEVENT
BEGIN:VEVENT
DTSTART;TZID=UTC:20210127T190000
DTEND;TZID=UTC:20210127T200000
DTSTAMP:20260422T223226
CREATED:20210126T231027Z
LAST-MODIFIED:20210126T231217Z
UID:10000996-1611774000-1611777600@www.princewilliamdemocrats.com
SUMMARY:Town Hall Discussion "What's Up Woodbridge"
DESCRIPTION: 
URL:https://www.princewilliamdemocrats.com/event/2021-01-27-7pm-town-hall-discussion-whats-up-woodbridge/
CATEGORIES:Prince William County Democratic Event
ATTACH;FMTTYPE=image/jpeg:https://www.princewilliamdemocrats.com/wp-content/uploads/2021/01/2021-woodbridge-supervisor-margaret-franklin-header.jpg
END:VEVENT
BEGIN:VEVENT
DTSTART;TZID=UTC:20210123T190000
DTEND;TZID=UTC:20210123T200000
DTSTAMP:20260422T223226
CREATED:20210123T231610Z
LAST-MODIFIED:20210123T231917Z
UID:10000992-1611428400-1611432000@www.princewilliamdemocrats.com
SUMMARY:Idris O'Connor for Virginia's Campaign Kickoff!
DESCRIPTION:Please join us as we officially kickoff our campaign for the House of Delegates in Virginia’s 31st District. To purchase your ticket\, visit the link below:https://secure.actblue.com/donate/idrisforvakickoff \n\n\n\nWe are very excited to have former delegate and current Gubernatorial candidate Jennifer Carroll Foy joining us as our special guest!We can’t wait to share Idris’ vision for the 31st District and the Commonwealth of Virginia with all of you. Join us as we move Virginia forward towards affordable housing\, environmental justice\, advocating for our veterans and more. \n\n\n\n(This will be a Zoom event and will take place at 7 pm on Saturday\, January 23rd. Upon purchase of a ticket\, an email will be sent to you with a link to the Zoom event) \n\n\n\nMore Details: Click Here
URL:https://www.princewilliamdemocrats.com/event/idris-oconnor-for-virginias-campaign-kickoff/
CATEGORIES:Prince William County Democratic Virtual Event
ATTACH;FMTTYPE=image/jpeg:https://www.princewilliamdemocrats.com/wp-content/uploads/2021/01/2021-idris-oconnor-for-virginia-campaign-kickoff-1.jpg
END:VEVENT
BEGIN:VEVENT
DTSTART;TZID=UTC:20210121T193000
DTEND;TZID=UTC:20210121T203000
DTSTAMP:20260422T223226
CREATED:20210121T213200Z
LAST-MODIFIED:20210121T213348Z
UID:10000990-1611257400-1611261000@www.princewilliamdemocrats.com
SUMMARY:Coles District - Meeting
DESCRIPTION:
URL:https://www.princewilliamdemocrats.com/event/coles-district-meeting/
CATEGORIES:District Meeting
END:VEVENT
BEGIN:VEVENT
DTSTART;VALUE=DATE:20210120
DTEND;VALUE=DATE:20210121
DTSTAMP:20260422T223226
CREATED:20210121T182426Z
LAST-MODIFIED:20210121T182426Z
UID:10000988-1611100800-1611187199@www.princewilliamdemocrats.com
SUMMARY:Inauguration of President Joe Biden and Vice President Kamala Harris
DESCRIPTION:For More Details: Click Here
URL:https://www.princewilliamdemocrats.com/event/inauguration-of-president-joe-biden-and-vice-president-kamala-harris/
CATEGORIES:President Inauguration
ATTACH;FMTTYPE=image/jpeg:https://www.princewilliamdemocrats.com/wp-content/uploads/2021/01/2021-president-inauguration-day.jpg
END:VEVENT
BEGIN:VEVENT
DTSTART;TZID=UTC:20210108T183000
DTEND;TZID=UTC:20210108T200000
DTSTAMP:20260422T223226
CREATED:20210108T153051Z
LAST-MODIFIED:20210108T153051Z
UID:10000987-1610130600-1610136000@www.princewilliamdemocrats.com
SUMMARY:Delegate-elect Candi King Thank You Celebration
DESCRIPTION:Join Delegate-elect Candi King for a volunteer THANK YOU Celebration Friday\, January 8th at 6:30pm.\n\n \n\nVolunteers Make A Difference\n\n \n\nFor More Information: Click Here
URL:https://www.princewilliamdemocrats.com/event/2021-01-08-630pm-delegate-elect-candi-king-thank-you-celebration/
CATEGORIES:Prince William County Democratic Virtual Event
ATTACH;FMTTYPE=image/jpeg:https://www.princewilliamdemocrats.com/wp-content/uploads/2021/01/2021-delegate-elect-candi-king-celebration-party.jpg
END:VEVENT
BEGIN:VEVENT
DTSTART;TZID=UTC:20210105T070000
DTEND;TZID=UTC:20210105T210000
DTSTAMP:20260422T223226
CREATED:20201229T032351Z
LAST-MODIFIED:20201229T032415Z
UID:10000973-1609830000-1609880400@www.princewilliamdemocrats.com
SUMMARY:Get Out the Vote! Phonebank for Candi King for Delegate
DESCRIPTION:Runs through Election Day on January 5th.With so much going on\, we have to let HD2 voters know that we have to show out for a powerful advocate like Candi and keep our majority in the House. Sign up for a GOTV shift \n\n\n\nClick Here To Sign Up
URL:https://www.princewilliamdemocrats.com/event/2021-01-05-7am-get-out-the-vote-phonebank-for-candi-king-for-delegate-2/
CATEGORIES:Prince William County Democratic Phone Bank Event
ATTACH;FMTTYPE=image/jpeg:https://www.princewilliamdemocrats.com/wp-content/uploads/2020/12/2020-virtual-call-bank.jpg
END:VEVENT
BEGIN:VEVENT
DTSTART;TZID=UTC:20210104T090000
DTEND;TZID=UTC:20210104T190000
DTSTAMP:20260422T223226
CREATED:20201229T032123Z
LAST-MODIFIED:20201229T032123Z
UID:10000971-1609750800-1609786800@www.princewilliamdemocrats.com
SUMMARY:Get Out the Vote! Phonebank for Candi King for Delegate
DESCRIPTION:Runs through Election Day on January 5th.With so much going on\, we have to let HD2 voters know that we have to show out for a powerful advocate like Candi and keep our majority in the House. Sign up for a GOTV shift\n\n\n\nClick Here To Sign Up
URL:https://www.princewilliamdemocrats.com/event/2021-01-04-9am-get-out-the-vote-phonebank-for-candi-king-for-delegate-2/
CATEGORIES:Prince William County Democratic Phone Bank Event
ATTACH;FMTTYPE=image/jpeg:https://www.princewilliamdemocrats.com/wp-content/uploads/2020/12/2020-virtual-call-bank.jpg
END:VEVENT
BEGIN:VEVENT
DTSTART;TZID=UTC:20210103T130000
DTEND;TZID=UTC:20210103T150000
DTSTAMP:20260422T223226
CREATED:20201231T220046Z
LAST-MODIFIED:20201231T220205Z
UID:10000985-1609678800-1609686000@www.princewilliamdemocrats.com
SUMMARY:Join New Virginia Majority this Sunday to lit drop for Candi King in House District 2
DESCRIPTION:Candi King is running in the January 5th special election for Virginia’s House District 2. King is a champion for working families and has a strong record of advocating for our communities around issues such as paid sick days\, a just COVID-19 recovery\, and more. New Virginia Majority is proud to support her candidacy. \n\n\n\nSign Up: Click Here \n\n\n\nJanuary 3rd 2021\, Sunday 1pm-3pm
URL:https://www.princewilliamdemocrats.com/event/join-new-virginia-majority-this-sunday-to-lit-drop-for-candi-king-in-house-district-2/
CATEGORIES:Prince William County Lit Drop
ATTACH;FMTTYPE=image/jpeg:https://www.princewilliamdemocrats.com/wp-content/uploads/2020/12/2021-lit-drop-for-candi-king.jpg
END:VEVENT
BEGIN:VEVENT
DTSTART;TZID=UTC:20210103T090000
DTEND;TZID=UTC:20210103T210000
DTSTAMP:20260422T223226
CREATED:20201229T031250Z
LAST-MODIFIED:20201229T031819Z
UID:10000969-1609664400-1609707600@www.princewilliamdemocrats.com
SUMMARY:Get Out the Vote! Phonebank for Candi King for Delegate
DESCRIPTION:Runs through Election Day on January 5th.With so much going on\, we have to let HD2 voters know that we have to show out for a powerful advocate like Candi and keep our majority in the House. Sign up for a GOTV shift \n\n\n\nClick Here To Sign Up
URL:https://www.princewilliamdemocrats.com/event/2021-01-03-9am-get-out-the-vote-phonebank-for-candi-king-for-delegate-2/
CATEGORIES:Prince William County Democratic Phone Bank Event
ATTACH;FMTTYPE=image/jpeg:https://www.princewilliamdemocrats.com/wp-content/uploads/2020/12/2020-virtual-call-bank.jpg
END:VEVENT
BEGIN:VEVENT
DTSTART;TZID=UTC:20210102T090000
DTEND;TZID=UTC:20210102T210000
DTSTAMP:20260422T223226
CREATED:20201229T030919Z
LAST-MODIFIED:20201229T031444Z
UID:10000967-1609578000-1609621200@www.princewilliamdemocrats.com
SUMMARY:Get Out the Vote! Phonebank for Candi King for Delegate
DESCRIPTION:Runs through Election Day on January 5th.With so much going on\, we have to let HD2 voters know that we have to show out for a powerful advocate like Candi and keep our majority in the House. Sign up for a GOTV shift h \n\n\n\nClick Here To Sign Up
URL:https://www.princewilliamdemocrats.com/event/2021-01-02-9am-get-out-the-vote-phonebank-for-candi-king-for-delegate-3/
CATEGORIES:Prince William County Democratic Phone Bank Event
ATTACH;FMTTYPE=image/jpeg:https://www.princewilliamdemocrats.com/wp-content/uploads/2020/12/2020-virtual-call-bank.jpg
END:VEVENT
BEGIN:VEVENT
DTSTART;TZID=UTC:20210102T090000
DTEND;TZID=UTC:20210102T170000
DTSTAMP:20260422T223226
CREATED:20201229T051421Z
LAST-MODIFIED:20201229T051441Z
UID:10000983-1609578000-1609606800@www.princewilliamdemocrats.com
SUMMARY:Early Voting In Person - Democrat Candi King For Delegate
DESCRIPTION:Early Voting In Person \n\n\n\nLocations:  \n\n\n\nMain Office of Elections: 9250 Lee Ave Ste 1\, Manassas Va 20110 \n\n\n\nVeterans Park: 14300 Featherstone Road\, Woodbridge Va 22191 \n\n\n\nDates / Times: \n\n\n\nDecember 26th: 9:00am – 5:00pm \n\n\n\nDecember 28th-31st: 9:00am – 5:00pm \n\n\n\nJanuary 2nd: 9:00am – 5:00pm
URL:https://www.princewilliamdemocrats.com/event/2021-01-02-9am-early-voting-in-person-democrat-candi-king-for-delegate-2/
CATEGORIES:Prince William County Elections
ATTACH;FMTTYPE=image/png:https://www.princewilliamdemocrats.com/wp-content/uploads/2020/12/2020-delegate-candi-king-early-voting.png
END:VEVENT
BEGIN:VEVENT
DTSTART;TZID=UTC:20210101T150000
DTEND;TZID=UTC:20210101T190000
DTSTAMP:20260422T223226
CREATED:20201229T030257Z
LAST-MODIFIED:20201229T031028Z
UID:10000965-1609513200-1609527600@www.princewilliamdemocrats.com
SUMMARY:Get Out the Vote! Phonebank for Candi King for Delegate
DESCRIPTION:Runs through Election Day on January 5th.With so much going on\, we have to let HD2 voters know that we have to show out for a powerful advocate like Candi and keep our majority in the House. Sign up for a GOTV shift \n\n\n \nClick Here To Sign Up
URL:https://www.princewilliamdemocrats.com/event/2020-01-01-3pm-get-out-the-vote-phonebank-for-candi-king-for-delegate-2/
CATEGORIES:Prince William County Democratic Phone Bank Event
ATTACH;FMTTYPE=image/jpeg:https://www.princewilliamdemocrats.com/wp-content/uploads/2020/12/2020-virtual-call-bank.jpg
END:VEVENT
BEGIN:VEVENT
DTSTART;TZID=UTC:20210101T150000
DTEND;TZID=UTC:20210101T160000
DTSTAMP:20260422T223226
CREATED:20201231T220547Z
LAST-MODIFIED:20201231T220547Z
UID:10000986-1609513200-1609516800@www.princewilliamdemocrats.com
SUMMARY:Virtual Event January 1st 2021 at 3pm - Candi King
DESCRIPTION:2021 Come Join Candi King Virtual Celebration
URL:https://www.princewilliamdemocrats.com/event/virtual-event-january-1st-2021-at-3pm-candi-king/
CATEGORIES:Prince William County Democratic Virtual Event
ATTACH;FMTTYPE=image/png:https://www.princewilliamdemocrats.com/wp-content/uploads/2020/12/2021-come-join-candi-king-virtual-celebration-banner.png
END:VEVENT
BEGIN:VEVENT
DTSTART;TZID=UTC:20201231T090000
DTEND;TZID=UTC:20201231T170000
DTSTAMP:20260422T223226
CREATED:20201229T051259Z
LAST-MODIFIED:20201229T051315Z
UID:10000982-1609405200-1609434000@www.princewilliamdemocrats.com
SUMMARY:Early Voting In Person - Democrat Candi King For Delegate
DESCRIPTION:Early Voting In Person \n\n\n\nLocations:  \n\n\n\nMain Office of Elections: 9250 Lee Ave Ste 1\, Manassas Va 20110 \n\n\n\nVeterans Park: 14300 Featherstone Road\, Woodbridge Va 22191 \n\n\n\nDates / Times: \n\n\n\nDecember 26th: 9:00am – 5:00pm \n\n\n\nDecember 28th-31st: 9:00am – 5:00pm \n\n\n\nJanuary 2nd: 9:00am – 5:00pm
URL:https://www.princewilliamdemocrats.com/event/2020-12-31-9am-early-voting-in-person-democrat-candi-king-for-delegate-2/
CATEGORIES:Prince William County Elections
ATTACH;FMTTYPE=image/png:https://www.princewilliamdemocrats.com/wp-content/uploads/2020/12/2020-delegate-candi-king-early-voting.png
END:VEVENT
BEGIN:VEVENT
DTSTART;TZID=UTC:20201230T090000
DTEND;TZID=UTC:20201230T170000
DTSTAMP:20260422T223226
CREATED:20201229T051102Z
LAST-MODIFIED:20201229T051129Z
UID:10000981-1609318800-1609347600@www.princewilliamdemocrats.com
SUMMARY:Early Voting In Person - Democrat Candi King For Delegate
DESCRIPTION:Early Voting In Person \n\n\n\nLocations:  \n\n\n\nMain Office of Elections: 9250 Lee Ave Ste 1\, Manassas Va 20110 \n\n\n\nVeterans Park: 14300 Featherstone Road\, Woodbridge Va 22191 \n\n\n\nDates / Times: \n\n\n\nDecember 26th: 9:00am – 5:00pm \n\n\n\nDecember 28th-31st: 9:00am – 5:00pm \n\n\n\nJanuary 2nd: 9:00am – 5:00pm
URL:https://www.princewilliamdemocrats.com/event/2020-12-30-9am-early-voting-in-person-democrat-candi-king-for-delegate-2/
CATEGORIES:Prince William County Elections
ATTACH;FMTTYPE=image/png:https://www.princewilliamdemocrats.com/wp-content/uploads/2020/12/2020-delegate-candi-king-early-voting.png
END:VEVENT
BEGIN:VEVENT
DTSTART;TZID=UTC:20201229T190000
DTEND;TZID=UTC:20201229T200000
DTSTAMP:20260422T223226
CREATED:20201231T215807Z
LAST-MODIFIED:20201231T220328Z
UID:10000984-1609268400-1609272000@www.princewilliamdemocrats.com
SUMMARY:Join Jennifer Carroll Foy and Team JCF for their first Volunteer Summit!
DESCRIPTION:December 29th at 7pm with Special Guest Del. Josh Cole. Celebrate a tremendous year and learn about ways to get involved with Team JCF! \n\n\n\nTeam JCF Volunteer Summit Click Here
URL:https://www.princewilliamdemocrats.com/event/join-jennifer-carroll-foy-and-team-jcf-for-their-first-volunteer-summit/
CATEGORIES:Prince William County Democratic Virtual Event
ATTACH;FMTTYPE=image/jpeg:https://www.princewilliamdemocrats.com/wp-content/uploads/2020/12/2020-jennifer-carroll-foy-and-team.jpg
END:VEVENT
BEGIN:VEVENT
DTSTART;TZID=UTC:20201229T080000
DTEND;TZID=UTC:20201229T170000
DTSTAMP:20260422T223226
CREATED:20201229T050838Z
LAST-MODIFIED:20201229T050956Z
UID:10000980-1609228800-1609261200@www.princewilliamdemocrats.com
SUMMARY:Early Voting In Person - Democrat Candi King For Delegate
DESCRIPTION:Early Voting In Person \n\n\n\nLocations:  \n\n\n\nMain Office of Elections: 9250 Lee Ave Ste 1\, Manassas Va 20110 \n\n\n\nVeterans Park: 14300 Featherstone Road\, Woodbridge Va 22191 \n\n\n\nDates / Times: \n\n\n\nDecember 26th: 9:00am – 5:00pm \n\n\n\nDecember 28th-31st: 9:00am – 5:00pm \n\n\n\nJanuary 2nd: 9:00am – 5:00pm
URL:https://www.princewilliamdemocrats.com/event/2020-12-29-9am-early-voting-in-person-democrat-candi-king-for-delegate-2/
CATEGORIES:Prince William County Elections
ATTACH;FMTTYPE=image/png:https://www.princewilliamdemocrats.com/wp-content/uploads/2020/12/2020-delegate-candi-king-early-voting.png
END:VEVENT
BEGIN:VEVENT
DTSTART;TZID=UTC:20201228T090000
DTEND;TZID=UTC:20201228T170000
DTSTAMP:20260422T223226
CREATED:20201229T050711Z
LAST-MODIFIED:20201229T050736Z
UID:10000979-1609146000-1609174800@www.princewilliamdemocrats.com
SUMMARY:Early Voting In Person - Democrat Candi King For Delegate
DESCRIPTION:Early Voting In Person \n\n\n\nLocations:  \n\n\n\nMain Office of Elections: 9250 Lee Ave Ste 1\, Manassas Va 20110 \n\n\n\nVeterans Park: 14300 Featherstone Road\, Woodbridge Va 22191 \n\n\n\nDates / Times: \n\n\n\nDecember 26th: 9:00am – 5:00pm \n\n\n\nDecember 28th-31st: 9:00am – 5:00pm \n\n\n\nJanuary 2nd: 9:00am – 5:00pm
URL:https://www.princewilliamdemocrats.com/event/2020-12-28-9am-early-voting-in-person-democrat-candi-king-for-delegate-2/
CATEGORIES:Prince William County Elections
ATTACH;FMTTYPE=image/png:https://www.princewilliamdemocrats.com/wp-content/uploads/2020/12/2020-delegate-candi-king-early-voting.png
END:VEVENT
BEGIN:VEVENT
DTSTART;TZID=UTC:20201226T090000
DTEND;TZID=UTC:20201226T210000
DTSTAMP:20260422T223226
CREATED:20201226T153721Z
LAST-MODIFIED:20201229T030424Z
UID:10000963-1608973200-1609016400@www.princewilliamdemocrats.com
SUMMARY:Get Out the Vote! Phonebank for Candi King for Delegate
DESCRIPTION:Even amidst the holidays\, early voting for the HD2 Special Election starts THIS SATURDAY\, and runs almost through Election Day on January 5th.With so much going on\, we have to let HD2 voters know that we have to show out for a powerful advocate like Candi and keep our majority in the House. Sign up for a GOTV shift here! \n\n\n\nClick Here To Sign Up
URL:https://www.princewilliamdemocrats.com/event/get-out-the-vote-phonebank-for-candi-king-for-delegate/
CATEGORIES:Prince William County Democratic Phone Bank Event
ATTACH;FMTTYPE=image/jpeg:https://www.princewilliamdemocrats.com/wp-content/uploads/2020/12/2020-virtual-call-bank.jpg
END:VEVENT
BEGIN:VEVENT
DTSTART;TZID=UTC:20201226T090000
DTEND;TZID=UTC:20201226T170000
DTSTAMP:20260422T223226
CREATED:20201229T050440Z
LAST-MODIFIED:20201229T050440Z
UID:10000977-1608973200-1609002000@www.princewilliamdemocrats.com
SUMMARY:Early Voting In Person - Democrat Candi King For Delegate
DESCRIPTION:Early Voting In Person\n\n \n\nLocations: \n\n \n\nMain Office of Elections: 9250 Lee Ave Ste 1\, Manassas Va 20110\n\n \n\nVeterans Park: 14300 Featherstone Road\, Woodbridge Va 22191\n\n \n\nDates / Times:\n\n \n\nDecember 26th: 9:00am – 5:00pm\n\n \n\nDecember 28th-31st: 9:00am – 5:00pm\n\n \n\nJanuary 2nd: 9:00am – 5:00pm
URL:https://www.princewilliamdemocrats.com/event/early-voting-in-person-democrat-candi-king-for-delegate/
CATEGORIES:Prince William County Elections
ATTACH;FMTTYPE=image/png:https://www.princewilliamdemocrats.com/wp-content/uploads/2020/12/2020-delegate-candi-king-early-voting.png
END:VEVENT
BEGIN:VEVENT
DTSTART;TZID=UTC:20201223T190000
DTEND;TZID=UTC:20201223T210000
DTSTAMP:20260422T223226
CREATED:20201222T215408Z
LAST-MODIFIED:20201222T215408Z
UID:10000961-1608750000-1608757200@www.princewilliamdemocrats.com
SUMMARY:Conversation With Candi King
DESCRIPTION:Greetings All\,\n\n \n\nDEMOCRACY is an ACTION word and our ACTION is needed NOW to elect CANDI KING as the next Delegate for HoD2 on January 5\, 2021!Please join LT Pridgen\, Hon. Jennifer Carroll Foy\, Supervisor Andrea Bailey\, and Supervisor Margaret Franklin THIS Wednesday Night (12/23/2020) for a Virtual Fundraiser and Meet & Greet to support CANDI KING for Delegate. RSVP TODAY at:\n\n \n\nhttps://secure.actblue.com/donate/pwcblackdemscandiking.
URL:https://www.princewilliamdemocrats.com/event/2020-12-23-conversation-with-candi-king/
CATEGORIES:Prince William County Democratic Virtual Event
ATTACH;FMTTYPE=image/png:https://www.princewilliamdemocrats.com/wp-content/uploads/2020/12/2020-conversation-with-candi-king.png
END:VEVENT
BEGIN:VEVENT
DTSTART;TZID=UTC:20201223T130000
DTEND;TZID=UTC:20201223T200000
DTSTAMP:20260422T223226
CREATED:20201222T032913Z
LAST-MODIFIED:20201222T032913Z
UID:10000955-1608728400-1608753600@www.princewilliamdemocrats.com
SUMMARY:Sign up here to phonebank with Team Candi
DESCRIPTION:Sign Up: Click Here \nTimes: 1pm-3pm and 6pm-8pm
URL:https://www.princewilliamdemocrats.com/event/sign-up-here-to-phonebank-with-team-candi/
CATEGORIES:Phonebank
ATTACH;FMTTYPE=image/jpeg:https://www.princewilliamdemocrats.com/wp-content/uploads/2020/12/2020-democrat-candi-king.jpg
END:VEVENT
BEGIN:VEVENT
DTSTART;TZID=UTC:20201222T130000
DTEND;TZID=UTC:20201222T200000
DTSTAMP:20260422T223226
CREATED:20201222T032749Z
LAST-MODIFIED:20201222T032749Z
UID:10000954-1608642000-1608667200@www.princewilliamdemocrats.com
SUMMARY:Sign up here to phonebank with Team Candi
DESCRIPTION:Sign Up: Click Here \nTimes: 1pm-3pm and 6pm-8pm
URL:https://www.princewilliamdemocrats.com/event/2020-12-22-sign-up-here-to-phonebank-with-team-candi/
CATEGORIES:Phonebank
ATTACH;FMTTYPE=image/jpeg:https://www.princewilliamdemocrats.com/wp-content/uploads/2020/12/2020-democrat-candi-king.jpg
END:VEVENT
BEGIN:VEVENT
DTSTART;TZID=UTC:20201221T130000
DTEND;TZID=UTC:20201221T200000
DTSTAMP:20260422T223226
CREATED:20201222T032535Z
LAST-MODIFIED:20201222T033018Z
UID:10000953-1608555600-1608580800@www.princewilliamdemocrats.com
SUMMARY:Sign up here to phonebank with Team Candi
DESCRIPTION:Sign Up: Click Here \nTimes: 1pm-3pm and 6pm-8pm
URL:https://www.princewilliamdemocrats.com/event/2020-12-21-sign-up-here-to-phonebank-with-team-candi/
CATEGORIES:Phonebank
ATTACH;FMTTYPE=image/jpeg:https://www.princewilliamdemocrats.com/wp-content/uploads/2020/12/2020-democrat-candi-king.jpg
END:VEVENT
BEGIN:VEVENT
DTSTART;TZID=UTC:20201213T090000
DTEND;TZID=UTC:20201213T180000
DTSTAMP:20260422T223226
CREATED:20201222T044535Z
LAST-MODIFIED:20201222T044910Z
UID:10000959-1607850000-1607882400@www.princewilliamdemocrats.com
SUMMARY:HOD 2 Special Election
DESCRIPTION:Location: Freedom High School
URL:https://www.princewilliamdemocrats.com/event/hod-2-special-election/
LOCATION:Freedom High School\, 15201 Neabsco Mills Rd\, Woodbridge\, VA\, 22191\, United States
CATEGORIES:Prince William County Elections
ATTACH;FMTTYPE=image/jpeg:https://www.princewilliamdemocrats.com/wp-content/uploads/2020/12/2020-house-delegate-2-primary.jpg
END:VEVENT
BEGIN:VEVENT
DTSTART;TZID=UTC:20201212T190000
DTEND;TZID=UTC:20201212T200000
DTSTAMP:20260422T223226
CREATED:20201222T043411Z
LAST-MODIFIED:20201222T043411Z
UID:10000958-1607799600-1607803200@www.princewilliamdemocrats.com
SUMMARY:House Democratic Candidate Forum - House District 2 Democratic Candidate Forum
DESCRIPTION:The Woodbridge District Democratic Committee\, Potomac District Democratic Committee\, Stafford Democrats\, and the DPVA are pleased to invite you to a Candidate Forum this Saturday\, December 12\, moderated by Del. Elizabeth Guzman. You will hear from all declared candidates for this Sunday’s HD Democratic Firehouse Primary.\n\nJoin us here:\nhttps://us02web.zoom.us/j/86886326359
URL:https://www.princewilliamdemocrats.com/event/house-democratic-candidate-forum-house-district-2-democratic-candidate-forum/
CATEGORIES:Prince William County Democratic Virtual Event
ATTACH;FMTTYPE=image/jpeg:https://www.princewilliamdemocrats.com/wp-content/uploads/2020/12/2020-prince-william-county-house-district-2-candidate-forum.jpg
END:VEVENT
BEGIN:VEVENT
DTSTART;TZID=UTC:20201210T183000
DTEND;TZID=UTC:20201210T200000
DTSTAMP:20260422T223226
CREATED:20201222T042544Z
LAST-MODIFIED:20201222T042544Z
UID:10000957-1607625000-1607630400@www.princewilliamdemocrats.com
SUMMARY:Education and Covid-19 Virtual Town Hall
DESCRIPTION:Join Delegate Guzman and Potomac District School Board Member Justin Wilk for an Education Town Hall tomorrow (Thursday) evening.Please submit your questions in advance by emailing them to DelEGuzman@House.Virginia.Gov\, or by commenting on the event page. \nClick Here for Event
URL:https://www.princewilliamdemocrats.com/event/education-and-covid-19-virtual-town-hall/
CATEGORIES:Prince William County Democratic Virtual Event
ATTACH;FMTTYPE=image/jpeg:https://www.princewilliamdemocrats.com/wp-content/uploads/2020/12/2020-education-and-covid-19-virtual-hall.jpg
END:VEVENT
BEGIN:VEVENT
DTSTART;TZID=UTC:20201205T140000
DTEND;TZID=UTC:20201205T153000
DTSTAMP:20260422T223226
CREATED:20201222T035051Z
LAST-MODIFIED:20201222T035051Z
UID:10000956-1607176800-1607182200@www.princewilliamdemocrats.com
SUMMARY:Prince William County Young Democrats
DESCRIPTION:Online Event: Click Here
URL:https://www.princewilliamdemocrats.com/event/2020-12-05-prince-william-county-young-democrats/
CATEGORIES:Prince William County Democratic Virtual Event
ATTACH;FMTTYPE=image/jpeg:https://www.princewilliamdemocrats.com/wp-content/uploads/2020/12/2020-prince-william-young-democrats.jpg
END:VEVENT
END:VCALENDAR