BEGIN:VCALENDAR
VERSION:2.0
PRODID:-//Prince William County Democrats - ECPv6.15.20//NONSGML v1.0//EN
CALSCALE:GREGORIAN
METHOD:PUBLISH
X-ORIGINAL-URL:https://www.princewilliamdemocrats.com
X-WR-CALDESC:Events for Prince William County Democrats
REFRESH-INTERVAL;VALUE=DURATION:PT1H
X-Robots-Tag:noindex
X-PUBLISHED-TTL:PT1H
BEGIN:VTIMEZONE
TZID:UTC
BEGIN:STANDARD
TZOFFSETFROM:+0000
TZOFFSETTO:+0000
TZNAME:UTC
DTSTART:20230101T000000
END:STANDARD
END:VTIMEZONE
BEGIN:VEVENT
DTSTART;TZID=UTC:20240702T140000
DTEND;TZID=UTC:20240702T170000
DTSTAMP:20260419T145153
CREATED:20240627T145052Z
LAST-MODIFIED:20240627T145119Z
UID:10001878-1719928800-1719939600@www.princewilliamdemocrats.com
SUMMARY:Board Of County Supervisors Meeting
DESCRIPTION:Board Of County Supervisors –  PWC Website (More Info Click Here) \nPage Resources Include The Following \n\nLive Video\, Brief & Archives (More Info Click Here)\n\nBoard Agenda\nAgenda\nBriefs\nVideo Podcast\nArchive\n\n\nCurrent Agenda\nSpeak Up! Prince William\nMeeting Schedule\nDistrict Map\nRules of Procedures\nStatement of Economic Interest\nSign Up for eNotifications\nWho are Your Elected Officials\n\n*Because changes can occur\, please navigate to the above links for the most up to date times\, locations\, agendas and details about meetings.
URL:https://www.princewilliamdemocrats.com/event/2024-07-02-2pm-board-of-county-supervisors-meeting/
LOCATION:McCoart\, 1 County Complex Ct\, Woodbridge\, VA\, 22192\, United States
CATEGORIES:PWC Board of County Supervisors Meeting
ATTACH;FMTTYPE=image/png:https://www.princewilliamdemocrats.com/wp-content/uploads/2021/03/pwc-bocs-meetings.png
END:VEVENT
BEGIN:VEVENT
DTSTART;TZID=UTC:20240709T110000
DTEND;TZID=UTC:20240709T170000
DTSTAMP:20260419T145153
CREATED:20240627T145234Z
LAST-MODIFIED:20240627T145234Z
UID:10001879-1720522800-1720544400@www.princewilliamdemocrats.com
SUMMARY:Board Of County Supervisors Meeting - Work Session
DESCRIPTION:Board Of County Supervisors –  PWC Website (More Info Click Here) \nPage Resources Include The Following \n\nLive Video\, Brief & Archives (More Info Click Here)\n\nBoard Agenda\nAgenda\nBriefs\nVideo Podcast\nArchive\n\n\nCurrent Agenda\nSpeak Up! Prince William\nMeeting Schedule\nDistrict Map\nRules of Procedures\nStatement of Economic Interest\nSign Up for eNotifications\nWho are Your Elected Officials\n\n*Because changes can occur\, please navigate to the above links for the most up to date times\, locations\, agendas and details about meetings.
URL:https://www.princewilliamdemocrats.com/event/2024-07-09-11am-board-of-county-supervisors-meeting-work-session/
LOCATION:McCoart\, 1 County Complex Ct\, Woodbridge\, VA\, 22192\, United States
CATEGORIES:PWC Board of County Supervisors Meeting
ATTACH;FMTTYPE=image/png:https://www.princewilliamdemocrats.com/wp-content/uploads/2021/03/pwc-bocs-meetings.png
END:VEVENT
BEGIN:VEVENT
DTSTART;TZID=UTC:20240716T140000
DTEND;TZID=UTC:20240716T170000
DTSTAMP:20260419T145153
CREATED:20240627T145419Z
LAST-MODIFIED:20240627T145419Z
UID:10001880-1721138400-1721149200@www.princewilliamdemocrats.com
SUMMARY:Board Of County Supervisors Meeting
DESCRIPTION:Board Of County Supervisors –  PWC Website (More Info Click Here) \nPage Resources Include The Following \n\nLive Video\, Brief & Archives (More Info Click Here)\n\nBoard Agenda\nAgenda\nBriefs\nVideo Podcast\nArchive\n\n\nCurrent Agenda\nSpeak Up! Prince William\nMeeting Schedule\nDistrict Map\nRules of Procedures\nStatement of Economic Interest\nSign Up for eNotifications\nWho are Your Elected Officials\n\n*Because changes can occur\, please navigate to the above links for the most up to date times\, locations\, agendas and details about meetings.
URL:https://www.princewilliamdemocrats.com/event/2024-07-16-2pm-board-of-county-supervisors-meeting/
LOCATION:McCoart\, 1 County Complex Ct\, Woodbridge\, VA\, 22192\, United States
CATEGORIES:PWC Board of County Supervisors Meeting
ATTACH;FMTTYPE=image/png:https://www.princewilliamdemocrats.com/wp-content/uploads/2021/03/pwc-bocs-meetings.png
END:VEVENT
END:VCALENDAR