BEGIN:VCALENDAR
VERSION:2.0
PRODID:-//Prince William County Democrats - ECPv6.15.20//NONSGML v1.0//EN
CALSCALE:GREGORIAN
METHOD:PUBLISH
X-ORIGINAL-URL:https://www.princewilliamdemocrats.com
X-WR-CALDESC:Events for Prince William County Democrats
REFRESH-INTERVAL;VALUE=DURATION:PT1H
X-Robots-Tag:noindex
X-PUBLISHED-TTL:PT1H
BEGIN:VTIMEZONE
TZID:UTC
BEGIN:STANDARD
TZOFFSETFROM:+0000
TZOFFSETTO:+0000
TZNAME:UTC
DTSTART:20230101T000000
END:STANDARD
END:VTIMEZONE
BEGIN:VEVENT
DTSTART;TZID=UTC:20240619T100000
DTEND;TZID=UTC:20240619T120000
DTSTAMP:20260419T204300
CREATED:20240602T151812Z
LAST-MODIFIED:20240602T151812Z
UID:10001866-1718791200-1718798400@www.princewilliamdemocrats.com
SUMMARY:4th Annual Greater PW Juneteenth Parade!
DESCRIPTION:Join us for the “4th Annual PW Juneteenth Parade” to celebrate FREEDOM on Juneteenth! \nWednesday\, June 19 · 10am – 12pm EDT \nPrince William Forest Park Visitor Center \n18170 Park Entrance Road Triangle\, VA 22172 \nFor More Details: Click Here
URL:https://www.princewilliamdemocrats.com/event/2024-06-19-10am-4th-annual-greater-pw-juneteenth-parade/
CATEGORIES:Prince William County Event
ATTACH;FMTTYPE=image/jpeg:https://www.princewilliamdemocrats.com/wp-content/uploads/2024/06/2024-juneteenth-dumfries.jpg
END:VEVENT
END:VCALENDAR