BEGIN:VCALENDAR
VERSION:2.0
PRODID:-//Prince William County Democrats - ECPv6.15.20//NONSGML v1.0//EN
CALSCALE:GREGORIAN
METHOD:PUBLISH
X-ORIGINAL-URL:https://www.princewilliamdemocrats.com
X-WR-CALDESC:Events for Prince William County Democrats
REFRESH-INTERVAL;VALUE=DURATION:PT1H
X-Robots-Tag:noindex
X-PUBLISHED-TTL:PT1H
BEGIN:VTIMEZONE
TZID:UTC
BEGIN:STANDARD
TZOFFSETFROM:+0000
TZOFFSETTO:+0000
TZNAME:UTC
DTSTART:20220101T000000
END:STANDARD
END:VTIMEZONE
BEGIN:VEVENT
DTSTART;TZID=UTC:20230201T180000
DTEND;TZID=UTC:20230201T200000
DTSTAMP:20260423T192909
CREATED:20230131T173727Z
LAST-MODIFIED:20230131T173750Z
UID:10001284-1675274400-1675281600@www.princewilliamdemocrats.com
SUMMARY:Lets Talk About Public Safety Town Hall - Supevisor Andrea Bailey
DESCRIPTION:
URL:https://www.princewilliamdemocrats.com/event/2023-02-01-6pn-lets-talk-about-public-safety-town-hall-supevisor-andrea-bailey/
LOCATION:Potomac Shores Middle School\, 17851 Wood View Dr\, Dumfries\, 22026\, United States
CATEGORIES:Prince William County Event
ATTACH;FMTTYPE=image/jpeg:https://www.princewilliamdemocrats.com/wp-content/uploads/2023/01/2022-potomac-town-hall-public-safety.jpg
END:VEVENT
BEGIN:VEVENT
DTSTART;TZID=UTC:20230209T183000
DTEND;TZID=UTC:20230209T210000
DTSTAMP:20260423T192909
CREATED:20230206T211403Z
LAST-MODIFIED:20230206T211403Z
UID:10001588-1675967400-1675976400@www.princewilliamdemocrats.com
SUMMARY:Gainesville District Special Election Candidates Forum
DESCRIPTION:There will be a Gainesville Supervisor Candidate Forum on Thurs\, 2/9 \n\n\nCome support Sumers for Gainesville Supervisor & see why she’s the best choice for the Gainesville District!\n\n\nSubmit questions by 5pm on Monday\, 2/6:\nClick Here\n\n\nCandidate Forum Details:\nClick Here
URL:https://www.princewilliamdemocrats.com/event/gainesville-district-special-election-candidates-forum/
LOCATION:Battlefield High School\, 15000 Graduation Dr.\, Haymarket\, VA\, 20169
CATEGORIES:Prince William County Event
ATTACH;FMTTYPE=image/jpeg:https://www.princewilliamdemocrats.com/wp-content/uploads/2023/02/2023-gainesville-special-election-forum.jpg
END:VEVENT
BEGIN:VEVENT
DTSTART;TZID=UTC:20230225T110000
DTEND;TZID=UTC:20230225T140000
DTSTAMP:20260423T192909
CREATED:20230206T231232Z
LAST-MODIFIED:20230206T231232Z
UID:10001593-1677322800-1677333600@www.princewilliamdemocrats.com
SUMMARY:Black History Month - Guest Speaker Rev Cozy Bailey
DESCRIPTION:Please join us for our Annual Black History Black History Program! Looking forward to hearing from PWC NAACP President Rev. Cozy Bailey on my personal favorite subject Black Resistance! Hope to see you there!
URL:https://www.princewilliamdemocrats.com/event/2023-02-25-11am-black-history-month-guest-speaker-rev-cozy-bailey/
CATEGORIES:Prince William County Event
ATTACH;FMTTYPE=image/jpeg:https://www.princewilliamdemocrats.com/wp-content/uploads/2023/02/2023-black-history-month-at-baptist-church.jpg
END:VEVENT
END:VCALENDAR