BEGIN:VCALENDAR
VERSION:2.0
PRODID:-//Prince William County Democrats - ECPv6.15.20//NONSGML v1.0//EN
CALSCALE:GREGORIAN
METHOD:PUBLISH
X-WR-CALNAME:Prince William County Democrats
X-ORIGINAL-URL:https://www.princewilliamdemocrats.com
X-WR-CALDESC:Events for Prince William County Democrats
REFRESH-INTERVAL;VALUE=DURATION:PT1H
X-Robots-Tag:noindex
X-PUBLISHED-TTL:PT1H
BEGIN:VTIMEZONE
TZID:UTC
BEGIN:STANDARD
TZOFFSETFROM:+0000
TZOFFSETTO:+0000
TZNAME:UTC
DTSTART:20220101T000000
END:STANDARD
END:VTIMEZONE
BEGIN:VEVENT
DTSTART;TZID=UTC:20230326T160000
DTEND;TZID=UTC:20230326T180000
DTSTAMP:20260424T060819
CREATED:20230315T233013Z
LAST-MODIFIED:20230315T233034Z
UID:10001614-1679846400-1679853600@www.princewilliamdemocrats.com
SUMMARY:Support Julia Biggins Campaign for PWC School Board Chair
DESCRIPTION:Julia is running for Prince William County School Board Chair to make bold changes to improve the delivery of quality education to our students and ensure teachers are treated fairly and with respect in the classroom and at the bargaining table. She will fight for all students regardless of where they live in the county or what language is spoken at home. \nFor More Details: Click Here
URL:https://www.princewilliamdemocrats.com/event/2023-03-26-4pm-support-julia-biggins-campaign-for-pwc-school-board-chair/
CATEGORIES:Prince William County Canvass
ATTACH;FMTTYPE=image/jpeg:https://www.princewilliamdemocrats.com/wp-content/uploads/2023/03/julia-biggins-for-pwc-school-board-chair.jpg
END:VEVENT
END:VCALENDAR