BEGIN:VCALENDAR
VERSION:2.0
PRODID:-//Prince William County Democrats - ECPv6.15.20//NONSGML v1.0//EN
CALSCALE:GREGORIAN
METHOD:PUBLISH
X-WR-CALNAME:Prince William County Democrats
X-ORIGINAL-URL:https://www.princewilliamdemocrats.com
X-WR-CALDESC:Events for Prince William County Democrats
REFRESH-INTERVAL;VALUE=DURATION:PT1H
X-Robots-Tag:noindex
X-PUBLISHED-TTL:PT1H
BEGIN:VTIMEZONE
TZID:UTC
BEGIN:STANDARD
TZOFFSETFROM:+0000
TZOFFSETTO:+0000
TZNAME:UTC
DTSTART:20210101T000000
END:STANDARD
END:VTIMEZONE
BEGIN:VEVENT
DTSTART;TZID=UTC:20221022T130000
DTEND;TZID=UTC:20221022T160000
DTSTAMP:20260424T100535
CREATED:20221018T145118Z
LAST-MODIFIED:20221018T145143Z
UID:10001544-1666443600-1666454400@www.princewilliamdemocrats.com
SUMMARY:Canvass Launch for Dumfries Town Council
DESCRIPTION:The Prince William County Potomac District Democratic Committee invites you to canvass for our 2022 #DumfriesTownCouncil Democratic candidates on Saturday\, 10/22! \n\n\n\nWe’re canvassing for Mayor Derrick Wood for Dumfries Mayor\, and Vice Mayor Monae Nickerson\, Councilwoman Selonia Miles\, & Caetriana Peterson (write-in candidate) for #Dumfries Town Council  \n\n\n\nSign up here: Click Here
URL:https://www.princewilliamdemocrats.com/event/2022-10-22-1pm-canvass-launch-for-dumfries-town-council/
CATEGORIES:Prince William County Canvass,Prince William County Democratic Event
ATTACH;FMTTYPE=image/jpeg:https://www.princewilliamdemocrats.com/wp-content/uploads/2022/10/2022-canvass-launch-for-dumfries-town-council.jpg
END:VEVENT
END:VCALENDAR