BEGIN:VCALENDAR
VERSION:2.0
PRODID:-//Prince William County Democrats - ECPv6.15.20//NONSGML v1.0//EN
CALSCALE:GREGORIAN
METHOD:PUBLISH
X-WR-CALNAME:Prince William County Democrats
X-ORIGINAL-URL:https://www.princewilliamdemocrats.com
X-WR-CALDESC:Events for Prince William County Democrats
REFRESH-INTERVAL;VALUE=DURATION:PT1H
X-Robots-Tag:noindex
X-PUBLISHED-TTL:PT1H
BEGIN:VTIMEZONE
TZID:UTC
BEGIN:STANDARD
TZOFFSETFROM:+0000
TZOFFSETTO:+0000
TZNAME:UTC
DTSTART:20220101T000000
END:STANDARD
END:VTIMEZONE
BEGIN:VEVENT
DTSTART;TZID=UTC:20230812T100000
DTEND;TZID=UTC:20230812T130000
DTSTAMP:20260423T054935
CREATED:20230813T151733Z
LAST-MODIFIED:20230813T151733Z
UID:10001700-1691834400-1691845200@www.princewilliamdemocrats.com
SUMMARY:Knock On Doors With Deshundra Jefferson and Adele Jackson in Brentsville
DESCRIPTION:Join PWC Chair of Board Candidate Deshundra Jefferson\, School Board Adele Jackson\, and more Democrats for door-to-door canvassing! We’ll be talking with our neighbors about the issues that are important to them – and why our Democratic candidates are the right people to move Prince William County forward! \nFor More Details: Click Here
URL:https://www.princewilliamdemocrats.com/event/2023-08-12-10am-knock-on-doors-with-deshundra-jefferson-and-adele-jackson-in-brentsville/
CATEGORIES:Prince William County Canvass
ATTACH;FMTTYPE=image/png:https://www.princewilliamdemocrats.com/wp-content/uploads/2023/08/2023-knock-doors-deshundra-jackson.png
END:VEVENT
END:VCALENDAR