BEGIN:VCALENDAR
VERSION:2.0
PRODID:-//Prince William County Democrats - ECPv6.15.20//NONSGML v1.0//EN
CALSCALE:GREGORIAN
METHOD:PUBLISH
X-WR-CALNAME:Prince William County Democrats
X-ORIGINAL-URL:https://www.princewilliamdemocrats.com
X-WR-CALDESC:Events for Prince William County Democrats
REFRESH-INTERVAL;VALUE=DURATION:PT1H
X-Robots-Tag:noindex
X-PUBLISHED-TTL:PT1H
BEGIN:VTIMEZONE
TZID:UTC
BEGIN:STANDARD
TZOFFSETFROM:+0000
TZOFFSETTO:+0000
TZNAME:UTC
DTSTART:20240101T000000
END:STANDARD
END:VTIMEZONE
BEGIN:VEVENT
DTSTART;TZID=UTC:20250907T160000
DTEND;TZID=UTC:20250907T180000
DTSTAMP:20260422T123032
CREATED:20250827T030026Z
LAST-MODIFIED:20250827T030302Z
UID:10002367-1757260800-1757268000@www.princewilliamdemocrats.com
SUMMARY:Join George Stewart for a Fundraiser
DESCRIPTION:Join George Stewart\, candidate for Gainesville District Supervisor\, for a fantastic evening in Lake Ridge. The event will be held September 7th from 4-6pm. RSVP for address. \n\n\n\nFor More Details: Click Here
URL:https://www.princewilliamdemocrats.com/event/2025-09-07-4pm-join-george-stewart-for-a-fundraiser/
CATEGORIES:Prince William County Democratic Event
ATTACH;FMTTYPE=image/png:https://www.princewilliamdemocrats.com/wp-content/uploads/2025/08/2025-george-for-gainesville-sept-7th.png
END:VEVENT
END:VCALENDAR