BEGIN:VCALENDAR
VERSION:2.0
PRODID:-//Prince William County Democrats - ECPv6.15.20//NONSGML v1.0//EN
CALSCALE:GREGORIAN
METHOD:PUBLISH
X-WR-CALNAME:Prince William County Democrats
X-ORIGINAL-URL:https://www.princewilliamdemocrats.com
X-WR-CALDESC:Events for Prince William County Democrats
REFRESH-INTERVAL;VALUE=DURATION:PT1H
X-Robots-Tag:noindex
X-PUBLISHED-TTL:PT1H
BEGIN:VTIMEZONE
TZID:UTC
BEGIN:STANDARD
TZOFFSETFROM:+0000
TZOFFSETTO:+0000
TZNAME:UTC
DTSTART:20240101T000000
END:STANDARD
END:VTIMEZONE
BEGIN:VEVENT
DTSTART;TZID=UTC:20250331T183000
DTEND;TZID=UTC:20250331T203000
DTSTAMP:20260420T113047
CREATED:20250331T181712Z
LAST-MODIFIED:20250331T181712Z
UID:10002264-1743445800-1743453000@www.princewilliamdemocrats.com
SUMMARY:Jay Jones For Virginia
DESCRIPTION:Please join us for a reception Honoring Jay Jones on March 31st! \n  \nJoAnn and Harry Wiggins \n(Host Committee in Formation) \n  \nfor a fundraising reception honoring  \nVA Attorney General candidate \n  \nJay Jones \n  \nMonday\, March 31\, 2025 \n6:30 PM \n  \nThe Home of Harry Wiggins \n3525 Waters End Trail \nLake Ridge\, VA 22192 \n*Park at Lake Ridge Elementary School\, shuttle service provided \n  \nSuggested Contribution \nHost: $5\,000 | Co-Host: $2\,500 | Sponsor: $1\,000 \nFriend: $500 | Guest: $250 \nJay Jones — Donate via ActBlue
URL:https://www.princewilliamdemocrats.com/event/2025-03-31-630pm-jay-jones-for-virginia/
CATEGORIES:Prince William County Democratic Event
ATTACH;FMTTYPE=image/png:https://www.princewilliamdemocrats.com/wp-content/uploads/2025/03/2025-jay-jones-for-virginia-event.png
END:VEVENT
BEGIN:VEVENT
DTSTART;TZID=UTC:20250331T190000
DTEND;TZID=UTC:20250331T210000
DTSTAMP:20260420T113047
CREATED:20240706T135117Z
LAST-MODIFIED:20240706T135117Z
UID:10001924-1743447600-1743454800@www.princewilliamdemocrats.com
SUMMARY:PWCDC Outreach Committee
DESCRIPTION:
URL:https://www.princewilliamdemocrats.com/event/pwcdc-outreach-committee-2/2025-03-31/
CATEGORIES:District Meeting
ATTACH;FMTTYPE=image/jpeg:https://www.princewilliamdemocrats.com/wp-content/uploads/2021/02/democratic-monthly-meeting.jpg
END:VEVENT
END:VCALENDAR