BEGIN:VCALENDAR
VERSION:2.0
PRODID:-//Prince William County Democrats - ECPv6.15.20//NONSGML v1.0//EN
CALSCALE:GREGORIAN
METHOD:PUBLISH
X-WR-CALNAME:Prince William County Democrats
X-ORIGINAL-URL:https://www.princewilliamdemocrats.com
X-WR-CALDESC:Events for Prince William County Democrats
REFRESH-INTERVAL;VALUE=DURATION:PT1H
X-Robots-Tag:noindex
X-PUBLISHED-TTL:PT1H
BEGIN:VTIMEZONE
TZID:UTC
BEGIN:STANDARD
TZOFFSETFROM:+0000
TZOFFSETTO:+0000
TZNAME:UTC
DTSTART:20240101T000000
END:STANDARD
END:VTIMEZONE
BEGIN:VEVENT
DTSTART;TZID=UTC:20250324T183000
DTEND;TZID=UTC:20250324T203000
DTSTAMP:20260420T112151
CREATED:20250323T195027Z
LAST-MODIFIED:20250323T195118Z
UID:10002262-1742841000-1742848200@www.princewilliamdemocrats.com
SUMMARY:Dr. Babur Lateef for Lieutenant Governor
DESCRIPTION:For More Details: Click Here \nJoin Us for An Evening in Support of Dr. Babur Lateef for Lieutenant Governor\n\n  \nYou are cordially invited to a reception supporting Dr. Babur Lateef for Lieutenant Governor of Virginia hosted by: \nHarry Wiggins\, Ernestine Jenkins & Mayor Earnie Porta \nwith Special Guest: \nDel. Luke Torian \nCome enjoy an evening of engaging conversation about Virginia’s future as we gather in support of Dr. Lateef. \nDate: Monday\, March 24th \nTime: 6:30-8:30 PM \nLocation: Lake Ridge\, VA \nAddress Shared with RSVP \n\n 
URL:https://www.princewilliamdemocrats.com/event/2025-03-24-630pm-dr-babur-lateef-for-lieutenant-governor/
CATEGORIES:Prince William County Democratic Event
ATTACH;FMTTYPE=image/png:https://www.princewilliamdemocrats.com/wp-content/uploads/2025/03/2025-03-24-dr-babur-lateef-fundraiser.png
END:VEVENT
BEGIN:VEVENT
DTSTART;TZID=UTC:20250324T190000
DTEND;TZID=UTC:20250324T203000
DTSTAMP:20260420T112151
CREATED:20240806T163430Z
LAST-MODIFIED:20240806T163430Z
UID:10002002-1742842800-1742848200@www.princewilliamdemocrats.com
SUMMARY:Black Democratic Committee Monthly Meeting
DESCRIPTION:
URL:https://www.princewilliamdemocrats.com/event/black-democratic-committee-monthly-meeting/2025-03-24/
LOCATION:Virtual Event
CATEGORIES:District Meeting
ATTACH;FMTTYPE=image/jpeg:https://www.princewilliamdemocrats.com/wp-content/uploads/2021/02/democratic-monthly-meeting.jpg
END:VEVENT
END:VCALENDAR