BEGIN:VCALENDAR
VERSION:2.0
PRODID:-//Prince William County Democrats - ECPv6.15.20//NONSGML v1.0//EN
CALSCALE:GREGORIAN
METHOD:PUBLISH
X-WR-CALNAME:Prince William County Democrats
X-ORIGINAL-URL:https://www.princewilliamdemocrats.com
X-WR-CALDESC:Events for Prince William County Democrats
REFRESH-INTERVAL;VALUE=DURATION:PT1H
X-Robots-Tag:noindex
X-PUBLISHED-TTL:PT1H
BEGIN:VTIMEZONE
TZID:UTC
BEGIN:STANDARD
TZOFFSETFROM:+0000
TZOFFSETTO:+0000
TZNAME:UTC
DTSTART:20240101T000000
END:STANDARD
END:VTIMEZONE
BEGIN:VEVENT
DTSTART;TZID=UTC:20250323T133000
DTEND;TZID=UTC:20250323T150000
DTSTAMP:20260420T075058
CREATED:20250323T190601Z
LAST-MODIFIED:20250323T190747Z
UID:10002261-1742736600-1742742000@www.princewilliamdemocrats.com
SUMMARY:Support Abigail Spanberger - Woodbridge!
DESCRIPTION:For More Details: Click Here \nSupervisor Andrea Bailey | Hon. Joyce Connery \nSupervisor Margaret Franklin | Charlie Jackson \nCamille & Gene Klein | Chair Deshundra Jefferson \nSen. Jeremy McPike | Marian & Carl Patey | Mayor Earnie Porta \nDel. Candi Mundon King | Dr. Myra Sawyers | Tonya James \nHon. Ann Wheeler | Vice Mayor Mark Wolfe \n(Host committee in formation) \ninvite you to a fundraising reception in support of \nAbigail Spanberger for Governor \nSunday\, March 23\, 2025 \n1:30 – 3:00 PM \nWoodbridge\, VA \nAddress provided upon RSVP \nFor more information\, please contact: \nCarly Choppin at carly@abigailspanberger.com
URL:https://www.princewilliamdemocrats.com/event/2025-03-23-130pm-support-abigail-spanberger-march-23rd-in-woodbridge/
CATEGORIES:Prince William County Democratic Event
ATTACH;FMTTYPE=image/jpeg:https://www.princewilliamdemocrats.com/wp-content/uploads/2025/03/2025-abigail-spanberger.jpg
END:VEVENT
END:VCALENDAR