BEGIN:VCALENDAR
VERSION:2.0
PRODID:-//Prince William County Democrats - ECPv6.15.20//NONSGML v1.0//EN
CALSCALE:GREGORIAN
METHOD:PUBLISH
X-WR-CALNAME:Prince William County Democrats
X-ORIGINAL-URL:https://www.princewilliamdemocrats.com
X-WR-CALDESC:Events for Prince William County Democrats
REFRESH-INTERVAL;VALUE=DURATION:PT1H
X-Robots-Tag:noindex
X-PUBLISHED-TTL:PT1H
BEGIN:VTIMEZONE
TZID:UTC
BEGIN:STANDARD
TZOFFSETFROM:+0000
TZOFFSETTO:+0000
TZNAME:UTC
DTSTART:20240101T000000
END:STANDARD
END:VTIMEZONE
BEGIN:VEVENT
DTSTART;TZID=UTC:20250304T140000
DTEND;TZID=UTC:20250304T170000
DTSTAMP:20260420T112144
CREATED:20250305T161734Z
LAST-MODIFIED:20250305T161752Z
UID:10002254-1741096800-1741107600@www.princewilliamdemocrats.com
SUMMARY:Board Of County Supervisors Meeting
DESCRIPTION:Board Of County Supervisors –  PWC Website (More Info Click Here) \nPage Resources Include The Following \n\nLive Video\, Brief & Archives (More Info Click Here)\n\nBoard Agenda\nAgenda\nBriefs\nVideo Podcast\nArchive\n\n\nCurrent Agenda\nSpeak Up! Prince William\nMeeting Schedule\nDistrict Map\nRules of Procedures\nStatement of Economic Interest\nSign Up for eNotifications\nWho are Your Elected Officials\n\n*Because changes can occur\, please navigate to the above links for the most up to date times\, locations\, agendas and details about meetings.
URL:https://www.princewilliamdemocrats.com/event/2025-03-04-2pm-board-of-county-supervisors-meeting/
LOCATION:McCoart\, 1 County Complex Ct\, Woodbridge\, VA\, 22192\, United States
CATEGORIES:PWC Board of County Supervisors Meeting
ATTACH;FMTTYPE=image/jpeg:https://www.princewilliamdemocrats.com/wp-content/uploads/2025/02/pwc-bocs-meetings.jpg
END:VEVENT
BEGIN:VEVENT
DTSTART;TZID=UTC:20250304T190000
DTEND;TZID=UTC:20250304T210000
DTSTAMP:20260420T112144
CREATED:20250304T192014Z
LAST-MODIFIED:20250304T192238Z
UID:10002244-1741114800-1741122000@www.princewilliamdemocrats.com
SUMMARY:Join the Brentsville Democrats and Friends for a Dessert & Democracy Pop-Up Social
DESCRIPTION:Where: Great Mane Brewery\nAddress: 6620 James Madison Hwy\, Haymarket\, VA 20169\nWhen: Tuesday\, March 4th at 7pm to 9pm \nCome enjoy a relaxed evening with like-minded friends\, grab a pint of Great Mane brew\, enjoy some desserts\, and partake in great conversation.\nThis is a casual gathering\, not a formal meeting—just an opportunity to connect\, unwind\, and chat with like-minded friends. \nNo agenda\, no speeches—just good company and sweet treats! \nWe hope to see you there! \nContact either of us if you have any questions!\nAdele Jackson or Laura Cowell
URL:https://www.princewilliamdemocrats.com/event/2025-03-04-7pm-join-the-brentsville-democrats-and-friends-for-a-dessert-democracy-pop-up-social/
CATEGORIES:Prince William County Democratic Event
ATTACH;FMTTYPE=image/jpeg:https://www.princewilliamdemocrats.com/wp-content/uploads/2023/05/pwc-democrats-mobilize.jpg
END:VEVENT
END:VCALENDAR