BEGIN:VCALENDAR
VERSION:2.0
PRODID:-//Prince William County Democrats - ECPv6.15.20//NONSGML v1.0//EN
CALSCALE:GREGORIAN
METHOD:PUBLISH
X-WR-CALNAME:Prince William County Democrats
X-ORIGINAL-URL:https://www.princewilliamdemocrats.com
X-WR-CALDESC:Events for Prince William County Democrats
REFRESH-INTERVAL;VALUE=DURATION:PT1H
X-Robots-Tag:noindex
X-PUBLISHED-TTL:PT1H
BEGIN:VTIMEZONE
TZID:UTC
BEGIN:STANDARD
TZOFFSETFROM:+0000
TZOFFSETTO:+0000
TZNAME:UTC
DTSTART:20240101T000000
END:STANDARD
END:VTIMEZONE
BEGIN:VEVENT
DTSTART;TZID=UTC:20250226T190000
DTEND;TZID=UTC:20250226T200000
DTSTAMP:20260420T113051
CREATED:20250227T145248Z
LAST-MODIFIED:20250227T150249Z
UID:10002242-1740596400-1740600000@www.princewilliamdemocrats.com
SUMMARY:Andrea Bailey Potomac District Supervisor And Virginia Democratic Small Business Caucus
DESCRIPTION:Join Supervisor Andrea Bailey Wednesday 2/26 at 7 PM as I sit down with Mark Cannady for the VADSBC Show LIVE! We’ll be talking about small businesses\, community leadership\, and the future of economic development in Virginia. \nTune in live on the VADSBC Facebook\, Instagram\, YouTube\, and LinkedIn! Let’s keep the conversation going. \n#VADSBCShow #SmallBusiness #Leadership #Community #EconomicDevelopment
URL:https://www.princewilliamdemocrats.com/event/2025-02-26-7pm-supervisor-andrea-bailey-and-vadsbc/
CATEGORIES:Prince William County Democratic Event
ATTACH;FMTTYPE=image/jpeg:https://www.princewilliamdemocrats.com/wp-content/uploads/2025/02/2025-supervisor-andrea-bailey-small-business.jpeg
END:VEVENT
BEGIN:VEVENT
DTSTART;TZID=UTC:20250226T190000
DTEND;TZID=UTC:20250226T210000
DTSTAMP:20260420T113051
CREATED:20250227T150007Z
LAST-MODIFIED:20250227T150408Z
UID:10002243-1740596400-1740603600@www.princewilliamdemocrats.com
SUMMARY:Supervisor Margaret Angela Franklin Black History Month Celebration
DESCRIPTION:
URL:https://www.princewilliamdemocrats.com/event/2025-02-26-7pm-supervisor-margaret-angela-franklin-black-history-month-celebration/
LOCATION:Virtual Event
CATEGORIES:Prince William County Event
ATTACH;FMTTYPE=image/jpeg:https://www.princewilliamdemocrats.com/wp-content/uploads/2025/02/2025-supervisor-angela-franklin-black-history-month.jpg
END:VEVENT
END:VCALENDAR