BEGIN:VCALENDAR
VERSION:2.0
PRODID:-//Prince William County Democrats - ECPv6.15.20//NONSGML v1.0//EN
CALSCALE:GREGORIAN
METHOD:PUBLISH
X-WR-CALNAME:Prince William County Democrats
X-ORIGINAL-URL:https://www.princewilliamdemocrats.com
X-WR-CALDESC:Events for Prince William County Democrats
REFRESH-INTERVAL;VALUE=DURATION:PT1H
X-Robots-Tag:noindex
X-PUBLISHED-TTL:PT1H
BEGIN:VTIMEZONE
TZID:UTC
BEGIN:STANDARD
TZOFFSETFROM:+0000
TZOFFSETTO:+0000
TZNAME:UTC
DTSTART:20240101T000000
END:STANDARD
END:VTIMEZONE
BEGIN:VEVENT
DTSTART;TZID=UTC:20250223T153000
DTEND;TZID=UTC:20250223T173000
DTSTAMP:20260420T044049
CREATED:20250213T162035Z
LAST-MODIFIED:20250219T012112Z
UID:10002237-1740324600-1740331800@www.princewilliamdemocrats.com
SUMMARY:Join The Potomac Dems To Honor The Service Of Black Women In The Military
DESCRIPTION:For More Details: Click Here
URL:https://www.princewilliamdemocrats.com/event/2025-02-23-3pm-join-the-potomac-dems-to-honor-the-service-of-black-women-in-the-military/
CATEGORIES:Prince William County Democratic Event
ATTACH;FMTTYPE=image/png:https://www.princewilliamdemocrats.com/wp-content/uploads/2025/02/2025-02-potomac-dems-service-women-in-military.png
END:VEVENT
END:VCALENDAR