BEGIN:VCALENDAR
VERSION:2.0
PRODID:-//Prince William County Democrats - ECPv6.15.20//NONSGML v1.0//EN
CALSCALE:GREGORIAN
METHOD:PUBLISH
X-WR-CALNAME:Prince William County Democrats
X-ORIGINAL-URL:https://www.princewilliamdemocrats.com
X-WR-CALDESC:Events for Prince William County Democrats
REFRESH-INTERVAL;VALUE=DURATION:PT1H
X-Robots-Tag:noindex
X-PUBLISHED-TTL:PT1H
BEGIN:VTIMEZONE
TZID:UTC
BEGIN:STANDARD
TZOFFSETFROM:+0000
TZOFFSETTO:+0000
TZNAME:UTC
DTSTART:20240101T000000
END:STANDARD
END:VTIMEZONE
BEGIN:VEVENT
DTSTART;TZID=UTC:20250203T190000
DTEND;TZID=UTC:20250203T200000
DTSTAMP:20260420T044130
CREATED:20250129T184159Z
LAST-MODIFIED:20250129T184233Z
UID:10002216-1738609200-1738612800@www.princewilliamdemocrats.com
SUMMARY:Rep. Suhas Subramanyam Town Hall
DESCRIPTION:For More Details: Click Here \n\nRep. Subramanyam Town Hall on Recent Federal Freeze\, Federal Cuts\, and DOGE\n\n\n\nYou’re invited to Congressman Suhas Subramanyam’s first town hall! The focus of this town hall will be on the recent federal freeze\, federal cuts\, and DOGE. As a member of the House Oversight Committee\, he is interested in hearing from federal employees and contractors in the district and how recent executive orders will impact the federal workforce and government services. The Congressman will provide an update on legislative efforts to protect the civil service and discuss efforts for government efficiency. \nWhen:    Monday\, February 3rd\, 2025 — 7:00 pm – 8:00 pm (Doors Open 6:30 pm) \nWhere:   Loudoun County Government Building\, 1 Harrison Street\, SE\, Leesburg\, VA 20175 \n\n 
URL:https://www.princewilliamdemocrats.com/event/2025-02-03-7pm-suhas-subramanyam-town-hall/
CATEGORIES:Prince William County Democratic Event
ATTACH;FMTTYPE=image/jpeg:https://www.princewilliamdemocrats.com/wp-content/uploads/2025/01/2025-suhas-10thcd-townhall.jpeg
END:VEVENT
BEGIN:VEVENT
DTSTART;TZID=UTC:20250203T190000
DTEND;TZID=UTC:20250203T210000
DTSTAMP:20260420T044130
CREATED:20240706T135117Z
LAST-MODIFIED:20240706T135117Z
UID:10001920-1738609200-1738616400@www.princewilliamdemocrats.com
SUMMARY:PWCDC Outreach Committee
DESCRIPTION:
URL:https://www.princewilliamdemocrats.com/event/pwcdc-outreach-committee-2/2025-02-03/
CATEGORIES:District Meeting
ATTACH;FMTTYPE=image/jpeg:https://www.princewilliamdemocrats.com/wp-content/uploads/2021/02/democratic-monthly-meeting.jpg
END:VEVENT
BEGIN:VEVENT
DTSTART;TZID=UTC:20250203T193000
DTEND;TZID=UTC:20250203T213000
DTSTAMP:20260420T044130
CREATED:20240706T134823Z
LAST-MODIFIED:20240706T134823Z
UID:10001895-1738611000-1738618200@www.princewilliamdemocrats.com
SUMMARY:PWCDC Precinct Operations Meeting
DESCRIPTION:
URL:https://www.princewilliamdemocrats.com/event/pwcdc-precinct-operations-meeting/2025-02-03/
CATEGORIES:District Meeting
ATTACH;FMTTYPE=image/jpeg:https://www.princewilliamdemocrats.com/wp-content/uploads/2021/02/democratic-monthly-meeting.jpg
END:VEVENT
END:VCALENDAR