BEGIN:VCALENDAR
VERSION:2.0
PRODID:-//Prince William County Democrats - ECPv6.15.20//NONSGML v1.0//EN
CALSCALE:GREGORIAN
METHOD:PUBLISH
X-WR-CALNAME:Prince William County Democrats
X-ORIGINAL-URL:https://www.princewilliamdemocrats.com
X-WR-CALDESC:Events for Prince William County Democrats
REFRESH-INTERVAL;VALUE=DURATION:PT1H
X-Robots-Tag:noindex
X-PUBLISHED-TTL:PT1H
BEGIN:VTIMEZONE
TZID:UTC
BEGIN:STANDARD
TZOFFSETFROM:+0000
TZOFFSETTO:+0000
TZNAME:UTC
DTSTART:20240101T000000
END:STANDARD
END:VTIMEZONE
BEGIN:VEVENT
DTSTART;VALUE=DATE:20250130
DTEND;VALUE=DATE:20250131
DTSTAMP:20260420T040856
CREATED:20250129T183647Z
LAST-MODIFIED:20250129T183732Z
UID:10002215-1738195200-1738281599@www.princewilliamdemocrats.com
SUMMARY:Legislative Day
DESCRIPTION:Hello Prince William Dems\, \n\n\n\nJust a quick reminder to RSVP for Legislative Day! This year’s event will take place on Thursday\, January 30th\, in Richmond\, and we’d love to see you there. Feel free to share this with anyone who might be interested. To RSVP\, simply fill out this form: DPVA Legislative Day 2025 Registration Form. We’ve also included a list of hotels in the area if you’d like to book a room in advance. \n\n\n\nAdditional details will be shared as we get closer to the event. If you have any questions or need to share information\, please don’t hesitate to email gckanoyton@gmail.com. \n\n\n\nWe look forward to seeing you in Richmond! \n\n\n\nHotels \n\n\n\nBelow are some hotels around the area for folks who want to stay the night in Richmond. \n\n\n\nHampton Inn and Suites Downtown Richmond VA Hotel  \n\n\n\nGraduate Richmond \n\n\n\nDelta Hotels Richmond Downtown \n\n\n\nMoxy Richmond Downtown \n\n\n\nHoliday Inn Express Richmond – Downtown  \n\n\n\nOmni Hotel Richmond \n\n\n\nThe Commonwealth
URL:https://www.princewilliamdemocrats.com/event/2025-01-30-legislative-day/
CATEGORIES:Virginia Democratic Event
ATTACH;FMTTYPE=image/jpeg:https://www.princewilliamdemocrats.com/wp-content/uploads/2023/05/pwc-democrats-mobilize.jpg
END:VEVENT
END:VCALENDAR