BEGIN:VCALENDAR
VERSION:2.0
PRODID:-//Prince William County Democrats - ECPv6.15.20//NONSGML v1.0//EN
CALSCALE:GREGORIAN
METHOD:PUBLISH
X-ORIGINAL-URL:https://www.princewilliamdemocrats.com
X-WR-CALDESC:Events for Prince William County Democrats
REFRESH-INTERVAL;VALUE=DURATION:PT1H
X-Robots-Tag:noindex
X-PUBLISHED-TTL:PT1H
BEGIN:VTIMEZONE
TZID:UTC
BEGIN:STANDARD
TZOFFSETFROM:+0000
TZOFFSETTO:+0000
TZNAME:UTC
DTSTART:20240101T000000
END:STANDARD
END:VTIMEZONE
BEGIN:VEVENT
DTSTART;VALUE=DATE:20250120
DTEND;VALUE=DATE:20250121
DTSTAMP:20260420T041102
CREATED:20250103T030530Z
LAST-MODIFIED:20250103T030617Z
UID:10002202-1737331200-1737417599@www.princewilliamdemocrats.com
SUMMARY:MLK Day
DESCRIPTION:
URL:https://www.princewilliamdemocrats.com/event/2025-01-20-mlk-day/
CATEGORIES:National Holiday
ATTACH;FMTTYPE=image/jpeg:https://www.princewilliamdemocrats.com/wp-content/uploads/2025/01/2025-mlk-day.jpg
END:VEVENT
BEGIN:VEVENT
DTSTART;VALUE=DATE:20250120
DTEND;VALUE=DATE:20250121
DTSTAMP:20260420T041102
CREATED:20250103T030813Z
LAST-MODIFIED:20250103T030813Z
UID:10002203-1737331200-1737417599@www.princewilliamdemocrats.com
SUMMARY:Presidential Inauguration
DESCRIPTION:
URL:https://www.princewilliamdemocrats.com/event/2025-01-20-presidential-inauguration/
CATEGORIES:President Inauguration
ATTACH;FMTTYPE=image/jpeg:https://www.princewilliamdemocrats.com/wp-content/uploads/2025/01/2024-01-20-president-inauguration.jpg
END:VEVENT
BEGIN:VEVENT
DTSTART;TZID=UTC:20250120T190000
DTEND;TZID=UTC:20250120T210000
DTSTAMP:20260420T041103
CREATED:20240706T135117Z
LAST-MODIFIED:20240706T135117Z
UID:10001919-1737399600-1737406800@www.princewilliamdemocrats.com
SUMMARY:PWCDC Outreach Committee
DESCRIPTION:
URL:https://www.princewilliamdemocrats.com/event/pwcdc-outreach-committee-2/2025-01-20/
CATEGORIES:District Meeting
ATTACH;FMTTYPE=image/jpeg:https://www.princewilliamdemocrats.com/wp-content/uploads/2021/02/democratic-monthly-meeting.jpg
END:VEVENT
END:VCALENDAR