BEGIN:VCALENDAR
VERSION:2.0
PRODID:-//Prince William County Democrats - ECPv6.15.20//NONSGML v1.0//EN
CALSCALE:GREGORIAN
METHOD:PUBLISH
X-ORIGINAL-URL:https://www.princewilliamdemocrats.com
X-WR-CALDESC:Events for Prince William County Democrats
REFRESH-INTERVAL;VALUE=DURATION:PT1H
X-Robots-Tag:noindex
X-PUBLISHED-TTL:PT1H
BEGIN:VTIMEZONE
TZID:UTC
BEGIN:STANDARD
TZOFFSETFROM:+0000
TZOFFSETTO:+0000
TZNAME:UTC
DTSTART:20240101T000000
END:STANDARD
END:VTIMEZONE
BEGIN:VEVENT
DTSTART;TZID=UTC:20250118T090000
DTEND;TZID=UTC:20250118T100000
DTSTAMP:20260420T071040
CREATED:20241220T161602Z
LAST-MODIFIED:20241220T161602Z
UID:10002177-1737190800-1737194400@www.princewilliamdemocrats.com
SUMMARY:Potomac District Monthly Meeting
DESCRIPTION:Please contact Potomac District Leadership for additional details.
URL:https://www.princewilliamdemocrats.com/event/2025-01-18-9am-potomac-district-monthly-meeting/
LOCATION:Virtual Event
CATEGORIES:District Meeting
ATTACH;FMTTYPE=image/jpeg:https://www.princewilliamdemocrats.com/wp-content/uploads/2021/02/democratic-monthly-meeting.jpg
END:VEVENT
BEGIN:VEVENT
DTSTART;TZID=UTC:20250118T110000
DTEND;TZID=UTC:20250118T130000
DTSTAMP:20260420T071040
CREATED:20250118T134059Z
LAST-MODIFIED:20250118T134059Z
UID:10002213-1737198000-1737205200@www.princewilliamdemocrats.com
SUMMARY:MLK Holiday DC
DESCRIPTION:More Details: Click Here\n\n \n\nWe welcome all residents of the District of Columbia and surrounding areas to take part in the annual Dr. Martin Luther King\, Jr. Peace Walk and Parade.
URL:https://www.princewilliamdemocrats.com/event/2025-01-18-11am-mlk-holiday-dc/
CATEGORIES:National Holiday
ATTACH;FMTTYPE=image/png:https://www.princewilliamdemocrats.com/wp-content/uploads/2025/01/2025-mlk-day.png
END:VEVENT
END:VCALENDAR