BEGIN:VCALENDAR
VERSION:2.0
PRODID:-//Prince William County Democrats - ECPv6.15.20//NONSGML v1.0//EN
CALSCALE:GREGORIAN
METHOD:PUBLISH
X-ORIGINAL-URL:https://www.princewilliamdemocrats.com
X-WR-CALDESC:Events for Prince William County Democrats
REFRESH-INTERVAL;VALUE=DURATION:PT1H
X-Robots-Tag:noindex
X-PUBLISHED-TTL:PT1H
BEGIN:VTIMEZONE
TZID:UTC
BEGIN:STANDARD
TZOFFSETFROM:+0000
TZOFFSETTO:+0000
TZNAME:UTC
DTSTART:20240101T000000
END:STANDARD
END:VTIMEZONE
BEGIN:VEVENT
DTSTART;TZID=UTC:20250104T090000
DTEND;TZID=UTC:20250104T100000
DTSTAMP:20260419T232930
CREATED:20250103T031013Z
LAST-MODIFIED:20250103T031040Z
UID:10002204-1735981200-1735984800@www.princewilliamdemocrats.com
SUMMARY:Coles District Monthly Meeting
DESCRIPTION:Please contact Coles District Leadership for additional details.
URL:https://www.princewilliamdemocrats.com/event/2025-04-9am-coles-district-monthly-meeting/
LOCATION:Virtual Event
CATEGORIES:District Meeting
ATTACH;FMTTYPE=image/jpeg:https://www.princewilliamdemocrats.com/wp-content/uploads/2021/02/democratic-monthly-meeting.jpg
END:VEVENT
BEGIN:VEVENT
DTSTART;TZID=UTC:20250104T190000
DTEND;TZID=UTC:20250104T200000
DTSTAMP:20260419T232930
CREATED:20250103T031258Z
LAST-MODIFIED:20250103T031258Z
UID:10002205-1736017200-1736020800@www.princewilliamdemocrats.com
SUMMARY:Henson For Virginia Richmond Send Off
DESCRIPTION:For More Information: Click Here \noin the Henson for Virginia team for our Richmond send-off! The event is free\, but we encourage you to donate for Del. Henson’s upcoming election. \n7:00pm-8pm \nAddress provided upon RSVP \nCampaign committees\, unions\, and all other organizations must pay by check. \nPlease either mail or bring the completed check to the event. \nMailing Address: \nHenson For Virginia \nPO Box 4026\, Woodbridge\, VA 22194
URL:https://www.princewilliamdemocrats.com/event/2024-01-04-7pm-henson-for-virginia-richmond-send-off/
CATEGORIES:Prince William County Democratic Event
ATTACH;FMTTYPE=image/png:https://www.princewilliamdemocrats.com/wp-content/uploads/2025/01/2025-01-04-rozia-henzon-richmond.png
END:VEVENT
END:VCALENDAR