BEGIN:VCALENDAR
VERSION:2.0
PRODID:-//Prince William County Democrats - ECPv6.15.20//NONSGML v1.0//EN
CALSCALE:GREGORIAN
METHOD:PUBLISH
X-ORIGINAL-URL:https://www.princewilliamdemocrats.com
X-WR-CALDESC:Events for Prince William County Democrats
REFRESH-INTERVAL;VALUE=DURATION:PT1H
X-Robots-Tag:noindex
X-PUBLISHED-TTL:PT1H
BEGIN:VTIMEZONE
TZID:UTC
BEGIN:STANDARD
TZOFFSETFROM:+0000
TZOFFSETTO:+0000
TZNAME:UTC
DTSTART:20230101T000000
END:STANDARD
END:VTIMEZONE
BEGIN:VEVENT
DTSTART;TZID=UTC:20241219T190000
DTEND;TZID=UTC:20241219T200000
DTSTAMP:20260419T232927
CREATED:20241217T152845Z
LAST-MODIFIED:20241217T152845Z
UID:10002175-1734634800-1734638400@www.princewilliamdemocrats.com
SUMMARY:PWC General Assembly Pre-Legislative Session Town Hall
DESCRIPTION:Please join the Prince William County State Delegation Pre-Session Town Hall
URL:https://www.princewilliamdemocrats.com/event/2024-12-pwc-general-assembly-pre-legislative-town-hall/
CATEGORIES:Prince William County Event
ATTACH;FMTTYPE=image/png:https://www.princewilliamdemocrats.com/wp-content/uploads/2024/12/pwc-state-delegation-pre-session-town-hall.png
END:VEVENT
END:VCALENDAR