BEGIN:VCALENDAR
VERSION:2.0
PRODID:-//Prince William County Democrats - ECPv6.15.20//NONSGML v1.0//EN
CALSCALE:GREGORIAN
METHOD:PUBLISH
X-ORIGINAL-URL:https://www.princewilliamdemocrats.com
X-WR-CALDESC:Events for Prince William County Democrats
REFRESH-INTERVAL;VALUE=DURATION:PT1H
X-Robots-Tag:noindex
X-PUBLISHED-TTL:PT1H
BEGIN:VTIMEZONE
TZID:UTC
BEGIN:STANDARD
TZOFFSETFROM:+0000
TZOFFSETTO:+0000
TZNAME:UTC
DTSTART:20230101T000000
END:STANDARD
END:VTIMEZONE
BEGIN:VEVENT
DTSTART;TZID=UTC:20241125T183000
DTEND;TZID=UTC:20241125T193000
DTSTAMP:20260419T220708
CREATED:20241118T205241Z
LAST-MODIFIED:20241118T205241Z
UID:10002154-1732559400-1732563000@www.princewilliamdemocrats.com
SUMMARY:Neabsco District Town Hall - Listening Session
DESCRIPTION:Chair Deshundra Jefferson is hosting a Neabsco District Town Hall on Monday\, November 25\, with Supervisor Victor Angry the Dale City Civic Association?\n\n\nWe want to hear from Neabsco residents about the issues impacting the district. I hope to see you at Beville Middle School and hear your concerns. Please RSVP here: https://pwcchair.org/neabscotownhall24
URL:https://www.princewilliamdemocrats.com/event/2024-11-25-630pm-neabsco-district-town-hall-listening-session/
LOCATION:Beville Middle School\, 4901 Dale Blvd\, Woodbridge\, VA\, 22193\, United States
CATEGORIES:Prince William County Event
ATTACH;FMTTYPE=image/png:https://www.princewilliamdemocrats.com/wp-content/uploads/2024/11/2024-chair-jefferson-supervisor-angry.png
END:VEVENT
BEGIN:VEVENT
DTSTART;TZID=UTC:20241125T190000
DTEND;TZID=UTC:20241125T203000
DTSTAMP:20260419T220708
CREATED:20240806T163430Z
LAST-MODIFIED:20240806T163430Z
UID:10001998-1732561200-1732566600@www.princewilliamdemocrats.com
SUMMARY:Black Democratic Committee Monthly Meeting
DESCRIPTION:
URL:https://www.princewilliamdemocrats.com/event/black-democratic-committee-monthly-meeting/2024-11-25/
LOCATION:Virtual Event
CATEGORIES:District Meeting
ATTACH;FMTTYPE=image/jpeg:https://www.princewilliamdemocrats.com/wp-content/uploads/2021/02/democratic-monthly-meeting.jpg
END:VEVENT
BEGIN:VEVENT
DTSTART;TZID=UTC:20241125T190000
DTEND;TZID=UTC:20241125T210000
DTSTAMP:20260419T220708
CREATED:20240706T135117Z
LAST-MODIFIED:20240706T135117Z
UID:10001915-1732561200-1732568400@www.princewilliamdemocrats.com
SUMMARY:PWCDC Outreach Committee
DESCRIPTION:
URL:https://www.princewilliamdemocrats.com/event/pwcdc-outreach-committee-2/2024-11-25/
CATEGORIES:District Meeting
ATTACH;FMTTYPE=image/jpeg:https://www.princewilliamdemocrats.com/wp-content/uploads/2021/02/democratic-monthly-meeting.jpg
END:VEVENT
END:VCALENDAR