BEGIN:VCALENDAR
VERSION:2.0
PRODID:-//Prince William County Democrats - ECPv6.15.20//NONSGML v1.0//EN
CALSCALE:GREGORIAN
METHOD:PUBLISH
X-WR-CALNAME:Prince William County Democrats
X-ORIGINAL-URL:https://www.princewilliamdemocrats.com
X-WR-CALDESC:Events for Prince William County Democrats
REFRESH-INTERVAL;VALUE=DURATION:PT1H
X-Robots-Tag:noindex
X-PUBLISHED-TTL:PT1H
BEGIN:VTIMEZONE
TZID:UTC
BEGIN:STANDARD
TZOFFSETFROM:+0000
TZOFFSETTO:+0000
TZNAME:UTC
DTSTART:20230101T000000
END:STANDARD
END:VTIMEZONE
BEGIN:VEVENT
DTSTART;TZID=UTC:20241105T190000
DTEND;TZID=UTC:20241105T233000
DTSTAMP:20260419T220714
CREATED:20241030T153203Z
LAST-MODIFIED:20241030T153250Z
UID:10002152-1730833200-1730849400@www.princewilliamdemocrats.com
SUMMARY:PWCDC Election Watch Party
DESCRIPTION:For More Details / RSVP: Click Here
URL:https://www.princewilliamdemocrats.com/event/2024-11-5-7pm-pwcdc-election-watch-party/
CATEGORIES:Prince William County Democratic Event
ATTACH;FMTTYPE=image/jpeg:https://www.princewilliamdemocrats.com/wp-content/uploads/2023/05/pwc-democrats-mobilize.jpg
END:VEVENT
END:VCALENDAR