BEGIN:VCALENDAR
VERSION:2.0
PRODID:-//Prince William County Democrats - ECPv6.15.20//NONSGML v1.0//EN
CALSCALE:GREGORIAN
METHOD:PUBLISH
X-WR-CALNAME:Prince William County Democrats
X-ORIGINAL-URL:https://www.princewilliamdemocrats.com
X-WR-CALDESC:Events for Prince William County Democrats
REFRESH-INTERVAL;VALUE=DURATION:PT1H
X-Robots-Tag:noindex
X-PUBLISHED-TTL:PT1H
BEGIN:VTIMEZONE
TZID:UTC
BEGIN:STANDARD
TZOFFSETFROM:+0000
TZOFFSETTO:+0000
TZNAME:UTC
DTSTART:20230101T000000
END:STANDARD
END:VTIMEZONE
BEGIN:VEVENT
DTSTART;TZID=UTC:20241030T173000
DTEND;TZID=UTC:20241030T183000
DTSTAMP:20260420T002843
CREATED:20241029T221423Z
LAST-MODIFIED:20241029T221423Z
UID:10002151-1730309400-1730313000@www.princewilliamdemocrats.com
SUMMARY:Cast your Vote then Grab a Drink with Senator Tim Kaine - Manassas/Bristow
DESCRIPTION:For More Details: Click Here \nFirst\, head to your polling location and cast your vote! \nThen\, join Tim Kaine for a drink\, a bite and chat! Bring a friend\, neighbor and your family members! \nPlease do RSVP for headcount. \nFind your polling location here: https://iwillvote.com/
URL:https://www.princewilliamdemocrats.com/event/cast-your-vote-then-grab-a-drink-with-senator-tim-kaine-manassas-bristow/
CATEGORIES:Prince William County Democratic Event
ATTACH;FMTTYPE=image/png:https://www.princewilliamdemocrats.com/wp-content/uploads/2024/10/2024-meet-and-greet-kaine.png
END:VEVENT
END:VCALENDAR