BEGIN:VCALENDAR
VERSION:2.0
PRODID:-//Prince William County Democrats - ECPv6.15.20//NONSGML v1.0//EN
CALSCALE:GREGORIAN
METHOD:PUBLISH
X-WR-CALNAME:Prince William County Democrats
X-ORIGINAL-URL:https://www.princewilliamdemocrats.com
X-WR-CALDESC:Events for Prince William County Democrats
REFRESH-INTERVAL;VALUE=DURATION:PT1H
X-Robots-Tag:noindex
X-PUBLISHED-TTL:PT1H
BEGIN:VTIMEZONE
TZID:UTC
BEGIN:STANDARD
TZOFFSETFROM:+0000
TZOFFSETTO:+0000
TZNAME:UTC
DTSTART:20230101T000000
END:STANDARD
END:VTIMEZONE
BEGIN:VEVENT
DTSTART;TZID=UTC:20241024T190000
DTEND;TZID=UTC:20241024T200000
DTSTAMP:20260419T191400
CREATED:20241118T210024Z
LAST-MODIFIED:20241118T210139Z
UID:10002157-1729796400-1729800000@www.princewilliamdemocrats.com
SUMMARY:CD7 Chairs / Vindman Campaign Weekly Call
DESCRIPTION:For Additional Details and Information \nBrendon’s at brendon@vindmanforcongress.com
URL:https://www.princewilliamdemocrats.com/event/2024-10-17-7pm-cd7-chairs-vindman-campaign-weekly-call-2/2024-10-24/
LOCATION:Virtual Event
CATEGORIES:Virginia 7th Congressional District Meeting
ATTACH;FMTTYPE=image/jpeg:https://www.princewilliamdemocrats.com/wp-content/uploads/2021/02/democratic-monthly-meeting.jpg
END:VEVENT
BEGIN:VEVENT
DTSTART;TZID=UTC:20241024T190000
DTEND;TZID=UTC:20241024T210000
DTSTAMP:20260419T191400
CREATED:20241001T153451Z
LAST-MODIFIED:20241001T153527Z
UID:10002073-1729796400-1729803600@www.princewilliamdemocrats.com
SUMMARY:PWC Democratic Monthly Meeting
DESCRIPTION:
URL:https://www.princewilliamdemocrats.com/event/2024-10-24-7pm-pwc-democratic-monthly-meeting/
LOCATION:Virtual Event
CATEGORIES:District Meeting
ATTACH;FMTTYPE=image/jpeg:https://www.princewilliamdemocrats.com/wp-content/uploads/2021/02/democratic-monthly-meeting.jpg
END:VEVENT
END:VCALENDAR