BEGIN:VCALENDAR
VERSION:2.0
PRODID:-//Prince William County Democrats - ECPv6.15.20//NONSGML v1.0//EN
CALSCALE:GREGORIAN
METHOD:PUBLISH
X-ORIGINAL-URL:https://www.princewilliamdemocrats.com
X-WR-CALDESC:Events for Prince William County Democrats
REFRESH-INTERVAL;VALUE=DURATION:PT1H
X-Robots-Tag:noindex
X-PUBLISHED-TTL:PT1H
BEGIN:VTIMEZONE
TZID:UTC
BEGIN:STANDARD
TZOFFSETFROM:+0000
TZOFFSETTO:+0000
TZNAME:UTC
DTSTART:20230101T000000
END:STANDARD
END:VTIMEZONE
BEGIN:VEVENT
DTSTART;TZID=UTC:20241023T180000
DTEND;TZID=UTC:20241023T193000
DTSTAMP:20260419T204900
CREATED:20241023T013206Z
LAST-MODIFIED:20241023T013206Z
UID:10002149-1729706400-1729711800@www.princewilliamdemocrats.com
SUMMARY:Meet & Greet with Senator Tim Kaine\, Delegate Josh Thomas\, Suhas Subramanyam - Gainesville
DESCRIPTION:To Register – Click Here \nJoin Senator Tim Kaine\, Del. Josh Thomas\, special guest Suhas Subramanyam\, Candidate for CD-10 House of Representatives\, and your friends and neighbors to hear directly on the importance of Early Voting and what’s at stake this 2024 election year. \nFollowing\, we’ll have on-site volunteer opportunities where you can sign up to door knock\, phone bank and more! \nThis event is being hosted by the Gainesville District Democrats. You do not need to be a member of the committee to attend. Please do RSVP for head count. \nLook forward to seeing you there! \nRSVP for exact location (Heritage Hunt Community\, Gainesville).
URL:https://www.princewilliamdemocrats.com/event/2024-10-23-6pm-meet-greet-with-senator-tim-kaine-delegate-josh-thomas-suhas-subramanyam-gainesville/
CATEGORIES:Prince William County Democratic Event
ATTACH;FMTTYPE=image/png:https://www.princewilliamdemocrats.com/wp-content/uploads/2024/10/2024-meet-and-greet-tim-kane-josh-thomas.png
END:VEVENT
END:VCALENDAR