BEGIN:VCALENDAR
VERSION:2.0
PRODID:-//Prince William County Democrats - ECPv6.15.20//NONSGML v1.0//EN
CALSCALE:GREGORIAN
METHOD:PUBLISH
X-ORIGINAL-URL:https://www.princewilliamdemocrats.com
X-WR-CALDESC:Events for Prince William County Democrats
REFRESH-INTERVAL;VALUE=DURATION:PT1H
X-Robots-Tag:noindex
X-PUBLISHED-TTL:PT1H
BEGIN:VTIMEZONE
TZID:UTC
BEGIN:STANDARD
TZOFFSETFROM:+0000
TZOFFSETTO:+0000
TZNAME:UTC
DTSTART:20230101T000000
END:STANDARD
END:VTIMEZONE
BEGIN:VEVENT
DTSTART;TZID=UTC:20241019T090000
DTEND;TZID=UTC:20241019T100000
DTSTAMP:20260419T202247
CREATED:20241008T173518Z
LAST-MODIFIED:20241008T173518Z
UID:10002132-1729328400-1729332000@www.princewilliamdemocrats.com
SUMMARY:Potomac District Monthly Meeting
DESCRIPTION:Please contact Potomac District Leadership for additional details.
URL:https://www.princewilliamdemocrats.com/event/2024-10-19-9am-potomac-district-monthly-meeting/
LOCATION:Virtual Event
CATEGORIES:District Meeting
END:VEVENT
BEGIN:VEVENT
DTSTART;TZID=UTC:20241019T090000
DTEND;TZID=UTC:20241019T160000
DTSTAMP:20260419T202247
CREATED:20241014T155807Z
LAST-MODIFIED:20241016T171113Z
UID:10002143-1729328400-1729353600@www.princewilliamdemocrats.com
SUMMARY:Haymarket Day
DESCRIPTION:Signup: Click Here
URL:https://www.princewilliamdemocrats.com/event/2024-10-19-haymarket-day-parade-walker/
CATEGORIES:Prince William County Democratic Event
ATTACH;FMTTYPE=image/png:https://www.princewilliamdemocrats.com/wp-content/uploads/2024/10/2024-pwcdc-haymarket-day.png
END:VEVENT
BEGIN:VEVENT
DTSTART;TZID=UTC:20241019T093000
DTEND;TZID=UTC:20241019T103000
DTSTAMP:20260419T202247
CREATED:20241008T173716Z
LAST-MODIFIED:20241008T173857Z
UID:10002133-1729330200-1729333800@www.princewilliamdemocrats.com
SUMMARY:Woodbridge District Monthly Meeting
DESCRIPTION:Please contact Woodbridge District Leadership for additional details.
URL:https://www.princewilliamdemocrats.com/event/2024-10-19-930am-woodbridge-district-monthly-meeting/
LOCATION:Virtual Event
CATEGORIES:District Meeting
ATTACH;FMTTYPE=image/jpeg:https://www.princewilliamdemocrats.com/wp-content/uploads/2021/02/democratic-monthly-meeting.jpg
END:VEVENT
END:VCALENDAR