BEGIN:VCALENDAR
VERSION:2.0
PRODID:-//Prince William County Democrats - ECPv6.15.20//NONSGML v1.0//EN
CALSCALE:GREGORIAN
METHOD:PUBLISH
X-ORIGINAL-URL:https://www.princewilliamdemocrats.com
X-WR-CALDESC:Events for Prince William County Democrats
REFRESH-INTERVAL;VALUE=DURATION:PT1H
X-Robots-Tag:noindex
X-PUBLISHED-TTL:PT1H
BEGIN:VTIMEZONE
TZID:UTC
BEGIN:STANDARD
TZOFFSETFROM:+0000
TZOFFSETTO:+0000
TZNAME:UTC
DTSTART:20230101T000000
END:STANDARD
END:VTIMEZONE
BEGIN:VEVENT
DTSTART;TZID=UTC:20241011T170000
DTEND;TZID=UTC:20241011T200000
DTSTAMP:20260419T191436
CREATED:20241008T213446Z
LAST-MODIFIED:20241008T213446Z
UID:10002139-1728666000-1728676800@www.princewilliamdemocrats.com
SUMMARY:Potomac Dems Pizza and Postcards Party
DESCRIPTION:For Details/Signup: Click Here \nJoin your fellow Dems\, along with our special guest\, Chair of the BOCS\, Deshundra Jefferson\, for fun and postcard writing. We write\, we eat\, we write some more. Join us!
URL:https://www.princewilliamdemocrats.com/event/2024-10-11-5pm-potomac-dems-pizza-and-postcards-party/
CATEGORIES:Prince William County Democratic Event
ATTACH;FMTTYPE=image/png:https://www.princewilliamdemocrats.com/wp-content/uploads/2024/10/2024-potomac-dems-pizza-postcards-party.png
END:VEVENT
END:VCALENDAR