BEGIN:VCALENDAR
VERSION:2.0
PRODID:-//Prince William County Democrats - ECPv6.15.20//NONSGML v1.0//EN
CALSCALE:GREGORIAN
METHOD:PUBLISH
X-WR-CALNAME:Prince William County Democrats
X-ORIGINAL-URL:https://www.princewilliamdemocrats.com
X-WR-CALDESC:Events for Prince William County Democrats
REFRESH-INTERVAL;VALUE=DURATION:PT1H
X-Robots-Tag:noindex
X-PUBLISHED-TTL:PT1H
BEGIN:VTIMEZONE
TZID:UTC
BEGIN:STANDARD
TZOFFSETFROM:+0000
TZOFFSETTO:+0000
TZNAME:UTC
DTSTART:20230101T000000
END:STANDARD
END:VTIMEZONE
BEGIN:VEVENT
DTSTART;TZID=UTC:20241010T190000
DTEND;TZID=UTC:20241010T200000
DTSTAMP:20260420T002843
CREATED:20241118T210024Z
LAST-MODIFIED:20241118T210139Z
UID:10002080-1728586800-1728590400@www.princewilliamdemocrats.com
SUMMARY:CD7 Chairs / Vindman Campaign Weekly Call
DESCRIPTION:For Additional Details and Information \nBrendon’s at brendon@vindmanforcongress.com
URL:https://www.princewilliamdemocrats.com/event/2024-10-17-7pm-cd7-chairs-vindman-campaign-weekly-call-2/2024-10-10/
LOCATION:Virtual Event
CATEGORIES:Virginia 7th Congressional District Meeting
ATTACH;FMTTYPE=image/jpeg:https://www.princewilliamdemocrats.com/wp-content/uploads/2021/02/democratic-monthly-meeting.jpg
END:VEVENT
END:VCALENDAR