BEGIN:VCALENDAR
VERSION:2.0
PRODID:-//Prince William County Democrats - ECPv6.15.20//NONSGML v1.0//EN
CALSCALE:GREGORIAN
METHOD:PUBLISH
X-WR-CALNAME:Prince William County Democrats
X-ORIGINAL-URL:https://www.princewilliamdemocrats.com
X-WR-CALDESC:Events for Prince William County Democrats
REFRESH-INTERVAL;VALUE=DURATION:PT1H
X-Robots-Tag:noindex
X-PUBLISHED-TTL:PT1H
BEGIN:VTIMEZONE
TZID:UTC
BEGIN:STANDARD
TZOFFSETFROM:+0000
TZOFFSETTO:+0000
TZNAME:UTC
DTSTART:20230101T000000
END:STANDARD
END:VTIMEZONE
BEGIN:VEVENT
DTSTART;TZID=UTC:20241005T090000
DTEND;TZID=UTC:20241005T100000
DTSTAMP:20260419T174114
CREATED:20241008T173233Z
LAST-MODIFIED:20241008T173233Z
UID:10002131-1728118800-1728122400@www.princewilliamdemocrats.com
SUMMARY:Coles District Monthly Meeting
DESCRIPTION:Please contact Coles District Leadership for additional details.
URL:https://www.princewilliamdemocrats.com/event/2024-10-5-9am-coles-district-monthly-meeting/
LOCATION:Virtual Event
CATEGORIES:District Meeting
ATTACH;FMTTYPE=image/jpeg:https://www.princewilliamdemocrats.com/wp-content/uploads/2021/02/democratic-monthly-meeting.jpg
END:VEVENT
BEGIN:VEVENT
DTSTART;TZID=UTC:20241005T093000
DTEND;TZID=UTC:20241005T123000
DTSTAMP:20260419T174114
CREATED:20240923T181820Z
LAST-MODIFIED:20240923T181904Z
UID:10002062-1728120600-1728131400@www.princewilliamdemocrats.com
SUMMARY:Kamala Loves Public Schools
DESCRIPTION:For More Details: Click Here \n\n\n\n\n\nJoin Richard & Lillie Jessie as they celebrate Public Schools’ office staff\, custodians\, cafeteria workers\, school security\, bus drivers\, nurses\, aides\, etc.\, without whom schools would not remain open. \nBecause this is a political event\, we cannot send school invitations. Do not email invitations to PWCS.edu accounts or contact PWCS employees during school hours or on school grounds. The Jessies and the Harris- Walz Coordinated Campaign team are counting on attendance by our friends\, and they are asking you to contact a school employee who supports the Harris- Walz Coordinated Campaign ticket and make sure they or you register them and bring them with you. \nThe Harris-Walz ticket plans a new way forward for a bright future for all school employees\, including office staff\, custodians\, cafeteria workers\, school security\, nurses\, and aides\, not just teachers and administrators. This event is for all of us\, and supporting all school employees is integral to this vision. \nThe Jessies and our supporters are looking forward to showing their appreciation to our school staff and expect other candidates and elected officials to share their gratitude to all. Please join us for our Pancake Brunch\, conversation\, and guidance on various ways to “Do Something.” \nThe Jessies request the presence of only those of high school age and above at this event. We appreciate your understanding and look forward to your participation.
URL:https://www.princewilliamdemocrats.com/event/2024-10-05-930am-kamala-loves-public-schools/
CATEGORIES:Prince William Young Democrats Event
ATTACH;FMTTYPE=image/png:https://www.princewilliamdemocrats.com/wp-content/uploads/2024/09/2024-kamala-harris-public-schools.png
END:VEVENT
BEGIN:VEVENT
DTSTART;TZID=UTC:20241005T140000
DTEND;TZID=UTC:20241005T180000
DTSTAMP:20260419T174114
CREATED:20240822T192453Z
LAST-MODIFIED:20241001T150741Z
UID:10002022-1728136800-1728151200@www.princewilliamdemocrats.com
SUMMARY:Victor Angry's Annual Crab Feast
DESCRIPTION:Friend\, \nThis past week\, I was reminiscing about the previous Crab Feast I hosted and the amazing time friends and community members from across Prince William County had bonding over delicious food. My team and I have been hard at work organizing this year’s Crab Feast to ensure it is the best one yet! You do not want to miss this event and the surprise guests who will be in attendance. \nMy Crab Feast will be on Saturday\, October 5th\, at VFW Post 1503 in Dale City. A silent auction will also be taking place. \nPurchase your ticket today! \nhttps://secure.actblue.com/donate/crabfeast24 \nIf you prefer writing a check\, please make checks payable to: \nFriends of Victor Angry \nP.O. Box 1473 \n3360 Post Office Road \nWoodbridge\, VA 22195 \nThank you for helping power the critical work ahead\, and I hope to see you there! \n-Victor
URL:https://www.princewilliamdemocrats.com/event/2024-10-05-2pm-victor-angry-annual-crab-feast/
CATEGORIES:Prince William County Democratic Event
ATTACH;FMTTYPE=image/jpeg:https://www.princewilliamdemocrats.com/wp-content/uploads/2024/10/2024-victor-angry-annual-crab-feast-updated.jpg
END:VEVENT
END:VCALENDAR