BEGIN:VCALENDAR
VERSION:2.0
PRODID:-//Prince William County Democrats - ECPv6.15.20//NONSGML v1.0//EN
CALSCALE:GREGORIAN
METHOD:PUBLISH
X-WR-CALNAME:Prince William County Democrats
X-ORIGINAL-URL:https://www.princewilliamdemocrats.com
X-WR-CALDESC:Events for Prince William County Democrats
REFRESH-INTERVAL;VALUE=DURATION:PT1H
X-Robots-Tag:noindex
X-PUBLISHED-TTL:PT1H
BEGIN:VTIMEZONE
TZID:UTC
BEGIN:STANDARD
TZOFFSETFROM:+0000
TZOFFSETTO:+0000
TZNAME:UTC
DTSTART:20230101T000000
END:STANDARD
END:VTIMEZONE
BEGIN:VEVENT
DTSTART;TZID=UTC:20240831T100000
DTEND;TZID=UTC:20240831T150000
DTSTAMP:20260419T164337
CREATED:20240831T160505Z
LAST-MODIFIED:20240831T160505Z
UID:10002037-1725098400-1725116400@www.princewilliamdemocrats.com
SUMMARY:PWC Canvass with Team Vindman!
DESCRIPTION:PWC Canvass with Team Vindman! \nFor More Details: Click Here
URL:https://www.princewilliamdemocrats.com/event/2024-08-31-10am-pwc-canvass-with-team-vindman/
CATEGORIES:Prince William County Democratic Event
ATTACH;FMTTYPE=image/png:https://www.princewilliamdemocrats.com/wp-content/uploads/2024/08/2024-door-knocking-with-team-vindman.png
END:VEVENT
BEGIN:VEVENT
DTSTART;TZID=UTC:20240831T100000
DTEND;TZID=UTC:20240831T180000
DTSTAMP:20260419T164337
CREATED:20240831T161358Z
LAST-MODIFIED:20240831T161358Z
UID:10002038-1725098400-1725127200@www.princewilliamdemocrats.com
SUMMARY:Brentsville Blue Wave Canvass Launch
DESCRIPTION:Come join your neighbors in supporting the Harris/Walz\, Tim Kaine\, and Suhas Subramanyam campaigns by door knocking throughout Brentsville! \nRegister to see initial launch location! \nA satellite launch location will be at the Haymarket Playground starting at 1pm! \nFor More Details: Click Here
URL:https://www.princewilliamdemocrats.com/event/2024-08-31-10am-brentsville-blue-wave-canvass-launch/
CATEGORIES:Prince William County Democratic Event
ATTACH;FMTTYPE=image/png:https://www.princewilliamdemocrats.com/wp-content/uploads/2024/08/2024-brentsville-harris-canvass-launch.png
END:VEVENT
END:VCALENDAR