BEGIN:VCALENDAR
VERSION:2.0
PRODID:-//Prince William County Democrats - ECPv6.15.20//NONSGML v1.0//EN
CALSCALE:GREGORIAN
METHOD:PUBLISH
X-WR-CALNAME:Prince William County Democrats
X-ORIGINAL-URL:https://www.princewilliamdemocrats.com
X-WR-CALDESC:Events for Prince William County Democrats
REFRESH-INTERVAL;VALUE=DURATION:PT1H
X-Robots-Tag:noindex
X-PUBLISHED-TTL:PT1H
BEGIN:VTIMEZONE
TZID:UTC
BEGIN:STANDARD
TZOFFSETFROM:+0000
TZOFFSETTO:+0000
TZNAME:UTC
DTSTART:20230101T000000
END:STANDARD
END:VTIMEZONE
BEGIN:VEVENT
DTSTART;TZID=UTC:20240825T100000
DTEND;TZID=UTC:20240825T190000
DTSTAMP:20260419T164338
CREATED:20240824T213403Z
LAST-MODIFIED:20240824T213628Z
UID:10002027-1724580000-1724612400@www.princewilliamdemocrats.com
SUMMARY:Canvass with Senator Tim Kaine out of Dumfries
DESCRIPTION:Join Senator Tim Kaine and the Virginia Democratic Coordinated Campaign as they canvass out of the Coordinated Campaign’s Dumfries office! This is the THE best way to ensure Vice President Kamala Harris and all of our Democratic candidates win in November. Please note\, Senator Tim Kaine will only be joining us for our 10am launch. \nFor More Details: Click Here
URL:https://www.princewilliamdemocrats.com/event/2024-08-25-10am-canvass-with-senator-tim-kaine-out-of-dumfries/
CATEGORIES:Prince William County Democratic Event
ATTACH;FMTTYPE=image/png:https://www.princewilliamdemocrats.com/wp-content/uploads/2024/08/2024-canvass-with-time-kaine.png
END:VEVENT
END:VCALENDAR