BEGIN:VCALENDAR
VERSION:2.0
PRODID:-//Prince William County Democrats - ECPv6.15.20//NONSGML v1.0//EN
CALSCALE:GREGORIAN
METHOD:PUBLISH
X-ORIGINAL-URL:https://www.princewilliamdemocrats.com
X-WR-CALDESC:Events for Prince William County Democrats
REFRESH-INTERVAL;VALUE=DURATION:PT1H
X-Robots-Tag:noindex
X-PUBLISHED-TTL:PT1H
BEGIN:VTIMEZONE
TZID:UTC
BEGIN:STANDARD
TZOFFSETFROM:+0000
TZOFFSETTO:+0000
TZNAME:UTC
DTSTART:20230101T000000
END:STANDARD
END:VTIMEZONE
BEGIN:VEVENT
DTSTART;TZID=UTC:20240817T090000
DTEND;TZID=UTC:20240817T110000
DTSTAMP:20260419T163521
CREATED:20240806T173207Z
LAST-MODIFIED:20240806T173207Z
UID:10002015-1723885200-1723892400@www.princewilliamdemocrats.com
SUMMARY:Potomac District Monthly Meeting
DESCRIPTION:Please contact Potomac District Leadership for additional details.
URL:https://www.princewilliamdemocrats.com/event/potomac-district-monthly-meeting-3/
LOCATION:Virtual Event
CATEGORIES:District Meeting
ATTACH;FMTTYPE=image/jpeg:https://www.princewilliamdemocrats.com/wp-content/uploads/2021/02/democratic-monthly-meeting.jpg
END:VEVENT
BEGIN:VEVENT
DTSTART;TZID=UTC:20240817T093000
DTEND;TZID=UTC:20240817T113000
DTSTAMP:20260419T163521
CREATED:20240806T173959Z
LAST-MODIFIED:20240806T173959Z
UID:10002016-1723887000-1723894200@www.princewilliamdemocrats.com
SUMMARY:Woodbridge District Monthly Meeting
DESCRIPTION:Please contact Woodbridge District Leadership for additional details.
URL:https://www.princewilliamdemocrats.com/event/2024-08-17-930am-woodbridge-district-monthly-meeting/
LOCATION:Virtual Event
CATEGORIES:District Meeting
ATTACH;FMTTYPE=image/jpeg:https://www.princewilliamdemocrats.com/wp-content/uploads/2021/02/democratic-monthly-meeting.jpg
END:VEVENT
BEGIN:VEVENT
DTSTART;TZID=UTC:20240817T163000
DTEND;TZID=UTC:20240817T180000
DTSTAMP:20260419T163521
CREATED:20240804T151006Z
LAST-MODIFIED:20240804T151053Z
UID:10001994-1723912200-1723917600@www.princewilliamdemocrats.com
SUMMARY:Summer Breeze Fundraiser
DESCRIPTION:For More Details: Click Here \nHenson For Virginia: Summer Breeze\nJoin the Henson For Virginia Team for our summer fundraiser! Come out and enjoy foods and drinks in House District 19!August 17th4:30pm-6pm**Address provide after RSVP**Campaign committees\, unions\, and all other organizations must pay by check. Please either mail the completed form and check to PO Box 4026\, Woodbridge\, VA 22191\, or bring it with you at the time of the event. For people paying via check\, please RSVP at info@Henson4va.com
URL:https://www.princewilliamdemocrats.com/event/2024-080-17-430pm-summer-breeze-fundraiser/
CATEGORIES:Prince William County Democratic Event
ATTACH;FMTTYPE=image/jpeg:https://www.princewilliamdemocrats.com/wp-content/uploads/2024/08/2024-rozia-summer-breeze.jpg
END:VEVENT
END:VCALENDAR