BEGIN:VCALENDAR
VERSION:2.0
PRODID:-//Prince William County Democrats - ECPv6.15.20//NONSGML v1.0//EN
CALSCALE:GREGORIAN
METHOD:PUBLISH
X-ORIGINAL-URL:https://www.princewilliamdemocrats.com
X-WR-CALDESC:Events for Prince William County Democrats
REFRESH-INTERVAL;VALUE=DURATION:PT1H
X-Robots-Tag:noindex
X-PUBLISHED-TTL:PT1H
BEGIN:VTIMEZONE
TZID:UTC
BEGIN:STANDARD
TZOFFSETFROM:+0000
TZOFFSETTO:+0000
TZNAME:UTC
DTSTART:20230101T000000
END:STANDARD
END:VTIMEZONE
BEGIN:VEVENT
DTSTART;TZID=UTC:20240812T183000
DTEND;TZID=UTC:20240812T200000
DTSTAMP:20260419T163601
CREATED:20240726T003124Z
LAST-MODIFIED:20240726T003124Z
UID:10001989-1723487400-1723492800@www.princewilliamdemocrats.com
SUMMARY:Team Vindman Phone Banking
DESCRIPTION:For More Details: Click Here \nJoin Team Vindman for an evening of phonebanking in support of our community! (In person) \nHosted by the 7th Congressional Neabsco\, Occoquan\, Woodbridge\, Coles\, and Potomac Democratic Committee Magisterial Districts. \nIf you have any questions please reach out to volunteer@vindmanforcongress.com
URL:https://www.princewilliamdemocrats.com/event/2024-08-12-630pm-team-vindman-phone-banking/
CATEGORIES:Prince William County Democratic Event
ATTACH;FMTTYPE=image/png:https://www.princewilliamdemocrats.com/wp-content/uploads/2024/07/2024-phone-banking-team-vindman.png
END:VEVENT
BEGIN:VEVENT
DTSTART;TZID=UTC:20240812T190000
DTEND;TZID=UTC:20240812T210000
DTSTAMP:20260419T163601
CREATED:20240806T172931Z
LAST-MODIFIED:20240806T172959Z
UID:10002014-1723489200-1723496400@www.princewilliamdemocrats.com
SUMMARY:Gainesville District Monthly Meeting
DESCRIPTION:Please contact Gainesville District Leadership for additional details.
URL:https://www.princewilliamdemocrats.com/event/2024-08-12-7pm-gainesville-district-monthly-meeting/
LOCATION:Virtual Event
CATEGORIES:District Meeting
ATTACH;FMTTYPE=image/jpeg:https://www.princewilliamdemocrats.com/wp-content/uploads/2021/02/democratic-monthly-meeting.jpg
END:VEVENT
BEGIN:VEVENT
DTSTART;TZID=UTC:20240812T193000
DTEND;TZID=UTC:20240812T213000
DTSTAMP:20260419T163601
CREATED:20240806T174359Z
LAST-MODIFIED:20240806T174359Z
UID:10002017-1723491000-1723498200@www.princewilliamdemocrats.com
SUMMARY:Occoquan District Monthly Meeting
DESCRIPTION:Please contact Occoquan District Leadership for additional details.
URL:https://www.princewilliamdemocrats.com/event/2024-08-12-730pm-occoquan-district-monthly-meeting/
LOCATION:Virtual Event
CATEGORIES:District Meeting
ATTACH;FMTTYPE=image/jpeg:https://www.princewilliamdemocrats.com/wp-content/uploads/2021/02/democratic-monthly-meeting.jpg
END:VEVENT
END:VCALENDAR