BEGIN:VCALENDAR
VERSION:2.0
PRODID:-//Prince William County Democrats - ECPv6.15.20//NONSGML v1.0//EN
CALSCALE:GREGORIAN
METHOD:PUBLISH
X-WR-CALNAME:Prince William County Democrats
X-ORIGINAL-URL:https://www.princewilliamdemocrats.com
X-WR-CALDESC:Events for Prince William County Democrats
REFRESH-INTERVAL;VALUE=DURATION:PT1H
X-Robots-Tag:noindex
X-PUBLISHED-TTL:PT1H
BEGIN:VTIMEZONE
TZID:UTC
BEGIN:STANDARD
TZOFFSETFROM:+0000
TZOFFSETTO:+0000
TZNAME:UTC
DTSTART:20230101T000000
END:STANDARD
END:VTIMEZONE
BEGIN:VEVENT
DTSTART;TZID=UTC:20240807T170000
DTEND;TZID=UTC:20240807T190000
DTSTAMP:20260419T163513
CREATED:20240804T145920Z
LAST-MODIFIED:20240804T145920Z
UID:10001992-1723050000-1723057200@www.princewilliamdemocrats.com
SUMMARY:Bruster's Ice Cream Fundraiser
DESCRIPTION:
URL:https://www.princewilliamdemocrats.com/event/brusters-ice-cream-fundraiser/
CATEGORIES:Prince William County Democratic Event
ATTACH;FMTTYPE=image/png:https://www.princewilliamdemocrats.com/wp-content/uploads/2024/08/2024-brentsville-brusters-fundraiser.png
END:VEVENT
BEGIN:VEVENT
DTSTART;TZID=UTC:20240807T193000
DTEND;TZID=UTC:20240807T203000
DTSTAMP:20260419T163513
CREATED:20240710T203500Z
LAST-MODIFIED:20240710T203500Z
UID:10001963-1723059000-1723062600@www.princewilliamdemocrats.com
SUMMARY:PWC Young Dems Meeting
DESCRIPTION:
URL:https://www.princewilliamdemocrats.com/event/pwc-young-dems-meeting/2024-08-07/
LOCATION:Virtual Event
CATEGORIES:District Meeting
ATTACH;FMTTYPE=image/png:https://www.princewilliamdemocrats.com/wp-content/uploads/2021/01/cropped-prince-william-county-young-dems-1.png
END:VEVENT
END:VCALENDAR