BEGIN:VCALENDAR
VERSION:2.0
PRODID:-//Prince William County Democrats - ECPv6.15.20//NONSGML v1.0//EN
CALSCALE:GREGORIAN
METHOD:PUBLISH
X-ORIGINAL-URL:https://www.princewilliamdemocrats.com
X-WR-CALDESC:Events for Prince William County Democrats
REFRESH-INTERVAL;VALUE=DURATION:PT1H
X-Robots-Tag:noindex
X-PUBLISHED-TTL:PT1H
BEGIN:VTIMEZONE
TZID:UTC
BEGIN:STANDARD
TZOFFSETFROM:+0000
TZOFFSETTO:+0000
TZNAME:UTC
DTSTART:20230101T000000
END:STANDARD
END:VTIMEZONE
BEGIN:VEVENT
DTSTART;TZID=UTC:20240803T090000
DTEND;TZID=UTC:20240803T110000
DTSTAMP:20260419T163600
CREATED:20240806T170935Z
LAST-MODIFIED:20240806T171021Z
UID:10002013-1722675600-1722682800@www.princewilliamdemocrats.com
SUMMARY:Coles District Monthly Meeting
DESCRIPTION:Please contact Coles District Leadership for additional details.
URL:https://www.princewilliamdemocrats.com/event/2024-08-03-coles-district-monthly-meeting/
LOCATION:Virtual Event
CATEGORIES:District Meeting
ATTACH;FMTTYPE=image/jpeg:https://www.princewilliamdemocrats.com/wp-content/uploads/2021/02/democratic-monthly-meeting.jpg
END:VEVENT
BEGIN:VEVENT
DTSTART;TZID=UTC:20240803T110000
DTEND;TZID=UTC:20240803T180000
DTSTAMP:20260419T163600
CREATED:20240723T231551Z
LAST-MODIFIED:20240723T231551Z
UID:10001987-1722682800-1722708000@www.princewilliamdemocrats.com
SUMMARY:Manassas African American Heritage Festival
DESCRIPTION:AUGUST 3\, 2024 – 11 A.M. – 6 P.M.\nThe African American Foundation of Prince William County is proud to present a family friendly celebration of African American arts and culture at Metz Middle School. \nFor the past 33 years\, the first Saturday in August has marked the African American Culture Arts Festival in Prince William County. \nOver the years the festival has grown to include more than 125 exhibitors\, including arts and crafts dealers\, retailers of African Wares\, youth groups\, colleges and school exhibits\, Health Fair\, Business and Job Expos\, Classic Car Show and great food vendors. \nADMISSION TO THE FESTIVAL IS FREE.\nVENDOR APPLICATION WORD\nVENDOR APPLICATION PDF\n\nFor More Details: Click Here
URL:https://www.princewilliamdemocrats.com/event/2024-08-03-11m-manassas-african-american-heritage-festival/
CATEGORIES:Prince William County Democratic Event
ATTACH;FMTTYPE=image/png:https://www.princewilliamdemocrats.com/wp-content/uploads/2024/07/2024-manassas-african-american-heritage-festival.png
END:VEVENT
BEGIN:VEVENT
DTSTART;TZID=UTC:20240803T150000
DTEND;TZID=UTC:20240803T180000
DTSTAMP:20260419T163600
CREATED:20240731T155907Z
LAST-MODIFIED:20240731T155907Z
UID:10001991-1722697200-1722708000@www.princewilliamdemocrats.com
SUMMARY:PWCDC 2024 Unity Party Event
DESCRIPTION:Reminder: PWCDC UNITY DAY PARTY \nDear Prince William County Democratic Committee Members\, \nThis is a reminder that the registration deadline is today for the PWCDC UINITY DAY PARTY. \nWe are excited about the upcoming  Unity Party to celebrate the incredible collaboration and unity within our party and within Prince William County. \nWe encourage you  to take the time to register and join us for this precedent setting event!!!! \nWe rarely have an opportunity to all come together to celebrate the hard work and dedication each of you has shown toward advancing Democratic causes and supporting our candidates. \nRegister today!!! \nEvent Details: \nDate:  Saturday August 3\, 2024 \nTime:  3:00 PM – 6:00 PM \nLocation: (Address will be provided upon registration) \nThis party is our way of celebrating and recognizing the invaluable contributions you make to our community. \nYour efforts have been instrumental in our successes\, and we want to take this opportunity to come together\, enjoy each other’s company\, and reflect on the achievements we have made. \nTo ensure we have an accurate headcount for the caterer and to validate and confirm your contact information\, please fill out the Google Form below: \nhttps://bit.ly/3WlEMyY \nYour prompt response is requested by August 01 2024. \nWe look forward to seeing you there and celebrating the unity and strength of our Committee and our membership. \nToday is the last day to register please submit your information as soon as possible. If you have questions\, please call me. \nSee you on Saturday! \nThank you for all that you do! \n  \nBest regards\, \nSamuel Chisolm Jr \nChairman\,  Prince William County Democratic Committee PWCDC
URL:https://www.princewilliamdemocrats.com/event/2024-08-03-3pm-pwcdc-2024-unity-party-event/
CATEGORIES:Prince William County Democratic Event
ATTACH;FMTTYPE=image/jpeg:https://www.princewilliamdemocrats.com/wp-content/uploads/2024/07/2024-pwcdc-unity-party.jpg
END:VEVENT
END:VCALENDAR