BEGIN:VCALENDAR
VERSION:2.0
PRODID:-//Prince William County Democrats - ECPv6.15.20//NONSGML v1.0//EN
CALSCALE:GREGORIAN
METHOD:PUBLISH
X-WR-CALNAME:Prince William County Democrats
X-ORIGINAL-URL:https://www.princewilliamdemocrats.com
X-WR-CALDESC:Events for Prince William County Democrats
REFRESH-INTERVAL;VALUE=DURATION:PT1H
X-Robots-Tag:noindex
X-PUBLISHED-TTL:PT1H
BEGIN:VTIMEZONE
TZID:UTC
BEGIN:STANDARD
TZOFFSETFROM:+0000
TZOFFSETTO:+0000
TZNAME:UTC
DTSTART:20230101T000000
END:STANDARD
END:VTIMEZONE
BEGIN:VEVENT
DTSTART;TZID=UTC:20240727T110000
DTEND;TZID=UTC:20240727T123000
DTSTAMP:20260419T181005
CREATED:20240722T233626Z
LAST-MODIFIED:20240722T233626Z
UID:10001984-1722078000-1722083400@www.princewilliamdemocrats.com
SUMMARY:Prince William Women for Harris - Brunch & Canvass Launch
DESCRIPTION:For More Information: Click Here \nTeam\, \nI know a lot has changed over the past 24 hours – but I can tell you one thing that absolutely has not: The work that needs to be done! \nPlease join our Harris for Virginia Team\, Local Leaders\, and Women’s Rights Activists for a Brunch & Canvass Launch as we mark 100 days until Election day and we move even closer to the start of early voting. \nThis weekend will mark 100 days until Election day and less than 60 days until Virginia starts voting. We need your help! \n\nPlease sign up below for the event closest to you: \n(NEW) July 27th:\nLoudoun\, VA \nVienna\, VA \n(Existing) July 27th:\nPrince William County\, VA \nFairfax County\, VA \nRoanoke\, VA\nRichmond\, VA \n\nJuly 26th: \nNorfolk\, VA \nJuly 28th:\nHampton\, VA
URL:https://www.princewilliamdemocrats.com/event/2024-07-27-11am-prince-william-women-for-harris-brunch-canvass-launch/
CATEGORIES:Prince William County Democratic Event
ATTACH;FMTTYPE=image/jpeg:https://www.princewilliamdemocrats.com/wp-content/uploads/2024/07/2024-kamala-harris-for-president.jpeg
END:VEVENT
BEGIN:VEVENT
DTSTART;TZID=UTC:20240727T140000
DTEND;TZID=UTC:20240727T160000
DTSTAMP:20260419T181005
CREATED:20240706T234106Z
LAST-MODIFIED:20240706T234125Z
UID:10001962-1722088800-1722096000@www.princewilliamdemocrats.com
SUMMARY:Reception in Support of Senator Suhas Subramanyam Candidate for Congress
DESCRIPTION:Gainesville constituents\, the Kliens\, are hosting a fundraiser for Senator Subramanyam\, in support of his Congressional race\, and shared the following event:\n\n\nWhen: July 27\, 2024 from 2:00 – 4:00 PM\n\n\nRSVP & Contribute here: https://secure.actblue.com/donate/jointhekleins\n\n\nQuestions: Please contact Matt Fisher at matt@suhasforvirginia.com
URL:https://www.princewilliamdemocrats.com/event/2024-07-27-2pm-reception-in-support-of-senator-suhas-subramanyam-candidate-for-congress/
CATEGORIES:Prince William County Democratic Event
ATTACH;FMTTYPE=image/jpeg:https://www.princewilliamdemocrats.com/wp-content/uploads/2024/07/2024-suhas-subramanyam-democrat-for-congress.jpg
END:VEVENT
BEGIN:VEVENT
DTSTART;TZID=UTC:20240727T140000
DTEND;TZID=UTC:20240727T160000
DTSTAMP:20260419T181005
CREATED:20240723T230410Z
LAST-MODIFIED:20240723T230410Z
UID:10001986-1722088800-1722096000@www.princewilliamdemocrats.com
SUMMARY:Reception in Support of Suhas Subramanyam Candidate for Congress
DESCRIPTION:
URL:https://www.princewilliamdemocrats.com/event/reception-in-support-of-suhas-subramanyam-candidate-for-congress/
CATEGORIES:Prince William County Democratic Event
ATTACH;FMTTYPE=image/png:https://www.princewilliamdemocrats.com/wp-content/uploads/2024/07/2024-suhas-democrats-for-congress.png
END:VEVENT
END:VCALENDAR