BEGIN:VCALENDAR
VERSION:2.0
PRODID:-//Prince William County Democrats - ECPv6.15.20//NONSGML v1.0//EN
CALSCALE:GREGORIAN
METHOD:PUBLISH
X-WR-CALNAME:Prince William County Democrats
X-ORIGINAL-URL:https://www.princewilliamdemocrats.com
X-WR-CALDESC:Events for Prince William County Democrats
REFRESH-INTERVAL;VALUE=DURATION:PT1H
X-Robots-Tag:noindex
X-PUBLISHED-TTL:PT1H
BEGIN:VTIMEZONE
TZID:UTC
BEGIN:STANDARD
TZOFFSETFROM:+0000
TZOFFSETTO:+0000
TZNAME:UTC
DTSTART:20230101T000000
END:STANDARD
END:VTIMEZONE
BEGIN:VEVENT
DTSTART;TZID=UTC:20240718T183000
DTEND;TZID=UTC:20240718T193000
DTSTAMP:20260419T181006
CREATED:20240716T203745Z
LAST-MODIFIED:20240716T203745Z
UID:10001981-1721327400-1721331000@www.princewilliamdemocrats.com
SUMMARY:Neabsco District Transportation Town Hall
DESCRIPTION:Join Supervisor Victor Angry\, PWC Police Department\, PWC Transportation Department\, and the Virginia Department of Transportation for a discussion on Transportation and Roadway Safety in Prince William County.\n\n\n\nZoom Link:\n\nhttps://us06web.zoom.us/j/81599738385\n\n\n\nFacebook Event Page:\n\nhttps://www.facebook.com/share/TpZ9reFsGGppubM5/
URL:https://www.princewilliamdemocrats.com/event/2024-07-18-630pm-neabsco-district-transportation-town-hall/
LOCATION:Virtual Event
CATEGORIES:Prince William County Event
ATTACH;FMTTYPE=image/jpeg:https://www.princewilliamdemocrats.com/wp-content/uploads/2024/07/supervisor-angry-building-community-together.jpg
END:VEVENT
END:VCALENDAR